BEGIN:VCALENDAR
VERSION:2.0
PRODID:-//Bellingen Youth Orchestra - ECPv5.16.0//NONSGML v1.0//EN
CALSCALE:GREGORIAN
METHOD:PUBLISH
X-WR-CALNAME:Bellingen Youth Orchestra
X-ORIGINAL-URL:https://bellingenyouthorchestra.com.au
X-WR-CALDESC:Events for Bellingen Youth Orchestra
REFRESH-INTERVAL;VALUE=DURATION:PT1H
X-Robots-Tag:noindex
X-PUBLISHED-TTL:PT1H
BEGIN:VTIMEZONE
TZID:Australia/Sydney
BEGIN:STANDARD
TZOFFSETFROM:+1100
TZOFFSETTO:+1000
TZNAME:AEST
DTSTART:20230401T160000
END:STANDARD
BEGIN:DAYLIGHT
TZOFFSETFROM:+1000
TZOFFSETTO:+1100
TZNAME:AEDT
DTSTART:20230930T160000
END:DAYLIGHT
END:VTIMEZONE
BEGIN:VEVENT
DTSTART;TZID=Australia/Sydney:20230521T140000
DTEND;TZID=Australia/Sydney:20230521T160000
DTSTAMP:20260421T203740
CREATED:20230318T031419Z
LAST-MODIFIED:20230408T034032Z
UID:3454-1684677600-1684684800@bellingenyouthorchestra.com.au
SUMMARY:Strings Sings
DESCRIPTION:“Strings Sing” featuring the Coffs Harbour Regional Conservatorium – Academy & the Bellingen Youth Orchestra – Sinfonia. At the  Coramba Community Hall on Sunday 21st of May 2pm. This is a very special collaboration and an event not to be missed! \nTickets via this link 
URL:https://bellingenyouthorchestra.com.au/event/strings-sing/
LOCATION:Coramba Community Hall\, Dorrigo Street\, Coramba 2450
CATEGORIES:Event,Musician Portal
ATTACH;FMTTYPE=image/jpeg:https://bellingenyouthorchestra.com.au/wp-content/uploads/2023/03/Academy-x-Sinfonia-concert-2023-Facebook-Post-Square-1.jpg
END:VEVENT
END:VCALENDAR