BEGIN:VCALENDAR
VERSION:2.0
PRODID:-//Bellingen Youth Orchestra - ECPv5.16.0//NONSGML v1.0//EN
CALSCALE:GREGORIAN
METHOD:PUBLISH
X-WR-CALNAME:Bellingen Youth Orchestra
X-ORIGINAL-URL:https://bellingenyouthorchestra.com.au
X-WR-CALDESC:Events for Bellingen Youth Orchestra
REFRESH-INTERVAL;VALUE=DURATION:PT1H
X-Robots-Tag:noindex
X-PUBLISHED-TTL:PT1H
BEGIN:VTIMEZONE
TZID:Australia/Sydney
BEGIN:STANDARD
TZOFFSETFROM:+1100
TZOFFSETTO:+1000
TZNAME:AEST
DTSTART:20250405T160000
END:STANDARD
BEGIN:DAYLIGHT
TZOFFSETFROM:+1000
TZOFFSETTO:+1100
TZNAME:AEDT
DTSTART:20251004T160000
END:DAYLIGHT
END:VTIMEZONE
BEGIN:VEVENT
DTSTART;TZID=Australia/Sydney:20250515T160000
DTEND;TZID=Australia/Sydney:20250515T180000
DTSTAMP:20260420T154429
CREATED:20250209T062745Z
LAST-MODIFIED:20250614T084545Z
UID:5331-1747324800-1747332000@bellingenyouthorchestra.com.au
SUMMARY:BYO Rehearsal
DESCRIPTION:The BYO rehearse in the Bellingen High School Hall from 4pm.
URL:https://bellingenyouthorchestra.com.au/event/byo-rehearsal-2/2025-05-15/
LOCATION:Stockton Hall\, Bellingen High School\, Stockton Hall\, BHS\, 1125 Waterfall Way\, Bellingen\, NSW\, Australia
CATEGORIES:BYO,Musician Portal,Practice
END:VEVENT
BEGIN:VEVENT
DTSTART;TZID=Australia/Sydney:20250515T154500
DTEND;TZID=Australia/Sydney:20250515T170000
DTSTAMP:20260420T154429
CREATED:20250209T053943Z
LAST-MODIFIED:20250209T073958Z
UID:5251-1747323900-1747328400@bellingenyouthorchestra.com.au
SUMMARY:BYOWS Rehearsal
DESCRIPTION:The Bellingen Youth Orchestra Wind School rehearse from 3.45 pm in the Bellingen Highschool Music Rooms to 5pm\, followed by afternoon tea.
URL:https://bellingenyouthorchestra.com.au/event/byows-rehearsal-2/2025-05-15/
LOCATION:Bellingen High School Music Rooms
CATEGORIES:BYOWS,Musician Portal,Practice
END:VEVENT
BEGIN:VEVENT
DTSTART;TZID=Australia/Sydney:20250515T153000
DTEND;TZID=Australia/Sydney:20250515T170000
DTSTAMP:20260420T154429
CREATED:20250129T221051Z
LAST-MODIFIED:20250209T073549Z
UID:4918-1747323000-1747328400@bellingenyouthorchestra.com.au
SUMMARY:BYOSS Rehearsal
DESCRIPTION:The Bellingen Youth Orchestra String School rehearse from 3.30 pm in the Bellingen Highschool demountable to 5pm\, followed by afternoon tea.
URL:https://bellingenyouthorchestra.com.au/event/byoss-rehearsal/2025-05-15/
LOCATION:Bellingen Highschool Demountable\, 1125 Waterfall Way\,\, Bellingen\, NSW\, 2454
CATEGORIES:BYOSS,Musician Portal,Practice
END:VEVENT
BEGIN:VEVENT
DTSTART;TZID=Australia/Sydney:20250508T160000
DTEND;TZID=Australia/Sydney:20250508T180000
DTSTAMP:20260420T154429
CREATED:20250209T062745Z
LAST-MODIFIED:20250614T084544Z
UID:5330-1746720000-1746727200@bellingenyouthorchestra.com.au
SUMMARY:BYO Rehearsal
DESCRIPTION:The BYO rehearse in the Bellingen High School Hall from 4pm.
URL:https://bellingenyouthorchestra.com.au/event/byo-rehearsal-2/2025-05-08/
LOCATION:Stockton Hall\, Bellingen High School\, Stockton Hall\, BHS\, 1125 Waterfall Way\, Bellingen\, NSW\, Australia
CATEGORIES:BYO,Musician Portal,Practice
END:VEVENT
BEGIN:VEVENT
DTSTART;TZID=Australia/Sydney:20250508T154500
DTEND;TZID=Australia/Sydney:20250508T170000
DTSTAMP:20260420T154429
CREATED:20250209T053943Z
LAST-MODIFIED:20250209T073957Z
UID:5250-1746719100-1746723600@bellingenyouthorchestra.com.au
SUMMARY:BYOWS Rehearsal
DESCRIPTION:The Bellingen Youth Orchestra Wind School rehearse from 3.45 pm in the Bellingen Highschool Music Rooms to 5pm\, followed by afternoon tea.
URL:https://bellingenyouthorchestra.com.au/event/byows-rehearsal-2/2025-05-08/
LOCATION:Bellingen High School Music Rooms
CATEGORIES:BYOWS,Musician Portal,Practice
END:VEVENT
BEGIN:VEVENT
DTSTART;TZID=Australia/Sydney:20250508T153000
DTEND;TZID=Australia/Sydney:20250508T170000
DTSTAMP:20260420T154429
CREATED:20250129T221051Z
LAST-MODIFIED:20250209T073548Z
UID:4917-1746718200-1746723600@bellingenyouthorchestra.com.au
SUMMARY:BYOSS Rehearsal
DESCRIPTION:The Bellingen Youth Orchestra String School rehearse from 3.30 pm in the Bellingen Highschool demountable to 5pm\, followed by afternoon tea.
URL:https://bellingenyouthorchestra.com.au/event/byoss-rehearsal/2025-05-08/
LOCATION:Bellingen Highschool Demountable\, 1125 Waterfall Way\,\, Bellingen\, NSW\, 2454
CATEGORIES:BYOSS,Musician Portal,Practice
END:VEVENT
BEGIN:VEVENT
DTSTART;TZID=Australia/Sydney:20250501T160000
DTEND;TZID=Australia/Sydney:20250501T180000
DTSTAMP:20260420T154429
CREATED:20250209T062745Z
LAST-MODIFIED:20250614T084544Z
UID:5329-1746115200-1746122400@bellingenyouthorchestra.com.au
SUMMARY:BYO Rehearsal
DESCRIPTION:The BYO rehearse in the Bellingen High School Hall from 4pm.
URL:https://bellingenyouthorchestra.com.au/event/byo-rehearsal-2/2025-05-01/
LOCATION:Stockton Hall\, Bellingen High School\, Stockton Hall\, BHS\, 1125 Waterfall Way\, Bellingen\, NSW\, Australia
CATEGORIES:BYO,Musician Portal,Practice
END:VEVENT
BEGIN:VEVENT
DTSTART;TZID=Australia/Sydney:20250501T154500
DTEND;TZID=Australia/Sydney:20250501T170000
DTSTAMP:20260420T154429
CREATED:20250209T053943Z
LAST-MODIFIED:20250209T073957Z
UID:5249-1746114300-1746118800@bellingenyouthorchestra.com.au
SUMMARY:BYOWS Rehearsal
DESCRIPTION:The Bellingen Youth Orchestra Wind School rehearse from 3.45 pm in the Bellingen Highschool Music Rooms to 5pm\, followed by afternoon tea.
URL:https://bellingenyouthorchestra.com.au/event/byows-rehearsal-2/2025-05-01/
LOCATION:Bellingen High School Music Rooms
CATEGORIES:BYOWS,Musician Portal,Practice
END:VEVENT
BEGIN:VEVENT
DTSTART;TZID=Australia/Sydney:20250501T153000
DTEND;TZID=Australia/Sydney:20250501T170000
DTSTAMP:20260420T154429
CREATED:20250129T221051Z
LAST-MODIFIED:20250209T073548Z
UID:4916-1746113400-1746118800@bellingenyouthorchestra.com.au
SUMMARY:BYOSS Rehearsal
DESCRIPTION:The Bellingen Youth Orchestra String School rehearse from 3.30 pm in the Bellingen Highschool demountable to 5pm\, followed by afternoon tea.
URL:https://bellingenyouthorchestra.com.au/event/byoss-rehearsal/2025-05-01/
LOCATION:Bellingen Highschool Demountable\, 1125 Waterfall Way\,\, Bellingen\, NSW\, 2454
CATEGORIES:BYOSS,Musician Portal,Practice
END:VEVENT
BEGIN:VEVENT
DTSTART;TZID=Australia/Sydney:20250414T080000
DTEND;TZID=Australia/Sydney:20250424T170000
DTSTAMP:20260420T154429
CREATED:20250209T061404Z
LAST-MODIFIED:20250209T061405Z
UID:5269-1744617600-1745514000@bellingenyouthorchestra.com.au
SUMMARY:Autumn School Holidays.
DESCRIPTION:NO rehearsals during school holidays unless advised by your director of your ensemble.
URL:https://bellingenyouthorchestra.com.au/event/autumn-school-holidays-2/
CATEGORIES:Musician Portal,School Holidays,School Holidays
END:VEVENT
BEGIN:VEVENT
DTSTART;TZID=Australia/Sydney:20250410T160000
DTEND;TZID=Australia/Sydney:20250410T180000
DTSTAMP:20260420T154429
CREATED:20250209T062745Z
LAST-MODIFIED:20250614T084544Z
UID:5326-1744300800-1744308000@bellingenyouthorchestra.com.au
SUMMARY:BYO Rehearsal
DESCRIPTION:The BYO rehearse in the Bellingen High School Hall from 4pm.
URL:https://bellingenyouthorchestra.com.au/event/byo-rehearsal-2/2025-04-10/
LOCATION:Stockton Hall\, Bellingen High School\, Stockton Hall\, BHS\, 1125 Waterfall Way\, Bellingen\, NSW\, Australia
CATEGORIES:BYO,Musician Portal,Practice
END:VEVENT
BEGIN:VEVENT
DTSTART;TZID=Australia/Sydney:20250410T154500
DTEND;TZID=Australia/Sydney:20250410T170000
DTSTAMP:20260420T154429
CREATED:20250209T053943Z
LAST-MODIFIED:20250209T073954Z
UID:5246-1744299900-1744304400@bellingenyouthorchestra.com.au
SUMMARY:BYOWS Rehearsal
DESCRIPTION:The Bellingen Youth Orchestra Wind School rehearse from 3.45 pm in the Bellingen Highschool Music Rooms to 5pm\, followed by afternoon tea.
URL:https://bellingenyouthorchestra.com.au/event/byows-rehearsal-2/2025-04-10/
LOCATION:Bellingen High School Music Rooms
CATEGORIES:BYOWS,Musician Portal,Practice
END:VEVENT
BEGIN:VEVENT
DTSTART;TZID=Australia/Sydney:20250410T153000
DTEND;TZID=Australia/Sydney:20250410T170000
DTSTAMP:20260420T154429
CREATED:20250129T221051Z
LAST-MODIFIED:20250209T073548Z
UID:4913-1744299000-1744304400@bellingenyouthorchestra.com.au
SUMMARY:BYOSS Rehearsal
DESCRIPTION:The Bellingen Youth Orchestra String School rehearse from 3.30 pm in the Bellingen Highschool demountable to 5pm\, followed by afternoon tea.
URL:https://bellingenyouthorchestra.com.au/event/byoss-rehearsal/2025-04-10/
LOCATION:Bellingen Highschool Demountable\, 1125 Waterfall Way\,\, Bellingen\, NSW\, 2454
CATEGORIES:BYOSS,Musician Portal,Practice
END:VEVENT
BEGIN:VEVENT
DTSTART;TZID=Australia/Sydney:20250405T080000
DTEND;TZID=Australia/Sydney:20250406T170000
DTSTAMP:20260420T154429
CREATED:20250209T055415Z
LAST-MODIFIED:20250209T060646Z
UID:5237-1743840000-1743958800@bellingenyouthorchestra.com.au
SUMMARY:Sinfonia workshops with Sydney Conservatorium with Music
DESCRIPTION:Time and further details to come.
URL:https://bellingenyouthorchestra.com.au/event/sinfonia-workshops-with-sydney-conservatorium-with-music/
CATEGORIES:Musician Portal,Workshop
END:VEVENT
BEGIN:VEVENT
DTSTART;TZID=Australia/Sydney:20250403T160000
DTEND;TZID=Australia/Sydney:20250403T180000
DTSTAMP:20260420T154429
CREATED:20250209T062745Z
LAST-MODIFIED:20250614T084544Z
UID:5325-1743696000-1743703200@bellingenyouthorchestra.com.au
SUMMARY:BYO Rehearsal
DESCRIPTION:The BYO rehearse in the Bellingen High School Hall from 4pm.
URL:https://bellingenyouthorchestra.com.au/event/byo-rehearsal-2/2025-04-03/
LOCATION:Stockton Hall\, Bellingen High School\, Stockton Hall\, BHS\, 1125 Waterfall Way\, Bellingen\, NSW\, Australia
CATEGORIES:BYO,Musician Portal,Practice
END:VEVENT
BEGIN:VEVENT
DTSTART;TZID=Australia/Sydney:20250403T154500
DTEND;TZID=Australia/Sydney:20250403T170000
DTSTAMP:20260420T154429
CREATED:20250209T053943Z
LAST-MODIFIED:20250209T073953Z
UID:5245-1743695100-1743699600@bellingenyouthorchestra.com.au
SUMMARY:BYOWS Rehearsal
DESCRIPTION:The Bellingen Youth Orchestra Wind School rehearse from 3.45 pm in the Bellingen Highschool Music Rooms to 5pm\, followed by afternoon tea.
URL:https://bellingenyouthorchestra.com.au/event/byows-rehearsal-2/2025-04-03/
LOCATION:Bellingen High School Music Rooms
CATEGORIES:BYOWS,Musician Portal,Practice
END:VEVENT
BEGIN:VEVENT
DTSTART;TZID=Australia/Sydney:20250403T153000
DTEND;TZID=Australia/Sydney:20250403T170000
DTSTAMP:20260420T154429
CREATED:20250129T221051Z
LAST-MODIFIED:20250209T073548Z
UID:4912-1743694200-1743699600@bellingenyouthorchestra.com.au
SUMMARY:BYOSS Rehearsal
DESCRIPTION:The Bellingen Youth Orchestra String School rehearse from 3.30 pm in the Bellingen Highschool demountable to 5pm\, followed by afternoon tea.
URL:https://bellingenyouthorchestra.com.au/event/byoss-rehearsal/2025-04-03/
LOCATION:Bellingen Highschool Demountable\, 1125 Waterfall Way\,\, Bellingen\, NSW\, 2454
CATEGORIES:BYOSS,Musician Portal,Practice
END:VEVENT
BEGIN:VEVENT
DTSTART;TZID=Australia/Sydney:20250401T183000
DTEND;TZID=Australia/Sydney:20250401T200000
DTSTAMP:20260420T154429
CREATED:20241229T205916Z
LAST-MODIFIED:20241229T214937Z
UID:4831-1743532200-1743537600@bellingenyouthorchestra.com.au
SUMMARY:BYO Operational Meeting.
DESCRIPTION:The BYO operational committee meet fortnighly to ensure all processes are running smoothly and to develop event preperation etc.
URL:https://bellingenyouthorchestra.com.au/event/byo-operational-meeting/2025-04-01/
CATEGORIES:BYO Operational Meeting,Musician Portal
END:VEVENT
BEGIN:VEVENT
DTSTART;TZID=Australia/Sydney:20250329T170000
DTEND;TZID=Australia/Sydney:20250329T193000
DTSTAMP:20260420T154429
CREATED:20241113T222613Z
LAST-MODIFIED:20250318T083548Z
UID:4753-1743267600-1743276600@bellingenyouthorchestra.com.au
SUMMARY:Not Finished Yet.
DESCRIPTION:We are delighted to present our first event of the year\, ‘Not Finished Yet’—a dynamic concert featuring the Bellingen Youth Orchestra (BYO) and our affiliated ensembles\, BYOSS (Bellingen Youth Orchestra String School) and BYOWS (Bellingen Youth Orchestra Wind School). \nThis performance is a testament to our ongoing journey of musical growth\, creativity\, and community. More than just a concert\, ‘Not Finished Yet’ is a dedication to sustainability—both in music and in our region. By nurturing young musicians\, supporting local music educators\, and fostering a love for orchestral performance\, we ensure that the joy of music continues for generations to come. \nStay tuned for ticket information.
URL:https://bellingenyouthorchestra.com.au/event/term-1-concert/
CATEGORIES:Event,Musician Portal
ATTACH;FMTTYPE=image/jpeg:https://bellingenyouthorchestra.com.au/wp-content/uploads/2023/12/0B5A7682-scaled.jpg
END:VEVENT
BEGIN:VEVENT
DTSTART;TZID=Australia/Sydney:20250327T160000
DTEND;TZID=Australia/Sydney:20250327T180000
DTSTAMP:20260420T154429
CREATED:20250209T062745Z
LAST-MODIFIED:20250614T084544Z
UID:5324-1743091200-1743098400@bellingenyouthorchestra.com.au
SUMMARY:BYO Rehearsal
DESCRIPTION:The BYO rehearse in the Bellingen High School Hall from 4pm.
URL:https://bellingenyouthorchestra.com.au/event/byo-rehearsal-2/2025-03-27/
LOCATION:Stockton Hall\, Bellingen High School\, Stockton Hall\, BHS\, 1125 Waterfall Way\, Bellingen\, NSW\, Australia
CATEGORIES:BYO,Musician Portal,Practice
END:VEVENT
BEGIN:VEVENT
DTSTART;TZID=Australia/Sydney:20250327T154500
DTEND;TZID=Australia/Sydney:20250327T170000
DTSTAMP:20260420T154429
CREATED:20250209T053943Z
LAST-MODIFIED:20250209T073953Z
UID:5244-1743090300-1743094800@bellingenyouthorchestra.com.au
SUMMARY:BYOWS Rehearsal
DESCRIPTION:The Bellingen Youth Orchestra Wind School rehearse from 3.45 pm in the Bellingen Highschool Music Rooms to 5pm\, followed by afternoon tea.
URL:https://bellingenyouthorchestra.com.au/event/byows-rehearsal-2/2025-03-27/
LOCATION:Bellingen High School Music Rooms
CATEGORIES:BYOWS,Musician Portal,Practice
END:VEVENT
BEGIN:VEVENT
DTSTART;TZID=Australia/Sydney:20250327T153000
DTEND;TZID=Australia/Sydney:20250327T170000
DTSTAMP:20260420T154429
CREATED:20250129T221051Z
LAST-MODIFIED:20250209T073548Z
UID:4911-1743089400-1743094800@bellingenyouthorchestra.com.au
SUMMARY:BYOSS Rehearsal
DESCRIPTION:The Bellingen Youth Orchestra String School rehearse from 3.30 pm in the Bellingen Highschool demountable to 5pm\, followed by afternoon tea.
URL:https://bellingenyouthorchestra.com.au/event/byoss-rehearsal/2025-03-27/
LOCATION:Bellingen Highschool Demountable\, 1125 Waterfall Way\,\, Bellingen\, NSW\, 2454
CATEGORIES:BYOSS,Musician Portal,Practice
END:VEVENT
BEGIN:VEVENT
DTSTART;TZID=Australia/Sydney:20250321T170000
DTEND;TZID=Australia/Sydney:20250321T190000
DTSTAMP:20260420T154429
CREATED:20250209T055007Z
LAST-MODIFIED:20250301T234448Z
UID:5233-1742576400-1742583600@bellingenyouthorchestra.com.au
SUMMARY:Junior Scholarship Performance Evening
DESCRIPTION:The second stage of our Junior Scholarship. \nWHO WILL PLAY:  All players who successfully complete Stage 1 will be contacted and invited to perform at a Scholarship Evening. As part of the scholarship round all performers will be awarded a free rehearsal & performance with an accompanist which is a fantastic opportunity to build new musical skills. \nCRITERIA: Finalists are to present 2 contrasting pieces or 1 piece with contrasting sections (max 7 minutes total performance time). Performances will be judged on polish\, technical proficiency in the pieces\, tone & musicality. If finalists are proficient in more than one instrument\, they are free to perform on more than one.   \nScholarships are decided by at least two adjudicators nominated by the BYO Committee. The adjudicators will be chosen based on their specific area of expertise in musical performance or education in relation to specific scholarship rounds. Every care is taken to ensure that adjudicators do not have a conflict of interest in awarding scholarships. Scholarships are announced as soon as is practicable after all applications have been considered. \nApplicants are encouraged to discuss their applications with their teachers or ensemble leaders if they have any questions about the scholarship process. \n 
URL:https://bellingenyouthorchestra.com.au/event/junior-scholarship-performance-evening/
CATEGORIES:Event,Musician Portal
END:VEVENT
BEGIN:VEVENT
DTSTART;TZID=Australia/Sydney:20250320T160000
DTEND;TZID=Australia/Sydney:20250320T180000
DTSTAMP:20260420T154429
CREATED:20250209T062745Z
LAST-MODIFIED:20250614T084543Z
UID:5323-1742486400-1742493600@bellingenyouthorchestra.com.au
SUMMARY:BYO Rehearsal
DESCRIPTION:The BYO rehearse in the Bellingen High School Hall from 4pm.
URL:https://bellingenyouthorchestra.com.au/event/byo-rehearsal-2/2025-03-20/
LOCATION:Stockton Hall\, Bellingen High School\, Stockton Hall\, BHS\, 1125 Waterfall Way\, Bellingen\, NSW\, Australia
CATEGORIES:BYO,Musician Portal,Practice
END:VEVENT
BEGIN:VEVENT
DTSTART;TZID=Australia/Sydney:20250320T154500
DTEND;TZID=Australia/Sydney:20250320T170000
DTSTAMP:20260420T154429
CREATED:20250209T053943Z
LAST-MODIFIED:20250209T073952Z
UID:5243-1742485500-1742490000@bellingenyouthorchestra.com.au
SUMMARY:BYOWS Rehearsal
DESCRIPTION:The Bellingen Youth Orchestra Wind School rehearse from 3.45 pm in the Bellingen Highschool Music Rooms to 5pm\, followed by afternoon tea.
URL:https://bellingenyouthorchestra.com.au/event/byows-rehearsal-2/2025-03-20/
LOCATION:Bellingen High School Music Rooms
CATEGORIES:BYOWS,Musician Portal,Practice
END:VEVENT
BEGIN:VEVENT
DTSTART;TZID=Australia/Sydney:20250320T153000
DTEND;TZID=Australia/Sydney:20250320T170000
DTSTAMP:20260420T154429
CREATED:20250129T221051Z
LAST-MODIFIED:20250209T073548Z
UID:4910-1742484600-1742490000@bellingenyouthorchestra.com.au
SUMMARY:BYOSS Rehearsal
DESCRIPTION:The Bellingen Youth Orchestra String School rehearse from 3.30 pm in the Bellingen Highschool demountable to 5pm\, followed by afternoon tea.
URL:https://bellingenyouthorchestra.com.au/event/byoss-rehearsal/2025-03-20/
LOCATION:Bellingen Highschool Demountable\, 1125 Waterfall Way\,\, Bellingen\, NSW\, 2454
CATEGORIES:BYOSS,Musician Portal,Practice
END:VEVENT
BEGIN:VEVENT
DTSTART;TZID=Australia/Sydney:20250318T183000
DTEND;TZID=Australia/Sydney:20250318T200000
DTSTAMP:20260420T154429
CREATED:20241229T205916Z
LAST-MODIFIED:20241229T214936Z
UID:4830-1742322600-1742328000@bellingenyouthorchestra.com.au
SUMMARY:BYO Operational Meeting.
DESCRIPTION:The BYO operational committee meet fortnighly to ensure all processes are running smoothly and to develop event preperation etc.
URL:https://bellingenyouthorchestra.com.au/event/byo-operational-meeting/2025-03-18/
CATEGORIES:BYO Operational Meeting,Musician Portal
END:VEVENT
BEGIN:VEVENT
DTSTART;TZID=Australia/Sydney:20250313T160000
DTEND;TZID=Australia/Sydney:20250313T180000
DTSTAMP:20260420T154429
CREATED:20250209T062745Z
LAST-MODIFIED:20250614T084543Z
UID:5322-1741881600-1741888800@bellingenyouthorchestra.com.au
SUMMARY:BYO Rehearsal
DESCRIPTION:The BYO rehearse in the Bellingen High School Hall from 4pm.
URL:https://bellingenyouthorchestra.com.au/event/byo-rehearsal-2/2025-03-13/
LOCATION:Stockton Hall\, Bellingen High School\, Stockton Hall\, BHS\, 1125 Waterfall Way\, Bellingen\, NSW\, Australia
CATEGORIES:BYO,Musician Portal,Practice
END:VEVENT
BEGIN:VEVENT
DTSTART;TZID=Australia/Sydney:20250313T154500
DTEND;TZID=Australia/Sydney:20250313T170000
DTSTAMP:20260420T154429
CREATED:20250209T053943Z
LAST-MODIFIED:20250209T073951Z
UID:5242-1741880700-1741885200@bellingenyouthorchestra.com.au
SUMMARY:BYOWS Rehearsal
DESCRIPTION:The Bellingen Youth Orchestra Wind School rehearse from 3.45 pm in the Bellingen Highschool Music Rooms to 5pm\, followed by afternoon tea.
URL:https://bellingenyouthorchestra.com.au/event/byows-rehearsal-2/2025-03-13/
LOCATION:Bellingen High School Music Rooms
CATEGORIES:BYOWS,Musician Portal,Practice
END:VEVENT
BEGIN:VEVENT
DTSTART;TZID=Australia/Sydney:20250313T153000
DTEND;TZID=Australia/Sydney:20250313T170000
DTSTAMP:20260420T154429
CREATED:20250129T221051Z
LAST-MODIFIED:20250209T073547Z
UID:4909-1741879800-1741885200@bellingenyouthorchestra.com.au
SUMMARY:BYOSS Rehearsal
DESCRIPTION:The Bellingen Youth Orchestra String School rehearse from 3.30 pm in the Bellingen Highschool demountable to 5pm\, followed by afternoon tea.
URL:https://bellingenyouthorchestra.com.au/event/byoss-rehearsal/2025-03-13/
LOCATION:Bellingen Highschool Demountable\, 1125 Waterfall Way\,\, Bellingen\, NSW\, 2454
CATEGORIES:BYOSS,Musician Portal,Practice
END:VEVENT
END:VCALENDAR