BEGIN:VCALENDAR
VERSION:2.0
PRODID:-//Bellingen Youth Orchestra - ECPv5.16.0//NONSGML v1.0//EN
CALSCALE:GREGORIAN
METHOD:PUBLISH
X-WR-CALNAME:Bellingen Youth Orchestra
X-ORIGINAL-URL:https://bellingenyouthorchestra.com.au
X-WR-CALDESC:Events for Bellingen Youth Orchestra
REFRESH-INTERVAL;VALUE=DURATION:PT1H
X-Robots-Tag:noindex
X-PUBLISHED-TTL:PT1H
BEGIN:VTIMEZONE
TZID:Australia/Sydney
BEGIN:STANDARD
TZOFFSETFROM:+1100
TZOFFSETTO:+1000
TZNAME:AEST
DTSTART:20250405T160000
END:STANDARD
BEGIN:DAYLIGHT
TZOFFSETFROM:+1000
TZOFFSETTO:+1100
TZNAME:AEDT
DTSTART:20251004T160000
END:DAYLIGHT
END:VTIMEZONE
BEGIN:VEVENT
DTSTART;TZID=Australia/Sydney:20250707T080000
DTEND;TZID=Australia/Sydney:20250718T170000
DTSTAMP:20260420T085330
CREATED:20250209T061505Z
LAST-MODIFIED:20250209T061506Z
UID:5271-1751875200-1752858000@bellingenyouthorchestra.com.au
SUMMARY:WINTER school Holidays
DESCRIPTION:NO rehearsals during school holidays unless advised by your director of your ensemble.
URL:https://bellingenyouthorchestra.com.au/event/winter-school-holidays-2/
LOCATION:NSW
CATEGORIES:Musician Portal,School Holidays
END:VEVENT
BEGIN:VEVENT
DTSTART;TZID=Australia/Sydney:20250703T160000
DTEND;TZID=Australia/Sydney:20250703T180000
DTSTAMP:20260420T085330
CREATED:20250209T062745Z
LAST-MODIFIED:20250614T084546Z
UID:5338-1751558400-1751565600@bellingenyouthorchestra.com.au
SUMMARY:BYO Rehearsal
DESCRIPTION:The BYO rehearse in the Bellingen High School Hall from 4pm.
URL:https://bellingenyouthorchestra.com.au/event/byo-rehearsal-2/2025-07-03/
LOCATION:Stockton Hall\, Bellingen High School\, Stockton Hall\, BHS\, 1125 Waterfall Way\, Bellingen\, NSW\, Australia
CATEGORIES:BYO,Musician Portal,Practice
END:VEVENT
BEGIN:VEVENT
DTSTART;TZID=Australia/Sydney:20250703T154500
DTEND;TZID=Australia/Sydney:20250703T170000
DTSTAMP:20260420T085330
CREATED:20250209T053943Z
LAST-MODIFIED:20250209T073958Z
UID:5258-1751557500-1751562000@bellingenyouthorchestra.com.au
SUMMARY:BYOWS Rehearsal
DESCRIPTION:The Bellingen Youth Orchestra Wind School rehearse from 3.45 pm in the Bellingen Highschool Music Rooms to 5pm\, followed by afternoon tea.
URL:https://bellingenyouthorchestra.com.au/event/byows-rehearsal-2/2025-07-03/
LOCATION:Bellingen High School Music Rooms
CATEGORIES:BYOWS,Musician Portal,Practice
END:VEVENT
BEGIN:VEVENT
DTSTART;TZID=Australia/Sydney:20250703T153000
DTEND;TZID=Australia/Sydney:20250703T170000
DTSTAMP:20260420T085330
CREATED:20250129T221051Z
LAST-MODIFIED:20250209T073550Z
UID:4925-1751556600-1751562000@bellingenyouthorchestra.com.au
SUMMARY:BYOSS Rehearsal
DESCRIPTION:The Bellingen Youth Orchestra String School rehearse from 3.30 pm in the Bellingen Highschool demountable to 5pm\, followed by afternoon tea.
URL:https://bellingenyouthorchestra.com.au/event/byoss-rehearsal/2025-07-03/
LOCATION:Bellingen Highschool Demountable\, 1125 Waterfall Way\,\, Bellingen\, NSW\, 2454
CATEGORIES:BYOSS,Musician Portal,Practice
END:VEVENT
BEGIN:VEVENT
DTSTART;TZID=Australia/Sydney:20250626T163000
DTEND;TZID=Australia/Sydney:20250626T210000
DTSTAMP:20260420T085330
CREATED:20250614T060548Z
LAST-MODIFIED:20250614T061132Z
UID:5514-1750955400-1750971600@bellingenyouthorchestra.com.au
SUMMARY:TRIVIA\, SUSHI & MUSICAL NIGHT INFO for BYOSS and BYOWS
DESCRIPTION:
URL:https://bellingenyouthorchestra.com.au/event/trivia-sushi-musical-night-info-for-byoss-and-byows/
LOCATION:NSW
CATEGORIES:BYOWS,Musician Portal
END:VEVENT
BEGIN:VEVENT
DTSTART;TZID=Australia/Sydney:20250626T160000
DTEND;TZID=Australia/Sydney:20250626T180000
DTSTAMP:20260420T085330
CREATED:20250209T062745Z
LAST-MODIFIED:20250614T084641Z
UID:5337-1750953600-1750960800@bellingenyouthorchestra.com.au
SUMMARY:BYO Rehearsal
DESCRIPTION:The BYO rehearse in the Bellingen High School Hall from 4pm.
URL:https://bellingenyouthorchestra.com.au/event/byo-rehearsal-2-2025-06-26/
LOCATION:Stockton Hall\, Bellingen High School\, Stockton Hall\, BHS\, 1125 Waterfall Way\, Bellingen\, NSW\, Australia
CATEGORIES:BYO,Musician Portal,Practice
END:VEVENT
BEGIN:VEVENT
DTSTART;TZID=Australia/Sydney:20250619T160000
DTEND;TZID=Australia/Sydney:20250619T180000
DTSTAMP:20260420T085330
CREATED:20250209T062745Z
LAST-MODIFIED:20250614T084545Z
UID:5336-1750348800-1750356000@bellingenyouthorchestra.com.au
SUMMARY:BYO Rehearsal
DESCRIPTION:The BYO rehearse in the Bellingen High School Hall from 4pm.
URL:https://bellingenyouthorchestra.com.au/event/byo-rehearsal-2/2025-06-19/
LOCATION:Stockton Hall\, Bellingen High School\, Stockton Hall\, BHS\, 1125 Waterfall Way\, Bellingen\, NSW\, Australia
CATEGORIES:BYO,Musician Portal,Practice
END:VEVENT
BEGIN:VEVENT
DTSTART;TZID=Australia/Sydney:20250619T154500
DTEND;TZID=Australia/Sydney:20250619T170000
DTSTAMP:20260420T085330
CREATED:20250209T053943Z
LAST-MODIFIED:20250209T073958Z
UID:5256-1750347900-1750352400@bellingenyouthorchestra.com.au
SUMMARY:BYOWS Rehearsal
DESCRIPTION:The Bellingen Youth Orchestra Wind School rehearse from 3.45 pm in the Bellingen Highschool Music Rooms to 5pm\, followed by afternoon tea.
URL:https://bellingenyouthorchestra.com.au/event/byows-rehearsal-2/2025-06-19/
LOCATION:Bellingen High School Music Rooms
CATEGORIES:BYOWS,Musician Portal,Practice
END:VEVENT
BEGIN:VEVENT
DTSTART;TZID=Australia/Sydney:20250619T153000
DTEND;TZID=Australia/Sydney:20250619T170000
DTSTAMP:20260420T085330
CREATED:20250129T221051Z
LAST-MODIFIED:20250209T073550Z
UID:4923-1750347000-1750352400@bellingenyouthorchestra.com.au
SUMMARY:BYOSS Rehearsal
DESCRIPTION:The Bellingen Youth Orchestra String School rehearse from 3.30 pm in the Bellingen Highschool demountable to 5pm\, followed by afternoon tea.
URL:https://bellingenyouthorchestra.com.au/event/byoss-rehearsal/2025-06-19/
LOCATION:Bellingen Highschool Demountable\, 1125 Waterfall Way\,\, Bellingen\, NSW\, 2454
CATEGORIES:BYOSS,Musician Portal,Practice
END:VEVENT
BEGIN:VEVENT
DTSTART;TZID=Australia/Sydney:20250612T160000
DTEND;TZID=Australia/Sydney:20250612T180000
DTSTAMP:20260420T085330
CREATED:20250209T062745Z
LAST-MODIFIED:20250614T084545Z
UID:5335-1749744000-1749751200@bellingenyouthorchestra.com.au
SUMMARY:BYO Rehearsal
DESCRIPTION:The BYO rehearse in the Bellingen High School Hall from 4pm.
URL:https://bellingenyouthorchestra.com.au/event/byo-rehearsal-2/2025-06-12/
LOCATION:Stockton Hall\, Bellingen High School\, Stockton Hall\, BHS\, 1125 Waterfall Way\, Bellingen\, NSW\, Australia
CATEGORIES:BYO,Musician Portal,Practice
END:VEVENT
BEGIN:VEVENT
DTSTART;TZID=Australia/Sydney:20250612T154500
DTEND;TZID=Australia/Sydney:20250612T170000
DTSTAMP:20260420T085330
CREATED:20250209T053943Z
LAST-MODIFIED:20250209T073958Z
UID:5255-1749743100-1749747600@bellingenyouthorchestra.com.au
SUMMARY:BYOWS Rehearsal
DESCRIPTION:The Bellingen Youth Orchestra Wind School rehearse from 3.45 pm in the Bellingen Highschool Music Rooms to 5pm\, followed by afternoon tea.
URL:https://bellingenyouthorchestra.com.au/event/byows-rehearsal-2/2025-06-12/
LOCATION:Bellingen High School Music Rooms
CATEGORIES:BYOWS,Musician Portal,Practice
END:VEVENT
BEGIN:VEVENT
DTSTART;TZID=Australia/Sydney:20250612T153000
DTEND;TZID=Australia/Sydney:20250612T170000
DTSTAMP:20260420T085330
CREATED:20250129T221051Z
LAST-MODIFIED:20250209T073550Z
UID:4922-1749742200-1749747600@bellingenyouthorchestra.com.au
SUMMARY:BYOSS Rehearsal
DESCRIPTION:The Bellingen Youth Orchestra String School rehearse from 3.30 pm in the Bellingen Highschool demountable to 5pm\, followed by afternoon tea.
URL:https://bellingenyouthorchestra.com.au/event/byoss-rehearsal/2025-06-12/
LOCATION:Bellingen Highschool Demountable\, 1125 Waterfall Way\,\, Bellingen\, NSW\, 2454
CATEGORIES:BYOSS,Musician Portal,Practice
END:VEVENT
BEGIN:VEVENT
DTSTART;TZID=Australia/Sydney:20250605T160000
DTEND;TZID=Australia/Sydney:20250605T180000
DTSTAMP:20260420T085330
CREATED:20250209T062745Z
LAST-MODIFIED:20250614T084545Z
UID:5334-1749139200-1749146400@bellingenyouthorchestra.com.au
SUMMARY:BYO Rehearsal
DESCRIPTION:The BYO rehearse in the Bellingen High School Hall from 4pm.
URL:https://bellingenyouthorchestra.com.au/event/byo-rehearsal-2/2025-06-05/
LOCATION:Stockton Hall\, Bellingen High School\, Stockton Hall\, BHS\, 1125 Waterfall Way\, Bellingen\, NSW\, Australia
CATEGORIES:BYO,Musician Portal,Practice
END:VEVENT
BEGIN:VEVENT
DTSTART;TZID=Australia/Sydney:20250605T154500
DTEND;TZID=Australia/Sydney:20250605T170000
DTSTAMP:20260420T085330
CREATED:20250209T053943Z
LAST-MODIFIED:20250209T073958Z
UID:5254-1749138300-1749142800@bellingenyouthorchestra.com.au
SUMMARY:BYOWS Rehearsal
DESCRIPTION:The Bellingen Youth Orchestra Wind School rehearse from 3.45 pm in the Bellingen Highschool Music Rooms to 5pm\, followed by afternoon tea.
URL:https://bellingenyouthorchestra.com.au/event/byows-rehearsal-2/2025-06-05/
LOCATION:Bellingen High School Music Rooms
CATEGORIES:BYOWS,Musician Portal,Practice
END:VEVENT
BEGIN:VEVENT
DTSTART;TZID=Australia/Sydney:20250605T153000
DTEND;TZID=Australia/Sydney:20250605T170000
DTSTAMP:20260420T085330
CREATED:20250129T221051Z
LAST-MODIFIED:20250209T073550Z
UID:4921-1749137400-1749142800@bellingenyouthorchestra.com.au
SUMMARY:BYOSS Rehearsal
DESCRIPTION:The Bellingen Youth Orchestra String School rehearse from 3.30 pm in the Bellingen Highschool demountable to 5pm\, followed by afternoon tea.
URL:https://bellingenyouthorchestra.com.au/event/byoss-rehearsal/2025-06-05/
LOCATION:Bellingen Highschool Demountable\, 1125 Waterfall Way\,\, Bellingen\, NSW\, 2454
CATEGORIES:BYOSS,Musician Portal,Practice
END:VEVENT
BEGIN:VEVENT
DTSTART;TZID=Australia/Sydney:20250601T080000
DTEND;TZID=Australia/Sydney:20250603T190000
DTSTAMP:20260420T085330
CREATED:20241113T223704Z
LAST-MODIFIED:20250510T061848Z
UID:4757-1748764800-1748977200@bellingenyouthorchestra.com.au
SUMMARY:Compass Music Festival – North Coast
DESCRIPTION:The NSW Department of Education presents a combined public schools performance at Wiigulga Sports Complex. The concert features a combined secondary choir\, primary choir\, primary string ensemble and combined recorder ensemble that will join forces with our Bellingen Youth Orchestra. \nFor full details including teaching resources go to the Compass North Coast – teacher information site 2025. \nRehearsal Date\n1st June \nPerformance Dates\nMonday 2 and Tuesday 3 June 2025 (Term 2 Week 6) \nMORE INFORMATION TO COME
URL:https://bellingenyouthorchestra.com.au/event/compass-music-festival-north-coast/
LOCATION:NSW
CATEGORIES:Event,Musician Portal
ATTACH;FMTTYPE=image/jpeg:https://bellingenyouthorchestra.com.au/wp-content/uploads/2022/12/compass.jpg
END:VEVENT
BEGIN:VEVENT
DTSTART;TZID=Australia/Sydney:20250529T160000
DTEND;TZID=Australia/Sydney:20250529T180000
DTSTAMP:20260420T085330
CREATED:20250209T062745Z
LAST-MODIFIED:20250614T084545Z
UID:5333-1748534400-1748541600@bellingenyouthorchestra.com.au
SUMMARY:BYO Rehearsal
DESCRIPTION:The BYO rehearse in the Bellingen High School Hall from 4pm.
URL:https://bellingenyouthorchestra.com.au/event/byo-rehearsal-2/2025-05-29/
LOCATION:Stockton Hall\, Bellingen High School\, Stockton Hall\, BHS\, 1125 Waterfall Way\, Bellingen\, NSW\, Australia
CATEGORIES:BYO,Musician Portal,Practice
END:VEVENT
BEGIN:VEVENT
DTSTART;TZID=Australia/Sydney:20250529T154500
DTEND;TZID=Australia/Sydney:20250529T170000
DTSTAMP:20260420T085330
CREATED:20250209T053943Z
LAST-MODIFIED:20250209T073958Z
UID:5253-1748533500-1748538000@bellingenyouthorchestra.com.au
SUMMARY:BYOWS Rehearsal
DESCRIPTION:The Bellingen Youth Orchestra Wind School rehearse from 3.45 pm in the Bellingen Highschool Music Rooms to 5pm\, followed by afternoon tea.
URL:https://bellingenyouthorchestra.com.au/event/byows-rehearsal-2/2025-05-29/
LOCATION:Bellingen High School Music Rooms
CATEGORIES:BYOWS,Musician Portal,Practice
END:VEVENT
BEGIN:VEVENT
DTSTART;TZID=Australia/Sydney:20250529T153000
DTEND;TZID=Australia/Sydney:20250529T170000
DTSTAMP:20260420T085330
CREATED:20250129T221051Z
LAST-MODIFIED:20250209T073549Z
UID:4920-1748532600-1748538000@bellingenyouthorchestra.com.au
SUMMARY:BYOSS Rehearsal
DESCRIPTION:The Bellingen Youth Orchestra String School rehearse from 3.30 pm in the Bellingen Highschool demountable to 5pm\, followed by afternoon tea.
URL:https://bellingenyouthorchestra.com.au/event/byoss-rehearsal/2025-05-29/
LOCATION:Bellingen Highschool Demountable\, 1125 Waterfall Way\,\, Bellingen\, NSW\, 2454
CATEGORIES:BYOSS,Musician Portal,Practice
END:VEVENT
BEGIN:VEVENT
DTSTART;TZID=Australia/Sydney:20250524T100000
DTEND;TZID=Australia/Sydney:20250524T110000
DTSTAMP:20260420T085330
CREATED:20241113T224503Z
LAST-MODIFIED:20250521T043314Z
UID:4763-1748080800-1748084400@bellingenyouthorchestra.com.au
SUMMARY:BYOSS at the SHOW
DESCRIPTION:Stay tuned for further updates. \nTimes to be confirmed.
URL:https://bellingenyouthorchestra.com.au/event/byoss-byows-plays-at-show/
LOCATION:NSW
CATEGORIES:Event,Musician Portal
ATTACH;FMTTYPE=image/jpeg:https://bellingenyouthorchestra.com.au/wp-content/uploads/2024/11/byoss.jpg
END:VEVENT
BEGIN:VEVENT
DTSTART;TZID=Australia/Sydney:20250522T160000
DTEND;TZID=Australia/Sydney:20250522T180000
DTSTAMP:20260420T085330
CREATED:20250209T062745Z
LAST-MODIFIED:20250614T084545Z
UID:5332-1747929600-1747936800@bellingenyouthorchestra.com.au
SUMMARY:BYO Rehearsal
DESCRIPTION:The BYO rehearse in the Bellingen High School Hall from 4pm.
URL:https://bellingenyouthorchestra.com.au/event/byo-rehearsal-2/2025-05-22/
LOCATION:Stockton Hall\, Bellingen High School\, Stockton Hall\, BHS\, 1125 Waterfall Way\, Bellingen\, NSW\, Australia
CATEGORIES:BYO,Musician Portal,Practice
END:VEVENT
BEGIN:VEVENT
DTSTART;TZID=Australia/Sydney:20250522T154500
DTEND;TZID=Australia/Sydney:20250522T170000
DTSTAMP:20260420T085330
CREATED:20250209T053943Z
LAST-MODIFIED:20250209T073958Z
UID:5252-1747928700-1747933200@bellingenyouthorchestra.com.au
SUMMARY:BYOWS Rehearsal
DESCRIPTION:The Bellingen Youth Orchestra Wind School rehearse from 3.45 pm in the Bellingen Highschool Music Rooms to 5pm\, followed by afternoon tea.
URL:https://bellingenyouthorchestra.com.au/event/byows-rehearsal-2/2025-05-22/
LOCATION:Bellingen High School Music Rooms
CATEGORIES:BYOWS,Musician Portal,Practice
END:VEVENT
BEGIN:VEVENT
DTSTART;TZID=Australia/Sydney:20250522T153000
DTEND;TZID=Australia/Sydney:20250522T170000
DTSTAMP:20260420T085330
CREATED:20250129T221051Z
LAST-MODIFIED:20250209T073549Z
UID:4919-1747927800-1747933200@bellingenyouthorchestra.com.au
SUMMARY:BYOSS Rehearsal
DESCRIPTION:The Bellingen Youth Orchestra String School rehearse from 3.30 pm in the Bellingen Highschool demountable to 5pm\, followed by afternoon tea.
URL:https://bellingenyouthorchestra.com.au/event/byoss-rehearsal/2025-05-22/
LOCATION:Bellingen Highschool Demountable\, 1125 Waterfall Way\,\, Bellingen\, NSW\, 2454
CATEGORIES:BYOSS,Musician Portal,Practice
END:VEVENT
BEGIN:VEVENT
DTSTART;TZID=Australia/Sydney:20250516T100000
DTEND;TZID=Australia/Sydney:20250516T110000
DTSTAMP:20260420T085330
CREATED:20241113T223324Z
LAST-MODIFIED:20250405T031523Z
UID:4755-1747389600-1747393200@bellingenyouthorchestra.com.au
SUMMARY:2025 Schools Concert - Peter and the Wolf.
DESCRIPTION:Closed to the public. \nIf you are associated with a school and would like further information\, please email admin@bellingenyouthorchestra.com.au \nThis concert will highlight the remarkable talents of our young musicians\, with local schools from our community and beyond invited to join in this experience and discover the diverse instruments that make up an orchestra. \nThe concert repertoire is specifically chosen to children new to the experience of classical music. The BYO will play Sergei Prokofiev’s timeless masterpiece\, “Peter and the Wolf\,” to delight and enchant our audience as they follow Peter and his animal friends on their thrilling adventure. Deliberately interactive (including narration) this concert will spark imaginations and continue to inspire young people to travel creative paths in our community. \nSESSION TIMES – these will run for 60 minutes.  \n10 – 11am \n12 – 1pm
URL:https://bellingenyouthorchestra.com.au/event/2025-schools-concert/
LOCATION:NSW
CATEGORIES:Event,Musician Portal
ATTACH;FMTTYPE=image/jpeg:https://bellingenyouthorchestra.com.au/wp-content/uploads/2024/01/sc23.jpg
END:VEVENT
BEGIN:VEVENT
DTSTART;TZID=Australia/Sydney:20250515T160000
DTEND;TZID=Australia/Sydney:20250515T180000
DTSTAMP:20260420T085330
CREATED:20250209T062745Z
LAST-MODIFIED:20250614T084545Z
UID:5331-1747324800-1747332000@bellingenyouthorchestra.com.au
SUMMARY:BYO Rehearsal
DESCRIPTION:The BYO rehearse in the Bellingen High School Hall from 4pm.
URL:https://bellingenyouthorchestra.com.au/event/byo-rehearsal-2/2025-05-15/
LOCATION:Stockton Hall\, Bellingen High School\, Stockton Hall\, BHS\, 1125 Waterfall Way\, Bellingen\, NSW\, Australia
CATEGORIES:BYO,Musician Portal,Practice
END:VEVENT
BEGIN:VEVENT
DTSTART;TZID=Australia/Sydney:20250515T154500
DTEND;TZID=Australia/Sydney:20250515T170000
DTSTAMP:20260420T085330
CREATED:20250209T053943Z
LAST-MODIFIED:20250209T073958Z
UID:5251-1747323900-1747328400@bellingenyouthorchestra.com.au
SUMMARY:BYOWS Rehearsal
DESCRIPTION:The Bellingen Youth Orchestra Wind School rehearse from 3.45 pm in the Bellingen Highschool Music Rooms to 5pm\, followed by afternoon tea.
URL:https://bellingenyouthorchestra.com.au/event/byows-rehearsal-2/2025-05-15/
LOCATION:Bellingen High School Music Rooms
CATEGORIES:BYOWS,Musician Portal,Practice
END:VEVENT
BEGIN:VEVENT
DTSTART;TZID=Australia/Sydney:20250515T153000
DTEND;TZID=Australia/Sydney:20250515T170000
DTSTAMP:20260420T085330
CREATED:20250129T221051Z
LAST-MODIFIED:20250209T073549Z
UID:4918-1747323000-1747328400@bellingenyouthorchestra.com.au
SUMMARY:BYOSS Rehearsal
DESCRIPTION:The Bellingen Youth Orchestra String School rehearse from 3.30 pm in the Bellingen Highschool demountable to 5pm\, followed by afternoon tea.
URL:https://bellingenyouthorchestra.com.au/event/byoss-rehearsal/2025-05-15/
LOCATION:Bellingen Highschool Demountable\, 1125 Waterfall Way\,\, Bellingen\, NSW\, 2454
CATEGORIES:BYOSS,Musician Portal,Practice
END:VEVENT
BEGIN:VEVENT
DTSTART;TZID=Australia/Sydney:20250508T160000
DTEND;TZID=Australia/Sydney:20250508T180000
DTSTAMP:20260420T085330
CREATED:20250209T062745Z
LAST-MODIFIED:20250614T084544Z
UID:5330-1746720000-1746727200@bellingenyouthorchestra.com.au
SUMMARY:BYO Rehearsal
DESCRIPTION:The BYO rehearse in the Bellingen High School Hall from 4pm.
URL:https://bellingenyouthorchestra.com.au/event/byo-rehearsal-2/2025-05-08/
LOCATION:Stockton Hall\, Bellingen High School\, Stockton Hall\, BHS\, 1125 Waterfall Way\, Bellingen\, NSW\, Australia
CATEGORIES:BYO,Musician Portal,Practice
END:VEVENT
BEGIN:VEVENT
DTSTART;TZID=Australia/Sydney:20250508T154500
DTEND;TZID=Australia/Sydney:20250508T170000
DTSTAMP:20260420T085330
CREATED:20250209T053943Z
LAST-MODIFIED:20250209T073957Z
UID:5250-1746719100-1746723600@bellingenyouthorchestra.com.au
SUMMARY:BYOWS Rehearsal
DESCRIPTION:The Bellingen Youth Orchestra Wind School rehearse from 3.45 pm in the Bellingen Highschool Music Rooms to 5pm\, followed by afternoon tea.
URL:https://bellingenyouthorchestra.com.au/event/byows-rehearsal-2/2025-05-08/
LOCATION:Bellingen High School Music Rooms
CATEGORIES:BYOWS,Musician Portal,Practice
END:VEVENT
BEGIN:VEVENT
DTSTART;TZID=Australia/Sydney:20250508T153000
DTEND;TZID=Australia/Sydney:20250508T170000
DTSTAMP:20260420T085330
CREATED:20250129T221051Z
LAST-MODIFIED:20250209T073548Z
UID:4917-1746718200-1746723600@bellingenyouthorchestra.com.au
SUMMARY:BYOSS Rehearsal
DESCRIPTION:The Bellingen Youth Orchestra String School rehearse from 3.30 pm in the Bellingen Highschool demountable to 5pm\, followed by afternoon tea.
URL:https://bellingenyouthorchestra.com.au/event/byoss-rehearsal/2025-05-08/
LOCATION:Bellingen Highschool Demountable\, 1125 Waterfall Way\,\, Bellingen\, NSW\, 2454
CATEGORIES:BYOSS,Musician Portal,Practice
END:VEVENT
END:VCALENDAR