BEGIN:VCALENDAR
VERSION:2.0
PRODID:-//Bellingen Youth Orchestra - ECPv5.16.0//NONSGML v1.0//EN
CALSCALE:GREGORIAN
METHOD:PUBLISH
X-WR-CALNAME:Bellingen Youth Orchestra
X-ORIGINAL-URL:https://bellingenyouthorchestra.com.au
X-WR-CALDESC:Events for Bellingen Youth Orchestra
REFRESH-INTERVAL;VALUE=DURATION:PT1H
X-Robots-Tag:noindex
X-PUBLISHED-TTL:PT1H
BEGIN:VTIMEZONE
TZID:Australia/Sydney
BEGIN:STANDARD
TZOFFSETFROM:+1100
TZOFFSETTO:+1000
TZNAME:AEST
DTSTART:20230401T160000
END:STANDARD
BEGIN:DAYLIGHT
TZOFFSETFROM:+1000
TZOFFSETTO:+1100
TZNAME:AEDT
DTSTART:20230930T160000
END:DAYLIGHT
BEGIN:STANDARD
TZOFFSETFROM:+1100
TZOFFSETTO:+1000
TZNAME:AEST
DTSTART:20240406T160000
END:STANDARD
BEGIN:DAYLIGHT
TZOFFSETFROM:+1000
TZOFFSETTO:+1100
TZNAME:AEDT
DTSTART:20241005T160000
END:DAYLIGHT
END:VTIMEZONE
BEGIN:VEVENT
DTSTART;TZID=Australia/Sydney:20240603T170000
DTEND;TZID=Australia/Sydney:20240603T203000
DTSTAMP:20260421T114723
CREATED:20231218T221557Z
LAST-MODIFIED:20231218T221558Z
UID:4175-1717434000-1717446600@bellingenyouthorchestra.com.au
SUMMARY:COMPASS MUSIC FESTIVAL
DESCRIPTION:The NSW Department of Education presents a combined public schools performance at Wiigulga Sports Complex. The concert features a combined secondary choir\, primary choir\, primary string ensemble and combined recorder ensemble that will join forces with the Bellingen Youth Orchestra.
URL:https://bellingenyouthorchestra.com.au/event/compass-music-festival-3/
CATEGORIES:BYO,Event
ATTACH;FMTTYPE=image/jpeg:https://bellingenyouthorchestra.com.au/wp-content/uploads/2022/12/compass.jpg
END:VEVENT
BEGIN:VEVENT
DTSTART;TZID=Australia/Sydney:20240603T160000
DTEND;TZID=Australia/Sydney:20240603T180000
DTSTAMP:20260421T114723
CREATED:20231218T220459Z
LAST-MODIFIED:20231222T013604Z
UID:4140-1717430400-1717437600@bellingenyouthorchestra.com.au
SUMMARY:2024 Sinfonia
DESCRIPTION:
URL:https://bellingenyouthorchestra.com.au/event/2024-sinfonia/2024-06-03/
CATEGORIES:Sinfonia Practice
END:VEVENT
BEGIN:VEVENT
DTSTART;TZID=Australia/Sydney:20240530T154500
DTEND;TZID=Australia/Sydney:20240530T183000
DTSTAMP:20260421T114723
CREATED:20210804T235001Z
LAST-MODIFIED:20240208T083751Z
UID:3991-1717083900-1717093800@bellingenyouthorchestra.com.au
SUMMARY:BYOSS Rehearsal
DESCRIPTION:Our Bellingen Youth Orchestra String School rehearse in the Bellingen High School Library. \nIt is best to park at the back of the school for pick up and drop offs. \nAfternoon tea is provided.
URL:https://bellingenyouthorchestra.com.au/event/byoss-2023-11-30/2024-05-30/
CATEGORIES:BYOSS,Musician Portal,Practice
END:VEVENT
BEGIN:VEVENT
DTSTART;TZID=Australia/Sydney:20240530T153000
DTEND;TZID=Australia/Sydney:20240530T170000
DTSTAMP:20260421T114723
CREATED:20231218T215414Z
LAST-MODIFIED:20240207T084524Z
UID:4083-1717083000-1717088400@bellingenyouthorchestra.com.au
SUMMARY:BYOWS Rehearsal
DESCRIPTION:Our new ensemble the Bellingen Youth Orchestra Wind School will begin rehearsals in 2024. This ensemble will run at the same time as BYOSS and afternoon tea will also be provided. The ensemble will meet in the BHS Music rooms at 3.30pm for set up and a 3.45pm start.
URL:https://bellingenyouthorchestra.com.au/event/byows-rehearsal/2024-05-30/
CATEGORIES:BYOWS,Musician Portal
END:VEVENT
BEGIN:VEVENT
DTSTART;TZID=Australia/Sydney:20240527T160000
DTEND;TZID=Australia/Sydney:20240527T180000
DTSTAMP:20260421T114723
CREATED:20231218T220459Z
LAST-MODIFIED:20231222T013604Z
UID:4139-1716825600-1716832800@bellingenyouthorchestra.com.au
SUMMARY:2024 Sinfonia
DESCRIPTION:
URL:https://bellingenyouthorchestra.com.au/event/2024-sinfonia/2024-05-27/
CATEGORIES:Sinfonia Practice
END:VEVENT
BEGIN:VEVENT
DTSTART;TZID=Australia/Sydney:20240523T154500
DTEND;TZID=Australia/Sydney:20240523T183000
DTSTAMP:20260421T114723
CREATED:20210804T235001Z
LAST-MODIFIED:20240208T083751Z
UID:3990-1716479100-1716489000@bellingenyouthorchestra.com.au
SUMMARY:BYOSS Rehearsal
DESCRIPTION:Our Bellingen Youth Orchestra String School rehearse in the Bellingen High School Library. \nIt is best to park at the back of the school for pick up and drop offs. \nAfternoon tea is provided.
URL:https://bellingenyouthorchestra.com.au/event/byoss-2023-11-30/2024-05-23/
CATEGORIES:BYOSS,Musician Portal,Practice
END:VEVENT
BEGIN:VEVENT
DTSTART;TZID=Australia/Sydney:20240523T153000
DTEND;TZID=Australia/Sydney:20240523T170000
DTSTAMP:20260421T114723
CREATED:20231218T215414Z
LAST-MODIFIED:20240207T084524Z
UID:4082-1716478200-1716483600@bellingenyouthorchestra.com.au
SUMMARY:BYOWS Rehearsal
DESCRIPTION:Our new ensemble the Bellingen Youth Orchestra Wind School will begin rehearsals in 2024. This ensemble will run at the same time as BYOSS and afternoon tea will also be provided. The ensemble will meet in the BHS Music rooms at 3.30pm for set up and a 3.45pm start.
URL:https://bellingenyouthorchestra.com.au/event/byows-rehearsal/2024-05-23/
CATEGORIES:BYOWS,Musician Portal
END:VEVENT
BEGIN:VEVENT
DTSTART;TZID=Australia/Sydney:20240521T183000
DTEND;TZID=Australia/Sydney:20240521T183000
DTSTAMP:20260421T114723
CREATED:20231218T224333Z
LAST-MODIFIED:20231218T224333Z
UID:4571-1716316200-1716316200@bellingenyouthorchestra.com.au
SUMMARY:Operational Meetings 2024
DESCRIPTION:
URL:https://bellingenyouthorchestra.com.au/event/operational-meetings-2024/2024-05-21/
CATEGORIES:BYO Operational Meeting
END:VEVENT
BEGIN:VEVENT
DTSTART;TZID=Australia/Sydney:20240520T160000
DTEND;TZID=Australia/Sydney:20240520T180000
DTSTAMP:20260421T114723
CREATED:20231218T220459Z
LAST-MODIFIED:20231222T013604Z
UID:4138-1716220800-1716228000@bellingenyouthorchestra.com.au
SUMMARY:2024 Sinfonia
DESCRIPTION:
URL:https://bellingenyouthorchestra.com.au/event/2024-sinfonia/2024-05-20/
CATEGORIES:Sinfonia Practice
END:VEVENT
BEGIN:VEVENT
DTSTART;TZID=Australia/Sydney:20240516T154500
DTEND;TZID=Australia/Sydney:20240516T183000
DTSTAMP:20260421T114723
CREATED:20210804T235001Z
LAST-MODIFIED:20240208T083751Z
UID:3989-1715874300-1715884200@bellingenyouthorchestra.com.au
SUMMARY:BYOSS Rehearsal
DESCRIPTION:Our Bellingen Youth Orchestra String School rehearse in the Bellingen High School Library. \nIt is best to park at the back of the school for pick up and drop offs. \nAfternoon tea is provided.
URL:https://bellingenyouthorchestra.com.au/event/byoss-2023-11-30/2024-05-16/
CATEGORIES:BYOSS,Musician Portal,Practice
END:VEVENT
BEGIN:VEVENT
DTSTART;TZID=Australia/Sydney:20240516T153000
DTEND;TZID=Australia/Sydney:20240516T170000
DTSTAMP:20260421T114723
CREATED:20231218T215414Z
LAST-MODIFIED:20240207T084524Z
UID:4081-1715873400-1715878800@bellingenyouthorchestra.com.au
SUMMARY:BYOWS Rehearsal
DESCRIPTION:Our new ensemble the Bellingen Youth Orchestra Wind School will begin rehearsals in 2024. This ensemble will run at the same time as BYOSS and afternoon tea will also be provided. The ensemble will meet in the BHS Music rooms at 3.30pm for set up and a 3.45pm start.
URL:https://bellingenyouthorchestra.com.au/event/byows-rehearsal/2024-05-16/
CATEGORIES:BYOWS,Musician Portal
END:VEVENT
BEGIN:VEVENT
DTSTART;TZID=Australia/Sydney:20240513T160000
DTEND;TZID=Australia/Sydney:20240513T180000
DTSTAMP:20260421T114723
CREATED:20231218T220459Z
LAST-MODIFIED:20231222T013603Z
UID:4137-1715616000-1715623200@bellingenyouthorchestra.com.au
SUMMARY:2024 Sinfonia
DESCRIPTION:
URL:https://bellingenyouthorchestra.com.au/event/2024-sinfonia/2024-05-13/
CATEGORIES:Sinfonia Practice
END:VEVENT
BEGIN:VEVENT
DTSTART;TZID=Australia/Sydney:20240509T154500
DTEND;TZID=Australia/Sydney:20240509T183000
DTSTAMP:20260421T114723
CREATED:20210804T235001Z
LAST-MODIFIED:20240208T083751Z
UID:3988-1715269500-1715279400@bellingenyouthorchestra.com.au
SUMMARY:BYOSS Rehearsal
DESCRIPTION:Our Bellingen Youth Orchestra String School rehearse in the Bellingen High School Library. \nIt is best to park at the back of the school for pick up and drop offs. \nAfternoon tea is provided.
URL:https://bellingenyouthorchestra.com.au/event/byoss-2023-11-30/2024-05-09/
CATEGORIES:BYOSS,Musician Portal,Practice
END:VEVENT
BEGIN:VEVENT
DTSTART;TZID=Australia/Sydney:20240509T153000
DTEND;TZID=Australia/Sydney:20240509T170000
DTSTAMP:20260421T114723
CREATED:20231218T215414Z
LAST-MODIFIED:20240207T084524Z
UID:4080-1715268600-1715274000@bellingenyouthorchestra.com.au
SUMMARY:BYOWS Rehearsal
DESCRIPTION:Our new ensemble the Bellingen Youth Orchestra Wind School will begin rehearsals in 2024. This ensemble will run at the same time as BYOSS and afternoon tea will also be provided. The ensemble will meet in the BHS Music rooms at 3.30pm for set up and a 3.45pm start.
URL:https://bellingenyouthorchestra.com.au/event/byows-rehearsal/2024-05-09/
CATEGORIES:BYOWS,Musician Portal
END:VEVENT
BEGIN:VEVENT
DTSTART;TZID=Australia/Sydney:20240507T183000
DTEND;TZID=Australia/Sydney:20240507T183000
DTSTAMP:20260421T114723
CREATED:20231218T224333Z
LAST-MODIFIED:20240422T013614Z
UID:4199-1715106600-1715106600@bellingenyouthorchestra.com.au
SUMMARY:Operational Meetings 2024
DESCRIPTION:
URL:https://bellingenyouthorchestra.com.au/event/operational-meetings-2024/2024-05-07/
CATEGORIES:BYO Operational Meeting
END:VEVENT
BEGIN:VEVENT
DTSTART;TZID=Australia/Sydney:20240506T160000
DTEND;TZID=Australia/Sydney:20240506T180000
DTSTAMP:20260421T114723
CREATED:20231218T220459Z
LAST-MODIFIED:20231222T013603Z
UID:4136-1715011200-1715018400@bellingenyouthorchestra.com.au
SUMMARY:2024 Sinfonia
DESCRIPTION:
URL:https://bellingenyouthorchestra.com.au/event/2024-sinfonia/2024-05-06/
CATEGORIES:Sinfonia Practice
END:VEVENT
BEGIN:VEVENT
DTSTART;TZID=Australia/Sydney:20240504T114500
DTEND;TZID=Australia/Sydney:20240504T123000
DTSTAMP:20260421T114723
CREATED:20231218T221030Z
LAST-MODIFIED:20240326T055841Z
UID:4171-1714823100-1714825800@bellingenyouthorchestra.com.au
SUMMARY:BYOSS at SHOW 2024
DESCRIPTION:We are delighted to annouce that once again BYOSS will be taken on tour. BYOSS will tour to the Bellingen Show\, performing at the ‘Sustainable Bellingen Tent’. This is a free event and is open to all those patrons attending the Bellingen Show. \nBYOSS will perform from 12 – 12.30pm.
URL:https://bellingenyouthorchestra.com.au/event/byoss-on-tour-2024/
CATEGORIES:BYOSS,Event
ATTACH;FMTTYPE=image/jpeg:https://bellingenyouthorchestra.com.au/wp-content/uploads/2023/12/rfbi-14may-1023558-scaled.jpg
END:VEVENT
BEGIN:VEVENT
DTSTART;TZID=Australia/Sydney:20240502T154500
DTEND;TZID=Australia/Sydney:20240502T183000
DTSTAMP:20260421T114723
CREATED:20210804T235001Z
LAST-MODIFIED:20240208T083747Z
UID:3987-1714664700-1714674600@bellingenyouthorchestra.com.au
SUMMARY:BYOSS Rehearsal
DESCRIPTION:Our Bellingen Youth Orchestra String School rehearse in the Bellingen High School Library. \nIt is best to park at the back of the school for pick up and drop offs. \nAfternoon tea is provided.
URL:https://bellingenyouthorchestra.com.au/event/byoss-2023-11-30/2024-05-02/
CATEGORIES:BYOSS,Musician Portal,Practice
END:VEVENT
BEGIN:VEVENT
DTSTART;TZID=Australia/Sydney:20240502T153000
DTEND;TZID=Australia/Sydney:20240502T170000
DTSTAMP:20260421T114723
CREATED:20231218T215414Z
LAST-MODIFIED:20240207T084520Z
UID:4079-1714663800-1714669200@bellingenyouthorchestra.com.au
SUMMARY:BYOWS Rehearsal
DESCRIPTION:Our new ensemble the Bellingen Youth Orchestra Wind School will begin rehearsals in 2024. This ensemble will run at the same time as BYOSS and afternoon tea will also be provided. The ensemble will meet in the BHS Music rooms at 3.30pm for set up and a 3.45pm start.
URL:https://bellingenyouthorchestra.com.au/event/byows-rehearsal/2024-05-02/
CATEGORIES:BYOWS,Musician Portal
END:VEVENT
BEGIN:VEVENT
DTSTART;TZID=Australia/Sydney:20240429T160000
DTEND;TZID=Australia/Sydney:20240429T180000
DTSTAMP:20260421T114723
CREATED:20231218T220459Z
LAST-MODIFIED:20231222T013603Z
UID:4135-1714406400-1714413600@bellingenyouthorchestra.com.au
SUMMARY:2024 Sinfonia
DESCRIPTION:
URL:https://bellingenyouthorchestra.com.au/event/2024-sinfonia/2024-04-29/
CATEGORIES:Sinfonia Practice
END:VEVENT
BEGIN:VEVENT
DTSTART;TZID=Australia/Sydney:20240415T080000
DTEND;TZID=Australia/Sydney:20240426T170000
DTSTAMP:20260421T114723
CREATED:20231222T003631Z
LAST-MODIFIED:20231222T003633Z
UID:4223-1713168000-1714150800@bellingenyouthorchestra.com.au
SUMMARY:Autumn School Holidays
DESCRIPTION:
URL:https://bellingenyouthorchestra.com.au/event/autumn-school-holidays/
CATEGORIES:Musician Portal,School Holidays
END:VEVENT
BEGIN:VEVENT
DTSTART;TZID=Australia/Sydney:20240405T160000
DTEND;TZID=Australia/Sydney:20240407T170000
DTSTAMP:20260421T114723
CREATED:20230813T072355Z
LAST-MODIFIED:20231218T214038Z
UID:3774-1712332800-1712509200@bellingenyouthorchestra.com.au
SUMMARY:BYO 2024 Camp - Players Only.
DESCRIPTION:Bellingen Youth Orchestra are delighted to announce that we have successfully secured a grant that has enabled us to move forward with our 2024 BYO Player CAMP. We are excited about providing a weekend of musical mentoring\, opportunities for developing further friendships within the BYO community and working with visiting musicians.
URL:https://bellingenyouthorchestra.com.au/event/bellingen-2024-camp-players-only/
LOCATION:Coffs Coast Adventure Center
CATEGORIES:BYO Camp,Musician Portal
ATTACH;FMTTYPE=image/jpeg:https://bellingenyouthorchestra.com.au/wp-content/uploads/2022/06/camp-1.jpg
END:VEVENT
BEGIN:VEVENT
DTSTART;TZID=Australia/Sydney:20240308T170000
DTEND;TZID=Australia/Sydney:20240308T190000
DTSTAMP:20260421T114723
CREATED:20240105T070728Z
LAST-MODIFIED:20240207T084846Z
UID:4463-1709917200-1709924400@bellingenyouthorchestra.com.au
SUMMARY:Senior Scholarship 2024 Round
DESCRIPTION:Our BYO Senior Scholarships provide students with an opportunity to showcase their own individual unique skill set and playing styles. This event is by donation and is open to the public. All donations received will go towards the scholarship winners. Should you like to contribute to this initiative\, please email admin@bellingenyouthorchestra.com.au or make a donation via our website.  \nFinalists are to present 2 contrasting pieces or 1 piece with contrasting sections (max 7 minutes total performance time). Performances will be judged on polish\, technical proficiency in the pieces\, tone & musicality. If finalists are proficient in more than one instrument\, they are free to perform on more than one.  Scholarships are decided by at least two adjudicators nominated by the BYO Committee. The adjudicators will be chosen based on their specific area of expertise in musical performance or education in relation to specific scholarship rounds. Every care is taken to ensure that adjudicators do not have a conflict of interest in awarding scholarships. Scholarships are announced as soon as is practicable after all applications have been considered. \nBELLINGEN HIGH SCHOOL MUSIC ROOMS. EVENT CLOSED TO THE PUBLIC DUE TO SPACE. BYO FAMILIES ONLY. 
URL:https://bellingenyouthorchestra.com.au/event/senior-scholarship-2024-round/
CATEGORIES:Event,Musician Portal
ATTACH;FMTTYPE=image/jpeg:https://bellingenyouthorchestra.com.au/wp-content/uploads/2023/03/dash-1-e1678588402855.jpg
END:VEVENT
BEGIN:VEVENT
DTSTART;TZID=Australia/Sydney:20240308T170000
DTEND;TZID=Australia/Sydney:20240308T190000
DTSTAMP:20260421T114723
CREATED:20231218T220750Z
LAST-MODIFIED:20231218T220752Z
UID:4169-1709917200-1709924400@bellingenyouthorchestra.com.au
SUMMARY:2024 Senior Scholarship Performance
DESCRIPTION:More details to come soon.
URL:https://bellingenyouthorchestra.com.au/event/2024-senior-scholarship-performance/
CATEGORIES:Musician Portal
END:VEVENT
BEGIN:VEVENT
DTSTART;TZID=Australia/Sydney:20240212T160000
DTEND;TZID=Australia/Sydney:20240212T180000
DTSTAMP:20260421T114723
CREATED:20231218T220459Z
LAST-MODIFIED:20231222T013553Z
UID:4123-1707753600-1707760800@bellingenyouthorchestra.com.au
SUMMARY:2024 Sinfonia
DESCRIPTION:
URL:https://bellingenyouthorchestra.com.au/event/2024-sinfonia/2024-02-12/
CATEGORIES:Sinfonia Practice
END:VEVENT
BEGIN:VEVENT
DTSTART;TZID=Australia/Sydney:20240208T153000
DTEND;TZID=Australia/Sydney:20240208T170000
DTSTAMP:20260421T114723
CREATED:20231218T215414Z
LAST-MODIFIED:20240207T084508Z
UID:4021-1707406200-1707411600@bellingenyouthorchestra.com.au
SUMMARY:BYOWS Rehearsal
DESCRIPTION:Our new ensemble the Bellingen Youth Orchestra Wind School will begin rehearsals in 2024. This ensemble will run at the same time as BYOSS and afternoon tea will also be provided. The ensemble will meet in the BHS Music rooms at 3.30pm for set up and a 3.45pm start.
URL:https://bellingenyouthorchestra.com.au/event/byows-rehearsal/2024-02-08/
CATEGORIES:BYOWS,Musician Portal
END:VEVENT
BEGIN:VEVENT
DTSTART;TZID=Australia/Sydney:20240208T153000
DTEND;TZID=Australia/Sydney:20240208T170000
DTSTAMP:20260421T114723
CREATED:20210804T235001Z
LAST-MODIFIED:20240208T084739Z
UID:3821-1707406200-1707411600@bellingenyouthorchestra.com.au
SUMMARY:BYOSS Rehearsal
DESCRIPTION:Our Bellingen Youth Orchestra String School rehearse in the Bellingen High School Library. \nIt is best to park at the back of the school for pick up and drop offs. \nAfternoon tea is provided.
URL:https://bellingenyouthorchestra.com.au/event/byoss-2023-11-30/2024-02-08/
CATEGORIES:BYOSS,Musician Portal,Practice
END:VEVENT
BEGIN:VEVENT
DTSTART;TZID=Australia/Sydney:20231220T000000
DTEND;TZID=Australia/Sydney:20240203T000000
DTSTAMP:20260421T114723
CREATED:20230128T020451Z
LAST-MODIFIED:20230128T020647Z
UID:3283-1703030400-1706918400@bellingenyouthorchestra.com.au
SUMMARY:Christmas Holidays
DESCRIPTION:
URL:https://bellingenyouthorchestra.com.au/event/christmas-holidays/
CATEGORIES:School Holidays
END:VEVENT
BEGIN:VEVENT
DTSTART;TZID=Australia/Sydney:20231218T170000
DTEND;TZID=Australia/Sydney:20231218T203000
DTSTAMP:20260421T114723
CREATED:20231101T085431Z
LAST-MODIFIED:20231128T202517Z
UID:3909-1702918800-1702931400@bellingenyouthorchestra.com.au
SUMMARY:Strategic Planning Meeting
DESCRIPTION:The Bellingen Youth Orchestra committee will be meeting to discuss the BYO’s 2024 playing calendar and specific strategic planning for 2024.
URL:https://bellingenyouthorchestra.com.au/event/strategic-planning-meeting-2/
CATEGORIES:BYO committee meeting,Musician Portal
END:VEVENT
BEGIN:VEVENT
DTSTART;TZID=Australia/Sydney:20231207T110000
DTEND;TZID=Australia/Sydney:20231207T120000
DTSTAMP:20260421T114723
CREATED:20221222T090255Z
LAST-MODIFIED:20231018T060437Z
UID:3215-1701946800-1701950400@bellingenyouthorchestra.com.au
SUMMARY:2023 Schools Concert
DESCRIPTION:NOT OPEN TO THE PUBLIC. INVITED SCHOOLS ONLY. \nThe Bellingen Youth Orchestra are pleased to present our BYO annual schools concert. \nBased on the success of the 2022 Schools Concert\, our proposed 2023 ‘Magic of Music’ event will provide students from our catchment area with the prospect to further familiarise themselves with an orchestral experience and the myriad of positive rewards it provides. We will bring up to 700 (based on last year’s success) identified young people from 15 regional schools – extending to Dorrigo\, Bonville\, Bowraville and Eungai\, to engage with the youth orchestra for two days (4 sessions) of interactive\, fun and engaging music. Students will experience an instrument walk through\, dance and meet the young musicians and tutors\, some of whom are world-class performers. The experience aims to continue to build an interest in and love of music\, encourage playing a musical instrument\, inspire music in schools\, build connections resulting in positive social and emotional experiences\, and promote a culture of successful youth and community development in the Bellingen Shire.
URL:https://bellingenyouthorchestra.com.au/event/2023-schools-concert/2023-12-07/
CATEGORIES:Event,Musician Portal
ATTACH;FMTTYPE=image/jpeg:https://bellingenyouthorchestra.com.au/wp-content/uploads/2022/12/schools-concert.jpg
END:VEVENT
END:VCALENDAR