BEGIN:VCALENDAR
VERSION:2.0
PRODID:-//Bellingen Youth Orchestra - ECPv5.16.0//NONSGML v1.0//EN
CALSCALE:GREGORIAN
METHOD:PUBLISH
X-WR-CALNAME:Bellingen Youth Orchestra
X-ORIGINAL-URL:https://bellingenyouthorchestra.com.au
X-WR-CALDESC:Events for Bellingen Youth Orchestra
REFRESH-INTERVAL;VALUE=DURATION:PT1H
X-Robots-Tag:noindex
X-PUBLISHED-TTL:PT1H
BEGIN:VTIMEZONE
TZID:Australia/Sydney
BEGIN:STANDARD
TZOFFSETFROM:+1100
TZOFFSETTO:+1000
TZNAME:AEST
DTSTART:20240406T160000
END:STANDARD
BEGIN:DAYLIGHT
TZOFFSETFROM:+1000
TZOFFSETTO:+1100
TZNAME:AEDT
DTSTART:20241005T160000
END:DAYLIGHT
END:VTIMEZONE
BEGIN:VEVENT
DTSTART;TZID=Australia/Sydney:20241110T130000
DTEND;TZID=Australia/Sydney:20241110T140000
DTSTAMP:20260421T022402
CREATED:20240509T012015Z
LAST-MODIFIED:20241007T050214Z
UID:4594-1731243600-1731247200@bellingenyouthorchestra.com.au
SUMMARY:Peter and the Wolf: Orchestral Magic for Young Hearts.
DESCRIPTION:With thanks to the Bellingen Shire Council\, this event will be a free family concert designed to introduce young audiences sights and sounds of a classical orchestra. The concert repertoire is specifically chosen to engage families and young children new to the experience of classical music. The BYO will play Sergei Prokofiev’s timeless masterpiece\, “Peter and the Wolf\,” to delight and enchant our audience as they follow Peter and his animal friends on their thrilling adventure. Deliberately interactive (including narration) this concert will spark imaginations and continue to inspire young people to travel creative paths in our community. The concert will be repeated over two matinees to enable smaller audiences to feel closer engage with the sounds and experiences of the whole orchestra. \nTICKET LINK HERE
URL:https://bellingenyouthorchestra.com.au/event/peter-and-the-wolf-orchestral-magic-for-young-hearts/2024-11-10/
LOCATION:NSW
CATEGORIES:BYO,Event
ATTACH;FMTTYPE=image/jpeg:https://bellingenyouthorchestra.com.au/wp-content/uploads/2024/10/Peter-Image-.jpeg
END:VEVENT
BEGIN:VEVENT
DTSTART;TZID=Australia/Sydney:20241107T154500
DTEND;TZID=Australia/Sydney:20241107T183000
DTSTAMP:20260421T022402
CREATED:20210804T235001Z
LAST-MODIFIED:20240208T083756Z
UID:4014-1730994300-1731004200@bellingenyouthorchestra.com.au
SUMMARY:BYOSS Rehearsal
DESCRIPTION:Our Bellingen Youth Orchestra String School rehearse in the Bellingen High School Library. \nIt is best to park at the back of the school for pick up and drop offs. \nAfternoon tea is provided.
URL:https://bellingenyouthorchestra.com.au/event/byoss-2023-11-30/2024-11-07/
LOCATION:NSW
CATEGORIES:BYOSS,Musician Portal,Practice
END:VEVENT
BEGIN:VEVENT
DTSTART;TZID=Australia/Sydney:20241107T153000
DTEND;TZID=Australia/Sydney:20241107T170000
DTSTAMP:20260421T022402
CREATED:20231218T215414Z
LAST-MODIFIED:20240207T084458Z
UID:4106-1730993400-1730998800@bellingenyouthorchestra.com.au
SUMMARY:BYOWS Rehearsal
DESCRIPTION:Our new ensemble the Bellingen Youth Orchestra Wind School will begin rehearsals in 2024. This ensemble will run at the same time as BYOSS and afternoon tea will also be provided. The ensemble will meet in the BHS Music rooms at 3.30pm for set up and a 3.45pm start.
URL:https://bellingenyouthorchestra.com.au/event/byows-rehearsal/2024-11-07/
LOCATION:NSW
CATEGORIES:BYOWS,Musician Portal
END:VEVENT
BEGIN:VEVENT
DTSTART;TZID=Australia/Sydney:20241105T183000
DTEND;TZID=Australia/Sydney:20241105T183000
DTSTAMP:20260421T022402
CREATED:20231218T224333Z
LAST-MODIFIED:20231218T224333Z
UID:4583-1730831400-1730831400@bellingenyouthorchestra.com.au
SUMMARY:Operational Meetings 2024
DESCRIPTION:
URL:https://bellingenyouthorchestra.com.au/event/operational-meetings-2024/2024-11-05/
LOCATION:NSW
CATEGORIES:BYO Operational Meeting
END:VEVENT
BEGIN:VEVENT
DTSTART;TZID=Australia/Sydney:20241104T160000
DTEND;TZID=Australia/Sydney:20241104T180000
DTSTAMP:20260421T022402
CREATED:20231218T220459Z
LAST-MODIFIED:20231218T220459Z
UID:4162-1730736000-1730743200@bellingenyouthorchestra.com.au
SUMMARY:2024 Sinfonia
DESCRIPTION:
URL:https://bellingenyouthorchestra.com.au/event/2024-sinfonia/2024-11-04/
LOCATION:NSW
CATEGORIES:Sinfonia Practice
END:VEVENT
BEGIN:VEVENT
DTSTART;TZID=Australia/Sydney:20241031T154500
DTEND;TZID=Australia/Sydney:20241031T183000
DTSTAMP:20260421T022402
CREATED:20210804T235001Z
LAST-MODIFIED:20240208T083755Z
UID:4013-1730389500-1730399400@bellingenyouthorchestra.com.au
SUMMARY:BYOSS Rehearsal
DESCRIPTION:Our Bellingen Youth Orchestra String School rehearse in the Bellingen High School Library. \nIt is best to park at the back of the school for pick up and drop offs. \nAfternoon tea is provided.
URL:https://bellingenyouthorchestra.com.au/event/byoss-2023-11-30/2024-10-31/
LOCATION:NSW
CATEGORIES:BYOSS,Musician Portal,Practice
END:VEVENT
BEGIN:VEVENT
DTSTART;TZID=Australia/Sydney:20241031T153000
DTEND;TZID=Australia/Sydney:20241031T170000
DTSTAMP:20260421T022402
CREATED:20231218T215414Z
LAST-MODIFIED:20240207T084457Z
UID:4105-1730388600-1730394000@bellingenyouthorchestra.com.au
SUMMARY:BYOWS Rehearsal
DESCRIPTION:Our new ensemble the Bellingen Youth Orchestra Wind School will begin rehearsals in 2024. This ensemble will run at the same time as BYOSS and afternoon tea will also be provided. The ensemble will meet in the BHS Music rooms at 3.30pm for set up and a 3.45pm start.
URL:https://bellingenyouthorchestra.com.au/event/byows-rehearsal/2024-10-31/
LOCATION:NSW
CATEGORIES:BYOWS,Musician Portal
END:VEVENT
BEGIN:VEVENT
DTSTART;TZID=Australia/Sydney:20241028T160000
DTEND;TZID=Australia/Sydney:20241028T180000
DTSTAMP:20260421T022402
CREATED:20231218T220459Z
LAST-MODIFIED:20231218T220459Z
UID:4161-1730131200-1730138400@bellingenyouthorchestra.com.au
SUMMARY:2024 Sinfonia
DESCRIPTION:
URL:https://bellingenyouthorchestra.com.au/event/2024-sinfonia/2024-10-28/
LOCATION:NSW
CATEGORIES:Sinfonia Practice
END:VEVENT
BEGIN:VEVENT
DTSTART;TZID=Australia/Sydney:20241024T154500
DTEND;TZID=Australia/Sydney:20241024T183000
DTSTAMP:20260421T022402
CREATED:20210804T235001Z
LAST-MODIFIED:20240208T083755Z
UID:4012-1729784700-1729794600@bellingenyouthorchestra.com.au
SUMMARY:BYOSS Rehearsal
DESCRIPTION:Our Bellingen Youth Orchestra String School rehearse in the Bellingen High School Library. \nIt is best to park at the back of the school for pick up and drop offs. \nAfternoon tea is provided.
URL:https://bellingenyouthorchestra.com.au/event/byoss-2023-11-30/2024-10-24/
LOCATION:NSW
CATEGORIES:BYOSS,Musician Portal,Practice
END:VEVENT
BEGIN:VEVENT
DTSTART;TZID=Australia/Sydney:20241024T153000
DTEND;TZID=Australia/Sydney:20241024T170000
DTSTAMP:20260421T022402
CREATED:20231218T215414Z
LAST-MODIFIED:20240207T084457Z
UID:4104-1729783800-1729789200@bellingenyouthorchestra.com.au
SUMMARY:BYOWS Rehearsal
DESCRIPTION:Our new ensemble the Bellingen Youth Orchestra Wind School will begin rehearsals in 2024. This ensemble will run at the same time as BYOSS and afternoon tea will also be provided. The ensemble will meet in the BHS Music rooms at 3.30pm for set up and a 3.45pm start.
URL:https://bellingenyouthorchestra.com.au/event/byows-rehearsal/2024-10-24/
LOCATION:NSW
CATEGORIES:BYOWS,Musician Portal
END:VEVENT
BEGIN:VEVENT
DTSTART;TZID=Australia/Sydney:20241022T183000
DTEND;TZID=Australia/Sydney:20241022T183000
DTSTAMP:20260421T022402
CREATED:20231218T224333Z
LAST-MODIFIED:20231218T224333Z
UID:4582-1729621800-1729621800@bellingenyouthorchestra.com.au
SUMMARY:Operational Meetings 2024
DESCRIPTION:
URL:https://bellingenyouthorchestra.com.au/event/operational-meetings-2024/2024-10-22/
LOCATION:NSW
CATEGORIES:BYO Operational Meeting
END:VEVENT
BEGIN:VEVENT
DTSTART;TZID=Australia/Sydney:20241021T160000
DTEND;TZID=Australia/Sydney:20241021T180000
DTSTAMP:20260421T022402
CREATED:20231218T220459Z
LAST-MODIFIED:20231218T220459Z
UID:4160-1729526400-1729533600@bellingenyouthorchestra.com.au
SUMMARY:2024 Sinfonia
DESCRIPTION:
URL:https://bellingenyouthorchestra.com.au/event/2024-sinfonia/2024-10-21/
LOCATION:NSW
CATEGORIES:Sinfonia Practice
END:VEVENT
BEGIN:VEVENT
DTSTART;TZID=Australia/Sydney:20241017T154500
DTEND;TZID=Australia/Sydney:20241017T183000
DTSTAMP:20260421T022402
CREATED:20210804T235001Z
LAST-MODIFIED:20240208T083754Z
UID:4011-1729179900-1729189800@bellingenyouthorchestra.com.au
SUMMARY:BYOSS Rehearsal
DESCRIPTION:Our Bellingen Youth Orchestra String School rehearse in the Bellingen High School Library. \nIt is best to park at the back of the school for pick up and drop offs. \nAfternoon tea is provided.
URL:https://bellingenyouthorchestra.com.au/event/byoss-2023-11-30/2024-10-17/
LOCATION:NSW
CATEGORIES:BYOSS,Musician Portal,Practice
END:VEVENT
BEGIN:VEVENT
DTSTART;TZID=Australia/Sydney:20241017T153000
DTEND;TZID=Australia/Sydney:20241017T170000
DTSTAMP:20260421T022402
CREATED:20231218T215414Z
LAST-MODIFIED:20240207T084457Z
UID:4103-1729179000-1729184400@bellingenyouthorchestra.com.au
SUMMARY:BYOWS Rehearsal
DESCRIPTION:Our new ensemble the Bellingen Youth Orchestra Wind School will begin rehearsals in 2024. This ensemble will run at the same time as BYOSS and afternoon tea will also be provided. The ensemble will meet in the BHS Music rooms at 3.30pm for set up and a 3.45pm start.
URL:https://bellingenyouthorchestra.com.au/event/byows-rehearsal/2024-10-17/
LOCATION:NSW
CATEGORIES:BYOWS,Musician Portal
END:VEVENT
BEGIN:VEVENT
DTSTART;TZID=Australia/Sydney:20241014T160000
DTEND;TZID=Australia/Sydney:20241014T180000
DTSTAMP:20260421T022402
CREATED:20231218T220459Z
LAST-MODIFIED:20231218T220459Z
UID:4159-1728921600-1728928800@bellingenyouthorchestra.com.au
SUMMARY:2024 Sinfonia
DESCRIPTION:
URL:https://bellingenyouthorchestra.com.au/event/2024-sinfonia/2024-10-14/
LOCATION:NSW
CATEGORIES:Sinfonia Practice
END:VEVENT
BEGIN:VEVENT
DTSTART;TZID=Australia/Sydney:20240930T000000
DTEND;TZID=Australia/Sydney:20241011T000000
DTSTAMP:20260421T022402
CREATED:20231222T003918Z
LAST-MODIFIED:20231222T003920Z
UID:4227-1727654400-1728604800@bellingenyouthorchestra.com.au
SUMMARY:Spring School Holidays
DESCRIPTION:
URL:https://bellingenyouthorchestra.com.au/event/spring-school-holidays/
LOCATION:NSW
CATEGORIES:Musician Portal,School Holidays
END:VEVENT
BEGIN:VEVENT
DTSTART;TZID=Australia/Sydney:20240926T154500
DTEND;TZID=Australia/Sydney:20240926T183000
DTSTAMP:20260421T022402
CREATED:20210804T235001Z
LAST-MODIFIED:20240208T083754Z
UID:4008-1727365500-1727375400@bellingenyouthorchestra.com.au
SUMMARY:BYOSS Rehearsal
DESCRIPTION:Our Bellingen Youth Orchestra String School rehearse in the Bellingen High School Library. \nIt is best to park at the back of the school for pick up and drop offs. \nAfternoon tea is provided.
URL:https://bellingenyouthorchestra.com.au/event/byoss-2023-11-30/2024-09-26/
LOCATION:NSW
CATEGORIES:BYOSS,Musician Portal,Practice
END:VEVENT
BEGIN:VEVENT
DTSTART;TZID=Australia/Sydney:20240926T153000
DTEND;TZID=Australia/Sydney:20240926T170000
DTSTAMP:20260421T022402
CREATED:20231218T215414Z
LAST-MODIFIED:20240207T084456Z
UID:4100-1727364600-1727370000@bellingenyouthorchestra.com.au
SUMMARY:BYOWS Rehearsal
DESCRIPTION:Our new ensemble the Bellingen Youth Orchestra Wind School will begin rehearsals in 2024. This ensemble will run at the same time as BYOSS and afternoon tea will also be provided. The ensemble will meet in the BHS Music rooms at 3.30pm for set up and a 3.45pm start.
URL:https://bellingenyouthorchestra.com.au/event/byows-rehearsal/2024-09-26/
LOCATION:NSW
CATEGORIES:BYOWS,Musician Portal
END:VEVENT
BEGIN:VEVENT
DTSTART;TZID=Australia/Sydney:20240924T183000
DTEND;TZID=Australia/Sydney:20240924T183000
DTSTAMP:20260421T022402
CREATED:20231218T224333Z
LAST-MODIFIED:20231218T224333Z
UID:4580-1727202600-1727202600@bellingenyouthorchestra.com.au
SUMMARY:Operational Meetings 2024
DESCRIPTION:
URL:https://bellingenyouthorchestra.com.au/event/operational-meetings-2024/2024-09-24/
LOCATION:NSW
CATEGORIES:BYO Operational Meeting
END:VEVENT
BEGIN:VEVENT
DTSTART;TZID=Australia/Sydney:20240923T160000
DTEND;TZID=Australia/Sydney:20240923T180000
DTSTAMP:20260421T022402
CREATED:20231218T220459Z
LAST-MODIFIED:20231218T220459Z
UID:4156-1727107200-1727114400@bellingenyouthorchestra.com.au
SUMMARY:2024 Sinfonia
DESCRIPTION:
URL:https://bellingenyouthorchestra.com.au/event/2024-sinfonia/2024-09-23/
LOCATION:NSW
CATEGORIES:Sinfonia Practice
END:VEVENT
BEGIN:VEVENT
DTSTART;TZID=Australia/Sydney:20240922T150000
DTEND;TZID=Australia/Sydney:20240922T173000
DTSTAMP:20260421T022402
CREATED:20231218T223518Z
LAST-MODIFIED:20240819T003756Z
UID:4192-1727017200-1727026200@bellingenyouthorchestra.com.au
SUMMARY:MUSE
DESCRIPTION:The Bellingen Youth Orchestra present a full symphonic experience\, as well as performances by their advanced strings ensemble Sinfonia. \nThe orchestra will be joined in concert by their patron pianist David Helfgott. \nThis concert will include works by Sergei Rachmaninoff\, Nicolai Rimsky-Korsakov\, Andrew Lloyd Webber & Gustav Holst. \nThe BYO proudly works to inspire new generations of musicians to grow a love of music. \nTICKET LINK HERE \n 
URL:https://bellingenyouthorchestra.com.au/event/muse/
LOCATION:NSW
CATEGORIES:BYO,Event
ATTACH;FMTTYPE=image/jpeg:https://bellingenyouthorchestra.com.au/wp-content/uploads/2024/08/0B5A7410-scaled.jpg
END:VEVENT
BEGIN:VEVENT
DTSTART;TZID=Australia/Sydney:20240919T154500
DTEND;TZID=Australia/Sydney:20240919T183000
DTSTAMP:20260421T022402
CREATED:20210804T235001Z
LAST-MODIFIED:20240208T083754Z
UID:4007-1726760700-1726770600@bellingenyouthorchestra.com.au
SUMMARY:BYOSS Rehearsal
DESCRIPTION:Our Bellingen Youth Orchestra String School rehearse in the Bellingen High School Library. \nIt is best to park at the back of the school for pick up and drop offs. \nAfternoon tea is provided.
URL:https://bellingenyouthorchestra.com.au/event/byoss-2023-11-30/2024-09-19/
LOCATION:NSW
CATEGORIES:BYOSS,Musician Portal,Practice
END:VEVENT
BEGIN:VEVENT
DTSTART;TZID=Australia/Sydney:20240919T153000
DTEND;TZID=Australia/Sydney:20240919T170000
DTSTAMP:20260421T022402
CREATED:20231218T215414Z
LAST-MODIFIED:20240207T084456Z
UID:4099-1726759800-1726765200@bellingenyouthorchestra.com.au
SUMMARY:BYOWS Rehearsal
DESCRIPTION:Our new ensemble the Bellingen Youth Orchestra Wind School will begin rehearsals in 2024. This ensemble will run at the same time as BYOSS and afternoon tea will also be provided. The ensemble will meet in the BHS Music rooms at 3.30pm for set up and a 3.45pm start.
URL:https://bellingenyouthorchestra.com.au/event/byows-rehearsal/2024-09-19/
LOCATION:NSW
CATEGORIES:BYOWS,Musician Portal
END:VEVENT
BEGIN:VEVENT
DTSTART;TZID=Australia/Sydney:20240916T160000
DTEND;TZID=Australia/Sydney:20240916T180000
DTSTAMP:20260421T022402
CREATED:20231218T220459Z
LAST-MODIFIED:20231218T220459Z
UID:4155-1726502400-1726509600@bellingenyouthorchestra.com.au
SUMMARY:2024 Sinfonia
DESCRIPTION:
URL:https://bellingenyouthorchestra.com.au/event/2024-sinfonia/2024-09-16/
LOCATION:NSW
CATEGORIES:Sinfonia Practice
END:VEVENT
BEGIN:VEVENT
DTSTART;TZID=Australia/Sydney:20240914T153000
DTEND;TZID=Australia/Sydney:20240914T170000
DTSTAMP:20260421T022402
CREATED:20231218T222940Z
LAST-MODIFIED:20240817T025847Z
UID:4183-1726327800-1726333200@bellingenyouthorchestra.com.au
SUMMARY:BYOSS and BYOWS presents 'Spring Serenade'.
DESCRIPTION:Once again\, our younger players take the limelight with an exclusive stand-alone event. BYOSS and BYOWS are excited to present a concert featuring the repertoire they have been learning throughout the year. We are also thrilled to introduce the new BYO Cygnet Orchestra\, a vibrant ensemble combining our well-established junior strings and our new wind school. The two groups\, playing both together and separately\, will present a delightful and engaging program for audiences of all ages.\n\n\n\nTICKET LINK HERE \nGeneral Entry: $15 \nUnder 16: FREE
URL:https://bellingenyouthorchestra.com.au/event/byoss-2024-serenade-for-strings/
LOCATION:NSW
CATEGORIES:BYOSS,Event,Musician Portal
ATTACH;FMTTYPE=image/png:https://bellingenyouthorchestra.com.au/wp-content/uploads/2024/08/BYOSSWS-Header-21.png
END:VEVENT
BEGIN:VEVENT
DTSTART;TZID=Australia/Sydney:20240912T154500
DTEND;TZID=Australia/Sydney:20240912T183000
DTSTAMP:20260421T022402
CREATED:20210804T235001Z
LAST-MODIFIED:20240208T083754Z
UID:4006-1726155900-1726165800@bellingenyouthorchestra.com.au
SUMMARY:BYOSS Rehearsal
DESCRIPTION:Our Bellingen Youth Orchestra String School rehearse in the Bellingen High School Library. \nIt is best to park at the back of the school for pick up and drop offs. \nAfternoon tea is provided.
URL:https://bellingenyouthorchestra.com.au/event/byoss-2023-11-30/2024-09-12/
LOCATION:NSW
CATEGORIES:BYOSS,Musician Portal,Practice
END:VEVENT
BEGIN:VEVENT
DTSTART;TZID=Australia/Sydney:20240912T153000
DTEND;TZID=Australia/Sydney:20240912T170000
DTSTAMP:20260421T022402
CREATED:20231218T215414Z
LAST-MODIFIED:20240207T084456Z
UID:4098-1726155000-1726160400@bellingenyouthorchestra.com.au
SUMMARY:BYOWS Rehearsal
DESCRIPTION:Our new ensemble the Bellingen Youth Orchestra Wind School will begin rehearsals in 2024. This ensemble will run at the same time as BYOSS and afternoon tea will also be provided. The ensemble will meet in the BHS Music rooms at 3.30pm for set up and a 3.45pm start.
URL:https://bellingenyouthorchestra.com.au/event/byows-rehearsal/2024-09-12/
LOCATION:NSW
CATEGORIES:BYOWS,Musician Portal
END:VEVENT
BEGIN:VEVENT
DTSTART;TZID=Australia/Sydney:20240910T183000
DTEND;TZID=Australia/Sydney:20240910T183000
DTSTAMP:20260421T022402
CREATED:20231218T224333Z
LAST-MODIFIED:20231218T224333Z
UID:4579-1725993000-1725993000@bellingenyouthorchestra.com.au
SUMMARY:Operational Meetings 2024
DESCRIPTION:
URL:https://bellingenyouthorchestra.com.au/event/operational-meetings-2024/2024-09-10/
LOCATION:NSW
CATEGORIES:BYO Operational Meeting
END:VEVENT
BEGIN:VEVENT
DTSTART;TZID=Australia/Sydney:20240909T160000
DTEND;TZID=Australia/Sydney:20240909T180000
DTSTAMP:20260421T022402
CREATED:20231218T220459Z
LAST-MODIFIED:20231218T220459Z
UID:4154-1725897600-1725904800@bellingenyouthorchestra.com.au
SUMMARY:2024 Sinfonia
DESCRIPTION:
URL:https://bellingenyouthorchestra.com.au/event/2024-sinfonia/2024-09-09/
LOCATION:NSW
CATEGORIES:Sinfonia Practice
END:VEVENT
BEGIN:VEVENT
DTSTART;TZID=Australia/Sydney:20240905T154500
DTEND;TZID=Australia/Sydney:20240905T183000
DTSTAMP:20260421T022402
CREATED:20210804T235001Z
LAST-MODIFIED:20240208T083754Z
UID:4005-1725551100-1725561000@bellingenyouthorchestra.com.au
SUMMARY:BYOSS Rehearsal
DESCRIPTION:Our Bellingen Youth Orchestra String School rehearse in the Bellingen High School Library. \nIt is best to park at the back of the school for pick up and drop offs. \nAfternoon tea is provided.
URL:https://bellingenyouthorchestra.com.au/event/byoss-2023-11-30/2024-09-05/
LOCATION:NSW
CATEGORIES:BYOSS,Musician Portal,Practice
END:VEVENT
END:VCALENDAR