BEGIN:VCALENDAR
VERSION:2.0
PRODID:-//Bellingen Youth Orchestra - ECPv5.16.0//NONSGML v1.0//EN
CALSCALE:GREGORIAN
METHOD:PUBLISH
X-ORIGINAL-URL:https://bellingenyouthorchestra.com.au
X-WR-CALDESC:Events for Bellingen Youth Orchestra
REFRESH-INTERVAL;VALUE=DURATION:PT1H
X-Robots-Tag:noindex
X-PUBLISHED-TTL:PT1H
BEGIN:VTIMEZONE
TZID:Australia/Sydney
BEGIN:STANDARD
TZOFFSETFROM:+1100
TZOFFSETTO:+1000
TZNAME:AEST
DTSTART:20260404T160000
END:STANDARD
BEGIN:DAYLIGHT
TZOFFSETFROM:+1000
TZOFFSETTO:+1100
TZNAME:AEDT
DTSTART:20261003T160000
END:DAYLIGHT
END:VTIMEZONE
BEGIN:VEVENT
DTSTART;TZID=Australia/Sydney:20260407T080000
DTEND;TZID=Australia/Sydney:20260419T000000
DTSTAMP:20260423T085956
CREATED:20260130T011220Z
LAST-MODIFIED:20260130T011226Z
UID:5849-1775548800-1776556800@bellingenyouthorchestra.com.au
SUMMARY:School Holidays - Spring
DESCRIPTION:Please note we do not run rehearsals over school holidays.
URL:https://bellingenyouthorchestra.com.au/event/school-holidays-spring/
CATEGORIES:School Holidays
END:VEVENT
END:VCALENDAR