BEGIN:VCALENDAR
VERSION:2.0
PRODID:-//Bellingen Youth Orchestra - ECPv5.16.0//NONSGML v1.0//EN
CALSCALE:GREGORIAN
METHOD:PUBLISH
X-WR-CALNAME:Bellingen Youth Orchestra
X-ORIGINAL-URL:https://bellingenyouthorchestra.com.au
X-WR-CALDESC:Events for Bellingen Youth Orchestra
REFRESH-INTERVAL;VALUE=DURATION:PT1H
X-Robots-Tag:noindex
X-PUBLISHED-TTL:PT1H
BEGIN:VTIMEZONE
TZID:Australia/Sydney
BEGIN:STANDARD
TZOFFSETFROM:+1100
TZOFFSETTO:+1000
TZNAME:AEST
DTSTART:20210403T160000
END:STANDARD
BEGIN:DAYLIGHT
TZOFFSETFROM:+1000
TZOFFSETTO:+1100
TZNAME:AEDT
DTSTART:20211002T160000
END:DAYLIGHT
END:VTIMEZONE
BEGIN:VEVENT
DTSTART;TZID=Australia/Sydney:20210805T160000
DTEND;TZID=Australia/Sydney:20210805T180000
DTSTAMP:20260425T020319
CREATED:20210805T000155Z
LAST-MODIFIED:20231022T043428Z
UID:468-1628179200-1628186400@bellingenyouthorchestra.com.au
SUMMARY:BYO Rehearsal
DESCRIPTION:BYO rehearsals take place weekly at the Bellingen High School\, Stockton Hall. \nAfternoon tea is provided.
URL:https://bellingenyouthorchestra.com.au/event/byo/2021-08-05/
LOCATION:Stockton Hall\, Bellingen High School\, Stockton Hall\, BHS\, 1125 Waterfall Way\, Bellingen\, NSW\, Australia
CATEGORIES:BYO,Musician Portal,Practice
END:VEVENT
BEGIN:VEVENT
DTSTART;TZID=Australia/Sydney:20210805T153000
DTEND;TZID=Australia/Sydney:20210805T171500
DTSTAMP:20260425T020319
CREATED:20210804T235001Z
LAST-MODIFIED:20231014T073443Z
UID:436-1628177400-1628183700@bellingenyouthorchestra.com.au
SUMMARY:BYOSS Rehearsal
DESCRIPTION:Our Bellingen Youth Orchestra String School rehearse in the Bellingen High School Music Rooms. \nIt is best to park at the back of the school for pick up and drop offs. \nAfternoon tea is provided.
URL:https://bellingenyouthorchestra.com.au/event/byoss/2021-08-05/
CATEGORIES:BYOSS,Musician Portal
END:VEVENT
END:VCALENDAR