BEGIN:VCALENDAR
VERSION:2.0
PRODID:-//Bellingen Youth Orchestra - ECPv5.16.0//NONSGML v1.0//EN
CALSCALE:GREGORIAN
METHOD:PUBLISH
X-WR-CALNAME:Bellingen Youth Orchestra
X-ORIGINAL-URL:https://bellingenyouthorchestra.com.au
X-WR-CALDESC:Events for Bellingen Youth Orchestra
REFRESH-INTERVAL;VALUE=DURATION:PT1H
X-Robots-Tag:noindex
X-PUBLISHED-TTL:PT1H
BEGIN:VTIMEZONE
TZID:Australia/Sydney
BEGIN:STANDARD
TZOFFSETFROM:+1100
TZOFFSETTO:+1000
TZNAME:AEST
DTSTART:20260404T160000
END:STANDARD
BEGIN:DAYLIGHT
TZOFFSETFROM:+1000
TZOFFSETTO:+1100
TZNAME:AEDT
DTSTART:20261003T160000
END:DAYLIGHT
END:VTIMEZONE
BEGIN:VEVENT
DTSTART;TZID=Australia/Sydney:20260321T093000
DTEND;TZID=Australia/Sydney:20260321T153000
DTSTAMP:20260423T120814
CREATED:20251224T041503Z
LAST-MODIFIED:20260219T075044Z
UID:5736-1774085400-1774107000@bellingenyouthorchestra.com.au
SUMMARY:BYOSS & BYOWS Cygnet Workshop
DESCRIPTION:Cygnet Workshop Info Poster March 21 2026 \nThis workshop event is only open to BYOSS and BYOWS players. \nA free community concert is open to all parents and family members as per the time on the poster.
URL:https://bellingenyouthorchestra.com.au/event/byoss-byows-cygnet-workshop/
CATEGORIES:BYOSS,BYOWS,Event,Musician Portal,Workshop
ATTACH;FMTTYPE=image/png:https://bellingenyouthorchestra.com.au/wp-content/uploads/2026/02/Screenshot-2026-02-19-184910.png
END:VEVENT
END:VCALENDAR