BEGIN:VCALENDAR
VERSION:2.0
PRODID:-//Bellingen Youth Orchestra - ECPv5.16.0//NONSGML v1.0//EN
CALSCALE:GREGORIAN
METHOD:PUBLISH
X-WR-CALNAME:Bellingen Youth Orchestra
X-ORIGINAL-URL:https://bellingenyouthorchestra.com.au
X-WR-CALDESC:Events for Bellingen Youth Orchestra
REFRESH-INTERVAL;VALUE=DURATION:PT1H
X-Robots-Tag:noindex
X-PUBLISHED-TTL:PT1H
BEGIN:VTIMEZONE
TZID:Australia/Sydney
BEGIN:STANDARD
TZOFFSETFROM:+1100
TZOFFSETTO:+1000
TZNAME:AEST
DTSTART:20250405T160000
END:STANDARD
BEGIN:DAYLIGHT
TZOFFSETFROM:+1000
TZOFFSETTO:+1100
TZNAME:AEDT
DTSTART:20251004T160000
END:DAYLIGHT
END:VTIMEZONE
BEGIN:VEVENT
DTSTART;TZID=Australia/Sydney:20250524T100000
DTEND;TZID=Australia/Sydney:20250524T110000
DTSTAMP:20260424T061855
CREATED:20241113T224503Z
LAST-MODIFIED:20250521T043314Z
UID:4763-1748080800-1748084400@bellingenyouthorchestra.com.au
SUMMARY:BYOSS at the SHOW
DESCRIPTION:Stay tuned for further updates. \nTimes to be confirmed.
URL:https://bellingenyouthorchestra.com.au/event/byoss-byows-plays-at-show/
CATEGORIES:Event,Musician Portal
ATTACH;FMTTYPE=image/jpeg:https://bellingenyouthorchestra.com.au/wp-content/uploads/2024/11/byoss.jpg
END:VEVENT
END:VCALENDAR