BEGIN:VCALENDAR
VERSION:2.0
PRODID:-//Bellingen Youth Orchestra - ECPv5.16.0//NONSGML v1.0//EN
CALSCALE:GREGORIAN
METHOD:PUBLISH
X-WR-CALNAME:Bellingen Youth Orchestra
X-ORIGINAL-URL:https://bellingenyouthorchestra.com.au
X-WR-CALDESC:Events for Bellingen Youth Orchestra
REFRESH-INTERVAL;VALUE=DURATION:PT1H
X-Robots-Tag:noindex
X-PUBLISHED-TTL:PT1H
BEGIN:VTIMEZONE
TZID:Australia/Sydney
BEGIN:STANDARD
TZOFFSETFROM:+1100
TZOFFSETTO:+1000
TZNAME:AEST
DTSTART:20230401T160000
END:STANDARD
BEGIN:DAYLIGHT
TZOFFSETFROM:+1000
TZOFFSETTO:+1100
TZNAME:AEDT
DTSTART:20230930T160000
END:DAYLIGHT
END:VTIMEZONE
BEGIN:VEVENT
DTSTART;TZID=Australia/Sydney:20230622T164500
DTEND;TZID=Australia/Sydney:20230622T164500
DTSTAMP:20260425T212954
CREATED:20230605T041404Z
LAST-MODIFIED:20230605T041413Z
UID:3701-1687452300-1687452300@bellingenyouthorchestra.com.au
SUMMARY:BYOSS Trivia\, Pizza and Musical night
DESCRIPTION:Please find information regarding this event in the ‘notices’ (BYOSS) section of our player portal.
URL:https://bellingenyouthorchestra.com.au/event/byoss-trivia-pizza-and-musical-night/
CATEGORIES:BYOSS,Event
END:VEVENT
END:VCALENDAR