BEGIN:VCALENDAR
VERSION:2.0
PRODID:-//Bellingen Youth Orchestra - ECPv5.16.0//NONSGML v1.0//EN
CALSCALE:GREGORIAN
METHOD:PUBLISH
X-ORIGINAL-URL:https://bellingenyouthorchestra.com.au
X-WR-CALDESC:Events for Bellingen Youth Orchestra
REFRESH-INTERVAL;VALUE=DURATION:PT1H
X-Robots-Tag:noindex
X-PUBLISHED-TTL:PT1H
BEGIN:VTIMEZONE
TZID:Australia/Sydney
BEGIN:STANDARD
TZOFFSETFROM:+1100
TZOFFSETTO:+1000
TZNAME:AEST
DTSTART:20230401T160000
END:STANDARD
BEGIN:DAYLIGHT
TZOFFSETFROM:+1000
TZOFFSETTO:+1100
TZNAME:AEDT
DTSTART:20230930T160000
END:DAYLIGHT
END:VTIMEZONE
BEGIN:VEVENT
DTSTART;TZID=Australia/Sydney:20230601T190000
DTEND;TZID=Australia/Sydney:20230601T203000
DTSTAMP:20260425T210147
CREATED:20230425T021350Z
LAST-MODIFIED:20230425T021509Z
UID:3641-1685646000-1685651400@bellingenyouthorchestra.com.au
SUMMARY:Sinfonia collaboration with Valla Voices
DESCRIPTION:Event details TBA.
URL:https://bellingenyouthorchestra.com.au/event/sinfonia-collaboration-with-valla-voices/
LOCATION:memorial hall\, bellingen
CATEGORIES:Event,Musician Portal
END:VEVENT
END:VCALENDAR