BEGIN:VCALENDAR
VERSION:2.0
PRODID:-//Bellingen Youth Orchestra - ECPv5.16.0//NONSGML v1.0//EN
CALSCALE:GREGORIAN
METHOD:PUBLISH
X-ORIGINAL-URL:https://bellingenyouthorchestra.com.au
X-WR-CALDESC:Events for Bellingen Youth Orchestra
REFRESH-INTERVAL;VALUE=DURATION:PT1H
X-Robots-Tag:noindex
X-PUBLISHED-TTL:PT1H
BEGIN:VTIMEZONE
TZID:Australia/Sydney
BEGIN:STANDARD
TZOFFSETFROM:+1100
TZOFFSETTO:+1000
TZNAME:AEST
DTSTART:20230401T160000
END:STANDARD
BEGIN:DAYLIGHT
TZOFFSETFROM:+1000
TZOFFSETTO:+1100
TZNAME:AEDT
DTSTART:20230930T160000
END:DAYLIGHT
END:VTIMEZONE
BEGIN:VEVENT
DTSTART;TZID=Australia/Sydney:20230529T180000
DTEND;TZID=Australia/Sydney:20230529T200000
DTSTAMP:20260425T210246
CREATED:20221222T075107Z
LAST-MODIFIED:20230314T074540Z
UID:3194-1685383200-1685390400@bellingenyouthorchestra.com.au
SUMMARY:Compass Music Festival
DESCRIPTION:Compass Music Festival returns for 2023. Stay tuned for further details and ticket information.
URL:https://bellingenyouthorchestra.com.au/event/compass-music-festival-2/2023-05-29/
CATEGORIES:Event,Musician Portal
ATTACH;FMTTYPE=image/jpeg:https://bellingenyouthorchestra.com.au/wp-content/uploads/2022/12/compass.jpg
END:VEVENT
END:VCALENDAR