BEGIN:VCALENDAR
VERSION:2.0
PRODID:-//Bellingen Youth Orchestra - ECPv5.16.0//NONSGML v1.0//EN
CALSCALE:GREGORIAN
METHOD:PUBLISH
X-WR-CALNAME:Bellingen Youth Orchestra
X-ORIGINAL-URL:https://bellingenyouthorchestra.com.au
X-WR-CALDESC:Events for Bellingen Youth Orchestra
REFRESH-INTERVAL;VALUE=DURATION:PT1H
X-Robots-Tag:noindex
X-PUBLISHED-TTL:PT1H
BEGIN:VTIMEZONE
TZID:Australia/Sydney
BEGIN:STANDARD
TZOFFSETFROM:+1100
TZOFFSETTO:+1000
TZNAME:AEST
DTSTART:20230401T160000
END:STANDARD
BEGIN:DAYLIGHT
TZOFFSETFROM:+1000
TZOFFSETTO:+1100
TZNAME:AEDT
DTSTART:20230930T160000
END:DAYLIGHT
END:VTIMEZONE
BEGIN:VEVENT
DTSTART;VALUE=DATE:20230519
DTEND;VALUE=DATE:20230520
DTSTAMP:20260425T222945
CREATED:20230503T081553Z
LAST-MODIFIED:20230503T081937Z
UID:3659-1684454400-1684540799@bellingenyouthorchestra.com.au
SUMMARY:BHS Orchestral Workshop
DESCRIPTION:The final Arts Recovery Workshop will take place at Bellingen High School on Friday 19 May (Wk 4). Intermediate orchestral players (Year 8 and below) from the Bellingen and surrounding area are invited to be part of this program. \nThere will be NO cost to public school students for the workshop. However\, a cost of $10 per student will be charged to private school and home schooled participants to help cover the cost of tutors. Please bring this on the day. \nThe day will begin at 9.00am and conclude after a concert for parents and friends at 3.30pm. The concert will begin at 3.15pm.
URL:https://bellingenyouthorchestra.com.au/event/bhs-orchestral-workshop/
LOCATION:Stockton Hall\, Bellingen High School\, Stockton Hall\, BHS\, 1125 Waterfall Way\, Bellingen\, NSW\, Australia
CATEGORIES:Musician Portal,Workshop
END:VEVENT
END:VCALENDAR