BEGIN:VCALENDAR
VERSION:2.0
PRODID:-//Bellingen Youth Orchestra - ECPv5.16.0//NONSGML v1.0//EN
CALSCALE:GREGORIAN
METHOD:PUBLISH
X-ORIGINAL-URL:https://bellingenyouthorchestra.com.au
X-WR-CALDESC:Events for Bellingen Youth Orchestra
REFRESH-INTERVAL;VALUE=DURATION:PT1H
X-Robots-Tag:noindex
X-PUBLISHED-TTL:PT1H
BEGIN:VTIMEZONE
TZID:Australia/Sydney
BEGIN:STANDARD
TZOFFSETFROM:+1100
TZOFFSETTO:+1000
TZNAME:AEST
DTSTART:20240406T160000
END:STANDARD
BEGIN:DAYLIGHT
TZOFFSETFROM:+1000
TZOFFSETTO:+1100
TZNAME:AEDT
DTSTART:20241005T160000
END:DAYLIGHT
BEGIN:STANDARD
TZOFFSETFROM:+1100
TZOFFSETTO:+1000
TZNAME:AEST
DTSTART:20250405T160000
END:STANDARD
BEGIN:DAYLIGHT
TZOFFSETFROM:+1000
TZOFFSETTO:+1100
TZNAME:AEDT
DTSTART:20251004T160000
END:DAYLIGHT
END:VTIMEZONE
BEGIN:VEVENT
DTSTART;TZID=Australia/Sydney:20250306T153000
DTEND;TZID=Australia/Sydney:20250306T170000
DTSTAMP:20260424T032859
CREATED:20250129T221051Z
LAST-MODIFIED:20250209T073544Z
UID:4908-1741275000-1741280400@bellingenyouthorchestra.com.au
SUMMARY:BYOSS Rehearsal
DESCRIPTION:The Bellingen Youth Orchestra String School rehearse from 3.30 pm in the Bellingen Highschool demountable to 5pm\, followed by afternoon tea.
URL:https://bellingenyouthorchestra.com.au/event/byoss-rehearsal/2025-03-06/
LOCATION:Bellingen Highschool Demountable\, 1125 Waterfall Way\,\, Bellingen\, NSW\, 2454
CATEGORIES:BYOSS,Musician Portal,Practice
END:VEVENT
BEGIN:VEVENT
DTSTART;TZID=Australia/Sydney:20250227T153000
DTEND;TZID=Australia/Sydney:20250227T170000
DTSTAMP:20260424T032859
CREATED:20250129T221051Z
LAST-MODIFIED:20250209T073543Z
UID:4907-1740670200-1740675600@bellingenyouthorchestra.com.au
SUMMARY:BYOSS Rehearsal
DESCRIPTION:The Bellingen Youth Orchestra String School rehearse from 3.30 pm in the Bellingen Highschool demountable to 5pm\, followed by afternoon tea.
URL:https://bellingenyouthorchestra.com.au/event/byoss-rehearsal/2025-02-27/
LOCATION:Bellingen Highschool Demountable\, 1125 Waterfall Way\,\, Bellingen\, NSW\, 2454
CATEGORIES:BYOSS,Musician Portal,Practice
END:VEVENT
BEGIN:VEVENT
DTSTART;TZID=Australia/Sydney:20250220T153000
DTEND;TZID=Australia/Sydney:20250220T170000
DTSTAMP:20260424T032859
CREATED:20250129T221051Z
LAST-MODIFIED:20250209T073542Z
UID:4906-1740065400-1740070800@bellingenyouthorchestra.com.au
SUMMARY:BYOSS Rehearsal
DESCRIPTION:The Bellingen Youth Orchestra String School rehearse from 3.30 pm in the Bellingen Highschool demountable to 5pm\, followed by afternoon tea.
URL:https://bellingenyouthorchestra.com.au/event/byoss-rehearsal/2025-02-20/
LOCATION:Bellingen Highschool Demountable\, 1125 Waterfall Way\,\, Bellingen\, NSW\, 2454
CATEGORIES:BYOSS,Musician Portal,Practice
END:VEVENT
BEGIN:VEVENT
DTSTART;TZID=Australia/Sydney:20250213T153000
DTEND;TZID=Australia/Sydney:20250213T170000
DTSTAMP:20260424T032859
CREATED:20250129T221051Z
LAST-MODIFIED:20250209T073541Z
UID:4905-1739460600-1739466000@bellingenyouthorchestra.com.au
SUMMARY:BYOSS Rehearsal
DESCRIPTION:The Bellingen Youth Orchestra String School rehearse from 3.30 pm in the Bellingen Highschool demountable to 5pm\, followed by afternoon tea.
URL:https://bellingenyouthorchestra.com.au/event/byoss-rehearsal/2025-02-13/
LOCATION:Bellingen Highschool Demountable\, 1125 Waterfall Way\,\, Bellingen\, NSW\, 2454
CATEGORIES:BYOSS,Musician Portal,Practice
END:VEVENT
BEGIN:VEVENT
DTSTART;TZID=Australia/Sydney:20250206T153000
DTEND;TZID=Australia/Sydney:20250206T170000
DTSTAMP:20260424T032859
CREATED:20250129T221051Z
LAST-MODIFIED:20250209T073540Z
UID:4902-1738855800-1738861200@bellingenyouthorchestra.com.au
SUMMARY:BYOSS Rehearsal
DESCRIPTION:The Bellingen Youth Orchestra String School rehearse from 3.30 pm in the Bellingen Highschool demountable to 5pm\, followed by afternoon tea.
URL:https://bellingenyouthorchestra.com.au/event/byoss-rehearsal/2025-02-06/
LOCATION:Bellingen Highschool Demountable\, 1125 Waterfall Way\,\, Bellingen\, NSW\, 2454
CATEGORIES:BYOSS,Musician Portal,Practice
END:VEVENT
BEGIN:VEVENT
DTSTART;TZID=Australia/Sydney:20241219T154500
DTEND;TZID=Australia/Sydney:20241219T183000
DTSTAMP:20260424T032859
CREATED:20210804T235001Z
LAST-MODIFIED:20240208T083717Z
UID:4020-1734623100-1734633000@bellingenyouthorchestra.com.au
SUMMARY:BYOSS Rehearsal
DESCRIPTION:Our Bellingen Youth Orchestra String School rehearse in the Bellingen High School Library. \nIt is best to park at the back of the school for pick up and drop offs. \nAfternoon tea is provided.
URL:https://bellingenyouthorchestra.com.au/event/byoss-2023-11-30/2024-12-19/
LOCATION:NSW
CATEGORIES:BYOSS,Musician Portal,Practice
END:VEVENT
BEGIN:VEVENT
DTSTART;TZID=Australia/Sydney:20241212T154500
DTEND;TZID=Australia/Sydney:20241212T183000
DTSTAMP:20260424T032859
CREATED:20210804T235001Z
LAST-MODIFIED:20240208T083717Z
UID:4019-1734018300-1734028200@bellingenyouthorchestra.com.au
SUMMARY:BYOSS Rehearsal
DESCRIPTION:Our Bellingen Youth Orchestra String School rehearse in the Bellingen High School Library. \nIt is best to park at the back of the school for pick up and drop offs. \nAfternoon tea is provided.
URL:https://bellingenyouthorchestra.com.au/event/byoss-2023-11-30/2024-12-12/
LOCATION:NSW
CATEGORIES:BYOSS,Musician Portal,Practice
END:VEVENT
BEGIN:VEVENT
DTSTART;TZID=Australia/Sydney:20241205T154500
DTEND;TZID=Australia/Sydney:20241205T183000
DTSTAMP:20260424T032859
CREATED:20210804T235001Z
LAST-MODIFIED:20240208T083717Z
UID:4018-1733413500-1733423400@bellingenyouthorchestra.com.au
SUMMARY:BYOSS Rehearsal
DESCRIPTION:Our Bellingen Youth Orchestra String School rehearse in the Bellingen High School Library. \nIt is best to park at the back of the school for pick up and drop offs. \nAfternoon tea is provided.
URL:https://bellingenyouthorchestra.com.au/event/byoss-2023-11-30/2024-12-05/
LOCATION:NSW
CATEGORIES:BYOSS,Musician Portal,Practice
END:VEVENT
BEGIN:VEVENT
DTSTART;TZID=Australia/Sydney:20241128T154500
DTEND;TZID=Australia/Sydney:20241128T183000
DTSTAMP:20260424T032859
CREATED:20210804T235001Z
LAST-MODIFIED:20240208T083717Z
UID:4017-1732808700-1732818600@bellingenyouthorchestra.com.au
SUMMARY:BYOSS Rehearsal
DESCRIPTION:Our Bellingen Youth Orchestra String School rehearse in the Bellingen High School Library. \nIt is best to park at the back of the school for pick up and drop offs. \nAfternoon tea is provided.
URL:https://bellingenyouthorchestra.com.au/event/byoss-2023-11-30/2024-11-28/
LOCATION:NSW
CATEGORIES:BYOSS,Musician Portal,Practice
END:VEVENT
BEGIN:VEVENT
DTSTART;TZID=Australia/Sydney:20241123T103000
DTEND;TZID=Australia/Sydney:20241123T113000
DTSTAMP:20260424T032859
CREATED:20241113T214936Z
LAST-MODIFIED:20241113T214937Z
UID:4751-1732357800-1732361400@bellingenyouthorchestra.com.au
SUMMARY:Community Outreach Concert - BYOSS
DESCRIPTION:NOT OPEN TO THE PUBLIC. PRIVATE PERFORMANCE. \nOur performance for the older\, less mobile members of the community. \nWe plan to brighten their day and play beautiful well-rehearsed pieces for them. \n 
URL:https://bellingenyouthorchestra.com.au/event/community-outreach-concert-byoss/
LOCATION:NSW
CATEGORIES:BYOSS
END:VEVENT
BEGIN:VEVENT
DTSTART;TZID=Australia/Sydney:20241121T154500
DTEND;TZID=Australia/Sydney:20241121T183000
DTSTAMP:20260424T032859
CREATED:20210804T235001Z
LAST-MODIFIED:20240208T083717Z
UID:4016-1732203900-1732213800@bellingenyouthorchestra.com.au
SUMMARY:BYOSS Rehearsal
DESCRIPTION:Our Bellingen Youth Orchestra String School rehearse in the Bellingen High School Library. \nIt is best to park at the back of the school for pick up and drop offs. \nAfternoon tea is provided.
URL:https://bellingenyouthorchestra.com.au/event/byoss-2023-11-30/2024-11-21/
LOCATION:NSW
CATEGORIES:BYOSS,Musician Portal,Practice
END:VEVENT
BEGIN:VEVENT
DTSTART;TZID=Australia/Sydney:20241114T154500
DTEND;TZID=Australia/Sydney:20241114T183000
DTSTAMP:20260424T032859
CREATED:20210804T235001Z
LAST-MODIFIED:20240208T083716Z
UID:4015-1731599100-1731609000@bellingenyouthorchestra.com.au
SUMMARY:BYOSS Rehearsal
DESCRIPTION:Our Bellingen Youth Orchestra String School rehearse in the Bellingen High School Library. \nIt is best to park at the back of the school for pick up and drop offs. \nAfternoon tea is provided.
URL:https://bellingenyouthorchestra.com.au/event/byoss-2023-11-30/2024-11-14/
LOCATION:NSW
CATEGORIES:BYOSS,Musician Portal,Practice
END:VEVENT
BEGIN:VEVENT
DTSTART;TZID=Australia/Sydney:20241107T154500
DTEND;TZID=Australia/Sydney:20241107T183000
DTSTAMP:20260424T032859
CREATED:20210804T235001Z
LAST-MODIFIED:20240208T083756Z
UID:4014-1730994300-1731004200@bellingenyouthorchestra.com.au
SUMMARY:BYOSS Rehearsal
DESCRIPTION:Our Bellingen Youth Orchestra String School rehearse in the Bellingen High School Library. \nIt is best to park at the back of the school for pick up and drop offs. \nAfternoon tea is provided.
URL:https://bellingenyouthorchestra.com.au/event/byoss-2023-11-30/2024-11-07/
LOCATION:NSW
CATEGORIES:BYOSS,Musician Portal,Practice
END:VEVENT
BEGIN:VEVENT
DTSTART;TZID=Australia/Sydney:20241031T154500
DTEND;TZID=Australia/Sydney:20241031T183000
DTSTAMP:20260424T032859
CREATED:20210804T235001Z
LAST-MODIFIED:20240208T083755Z
UID:4013-1730389500-1730399400@bellingenyouthorchestra.com.au
SUMMARY:BYOSS Rehearsal
DESCRIPTION:Our Bellingen Youth Orchestra String School rehearse in the Bellingen High School Library. \nIt is best to park at the back of the school for pick up and drop offs. \nAfternoon tea is provided.
URL:https://bellingenyouthorchestra.com.au/event/byoss-2023-11-30/2024-10-31/
LOCATION:NSW
CATEGORIES:BYOSS,Musician Portal,Practice
END:VEVENT
BEGIN:VEVENT
DTSTART;TZID=Australia/Sydney:20241024T154500
DTEND;TZID=Australia/Sydney:20241024T183000
DTSTAMP:20260424T032859
CREATED:20210804T235001Z
LAST-MODIFIED:20240208T083755Z
UID:4012-1729784700-1729794600@bellingenyouthorchestra.com.au
SUMMARY:BYOSS Rehearsal
DESCRIPTION:Our Bellingen Youth Orchestra String School rehearse in the Bellingen High School Library. \nIt is best to park at the back of the school for pick up and drop offs. \nAfternoon tea is provided.
URL:https://bellingenyouthorchestra.com.au/event/byoss-2023-11-30/2024-10-24/
LOCATION:NSW
CATEGORIES:BYOSS,Musician Portal,Practice
END:VEVENT
BEGIN:VEVENT
DTSTART;TZID=Australia/Sydney:20241017T154500
DTEND;TZID=Australia/Sydney:20241017T183000
DTSTAMP:20260424T032859
CREATED:20210804T235001Z
LAST-MODIFIED:20240208T083754Z
UID:4011-1729179900-1729189800@bellingenyouthorchestra.com.au
SUMMARY:BYOSS Rehearsal
DESCRIPTION:Our Bellingen Youth Orchestra String School rehearse in the Bellingen High School Library. \nIt is best to park at the back of the school for pick up and drop offs. \nAfternoon tea is provided.
URL:https://bellingenyouthorchestra.com.au/event/byoss-2023-11-30/2024-10-17/
LOCATION:NSW
CATEGORIES:BYOSS,Musician Portal,Practice
END:VEVENT
BEGIN:VEVENT
DTSTART;TZID=Australia/Sydney:20240926T154500
DTEND;TZID=Australia/Sydney:20240926T183000
DTSTAMP:20260424T032859
CREATED:20210804T235001Z
LAST-MODIFIED:20240208T083754Z
UID:4008-1727365500-1727375400@bellingenyouthorchestra.com.au
SUMMARY:BYOSS Rehearsal
DESCRIPTION:Our Bellingen Youth Orchestra String School rehearse in the Bellingen High School Library. \nIt is best to park at the back of the school for pick up and drop offs. \nAfternoon tea is provided.
URL:https://bellingenyouthorchestra.com.au/event/byoss-2023-11-30/2024-09-26/
LOCATION:NSW
CATEGORIES:BYOSS,Musician Portal,Practice
END:VEVENT
BEGIN:VEVENT
DTSTART;TZID=Australia/Sydney:20240919T154500
DTEND;TZID=Australia/Sydney:20240919T183000
DTSTAMP:20260424T032859
CREATED:20210804T235001Z
LAST-MODIFIED:20240208T083754Z
UID:4007-1726760700-1726770600@bellingenyouthorchestra.com.au
SUMMARY:BYOSS Rehearsal
DESCRIPTION:Our Bellingen Youth Orchestra String School rehearse in the Bellingen High School Library. \nIt is best to park at the back of the school for pick up and drop offs. \nAfternoon tea is provided.
URL:https://bellingenyouthorchestra.com.au/event/byoss-2023-11-30/2024-09-19/
LOCATION:NSW
CATEGORIES:BYOSS,Musician Portal,Practice
END:VEVENT
BEGIN:VEVENT
DTSTART;TZID=Australia/Sydney:20240914T153000
DTEND;TZID=Australia/Sydney:20240914T170000
DTSTAMP:20260424T032859
CREATED:20231218T222940Z
LAST-MODIFIED:20240817T025847Z
UID:4183-1726327800-1726333200@bellingenyouthorchestra.com.au
SUMMARY:BYOSS and BYOWS presents 'Spring Serenade'.
DESCRIPTION:Once again\, our younger players take the limelight with an exclusive stand-alone event. BYOSS and BYOWS are excited to present a concert featuring the repertoire they have been learning throughout the year. We are also thrilled to introduce the new BYO Cygnet Orchestra\, a vibrant ensemble combining our well-established junior strings and our new wind school. The two groups\, playing both together and separately\, will present a delightful and engaging program for audiences of all ages.\n\n\n\nTICKET LINK HERE \nGeneral Entry: $15 \nUnder 16: FREE
URL:https://bellingenyouthorchestra.com.au/event/byoss-2024-serenade-for-strings/
LOCATION:NSW
CATEGORIES:BYOSS,Event,Musician Portal
ATTACH;FMTTYPE=image/png:https://bellingenyouthorchestra.com.au/wp-content/uploads/2024/08/BYOSSWS-Header-21.png
END:VEVENT
BEGIN:VEVENT
DTSTART;TZID=Australia/Sydney:20240912T154500
DTEND;TZID=Australia/Sydney:20240912T183000
DTSTAMP:20260424T032859
CREATED:20210804T235001Z
LAST-MODIFIED:20240208T083754Z
UID:4006-1726155900-1726165800@bellingenyouthorchestra.com.au
SUMMARY:BYOSS Rehearsal
DESCRIPTION:Our Bellingen Youth Orchestra String School rehearse in the Bellingen High School Library. \nIt is best to park at the back of the school for pick up and drop offs. \nAfternoon tea is provided.
URL:https://bellingenyouthorchestra.com.au/event/byoss-2023-11-30/2024-09-12/
LOCATION:NSW
CATEGORIES:BYOSS,Musician Portal,Practice
END:VEVENT
BEGIN:VEVENT
DTSTART;TZID=Australia/Sydney:20240905T154500
DTEND;TZID=Australia/Sydney:20240905T183000
DTSTAMP:20260424T032859
CREATED:20210804T235001Z
LAST-MODIFIED:20240208T083754Z
UID:4005-1725551100-1725561000@bellingenyouthorchestra.com.au
SUMMARY:BYOSS Rehearsal
DESCRIPTION:Our Bellingen Youth Orchestra String School rehearse in the Bellingen High School Library. \nIt is best to park at the back of the school for pick up and drop offs. \nAfternoon tea is provided.
URL:https://bellingenyouthorchestra.com.au/event/byoss-2023-11-30/2024-09-05/
LOCATION:NSW
CATEGORIES:BYOSS,Musician Portal,Practice
END:VEVENT
BEGIN:VEVENT
DTSTART;TZID=Australia/Sydney:20240829T154500
DTEND;TZID=Australia/Sydney:20240829T183000
DTSTAMP:20260424T032859
CREATED:20210804T235001Z
LAST-MODIFIED:20240208T083754Z
UID:4004-1724946300-1724956200@bellingenyouthorchestra.com.au
SUMMARY:BYOSS Rehearsal
DESCRIPTION:Our Bellingen Youth Orchestra String School rehearse in the Bellingen High School Library. \nIt is best to park at the back of the school for pick up and drop offs. \nAfternoon tea is provided.
URL:https://bellingenyouthorchestra.com.au/event/byoss-2023-11-30/2024-08-29/
LOCATION:NSW
CATEGORIES:BYOSS,Musician Portal,Practice
END:VEVENT
BEGIN:VEVENT
DTSTART;TZID=Australia/Sydney:20240822T154500
DTEND;TZID=Australia/Sydney:20240822T183000
DTSTAMP:20260424T032859
CREATED:20210804T235001Z
LAST-MODIFIED:20240208T083753Z
UID:4003-1724341500-1724351400@bellingenyouthorchestra.com.au
SUMMARY:BYOSS Rehearsal
DESCRIPTION:Our Bellingen Youth Orchestra String School rehearse in the Bellingen High School Library. \nIt is best to park at the back of the school for pick up and drop offs. \nAfternoon tea is provided.
URL:https://bellingenyouthorchestra.com.au/event/byoss-2023-11-30/2024-08-22/
LOCATION:NSW
CATEGORIES:BYOSS,Musician Portal,Practice
END:VEVENT
BEGIN:VEVENT
DTSTART;TZID=Australia/Sydney:20240815T154500
DTEND;TZID=Australia/Sydney:20240815T183000
DTSTAMP:20260424T032859
CREATED:20210804T235001Z
LAST-MODIFIED:20240208T083753Z
UID:4002-1723736700-1723746600@bellingenyouthorchestra.com.au
SUMMARY:BYOSS Rehearsal
DESCRIPTION:Our Bellingen Youth Orchestra String School rehearse in the Bellingen High School Library. \nIt is best to park at the back of the school for pick up and drop offs. \nAfternoon tea is provided.
URL:https://bellingenyouthorchestra.com.au/event/byoss-2023-11-30/2024-08-15/
LOCATION:NSW
CATEGORIES:BYOSS,Musician Portal,Practice
END:VEVENT
BEGIN:VEVENT
DTSTART;TZID=Australia/Sydney:20240808T154500
DTEND;TZID=Australia/Sydney:20240808T183000
DTSTAMP:20260424T032859
CREATED:20210804T235001Z
LAST-MODIFIED:20240208T083753Z
UID:4001-1723131900-1723141800@bellingenyouthorchestra.com.au
SUMMARY:BYOSS Rehearsal
DESCRIPTION:Our Bellingen Youth Orchestra String School rehearse in the Bellingen High School Library. \nIt is best to park at the back of the school for pick up and drop offs. \nAfternoon tea is provided.
URL:https://bellingenyouthorchestra.com.au/event/byoss-2023-11-30/2024-08-08/
LOCATION:NSW
CATEGORIES:BYOSS,Musician Portal,Practice
END:VEVENT
BEGIN:VEVENT
DTSTART;TZID=Australia/Sydney:20240801T154500
DTEND;TZID=Australia/Sydney:20240801T183000
DTSTAMP:20260424T032859
CREATED:20210804T235001Z
LAST-MODIFIED:20240208T083753Z
UID:4000-1722527100-1722537000@bellingenyouthorchestra.com.au
SUMMARY:BYOSS Rehearsal
DESCRIPTION:Our Bellingen Youth Orchestra String School rehearse in the Bellingen High School Library. \nIt is best to park at the back of the school for pick up and drop offs. \nAfternoon tea is provided.
URL:https://bellingenyouthorchestra.com.au/event/byoss-2023-11-30/2024-08-01/
LOCATION:NSW
CATEGORIES:BYOSS,Musician Portal,Practice
END:VEVENT
BEGIN:VEVENT
DTSTART;TZID=Australia/Sydney:20240725T154500
DTEND;TZID=Australia/Sydney:20240725T183000
DTSTAMP:20260424T032859
CREATED:20210804T235001Z
LAST-MODIFIED:20240208T083752Z
UID:3999-1721922300-1721932200@bellingenyouthorchestra.com.au
SUMMARY:BYOSS Rehearsal
DESCRIPTION:Our Bellingen Youth Orchestra String School rehearse in the Bellingen High School Library. \nIt is best to park at the back of the school for pick up and drop offs. \nAfternoon tea is provided.
URL:https://bellingenyouthorchestra.com.au/event/byoss-2023-11-30/2024-07-25/
LOCATION:NSW
CATEGORIES:BYOSS,Musician Portal,Practice
END:VEVENT
BEGIN:VEVENT
DTSTART;TZID=Australia/Sydney:20240704T154500
DTEND;TZID=Australia/Sydney:20240704T183000
DTSTAMP:20260424T032900
CREATED:20210804T235001Z
LAST-MODIFIED:20240208T083752Z
UID:3996-1720107900-1720117800@bellingenyouthorchestra.com.au
SUMMARY:BYOSS Rehearsal
DESCRIPTION:Our Bellingen Youth Orchestra String School rehearse in the Bellingen High School Library. \nIt is best to park at the back of the school for pick up and drop offs. \nAfternoon tea is provided.
URL:https://bellingenyouthorchestra.com.au/event/byoss-2023-11-30/2024-07-04/
LOCATION:NSW
CATEGORIES:BYOSS,Musician Portal,Practice
END:VEVENT
BEGIN:VEVENT
DTSTART;TZID=Australia/Sydney:20240627T154500
DTEND;TZID=Australia/Sydney:20240627T183000
DTSTAMP:20260424T032900
CREATED:20210804T235001Z
LAST-MODIFIED:20240208T083752Z
UID:3995-1719503100-1719513000@bellingenyouthorchestra.com.au
SUMMARY:BYOSS Rehearsal
DESCRIPTION:Our Bellingen Youth Orchestra String School rehearse in the Bellingen High School Library. \nIt is best to park at the back of the school for pick up and drop offs. \nAfternoon tea is provided.
URL:https://bellingenyouthorchestra.com.au/event/byoss-2023-11-30/2024-06-27/
LOCATION:NSW
CATEGORIES:BYOSS,Musician Portal,Practice
END:VEVENT
BEGIN:VEVENT
DTSTART;TZID=Australia/Sydney:20240620T154500
DTEND;TZID=Australia/Sydney:20240620T183000
DTSTAMP:20260424T032900
CREATED:20210804T235001Z
LAST-MODIFIED:20240208T083752Z
UID:3994-1718898300-1718908200@bellingenyouthorchestra.com.au
SUMMARY:BYOSS Rehearsal
DESCRIPTION:Our Bellingen Youth Orchestra String School rehearse in the Bellingen High School Library. \nIt is best to park at the back of the school for pick up and drop offs. \nAfternoon tea is provided.
URL:https://bellingenyouthorchestra.com.au/event/byoss-2023-11-30/2024-06-20/
LOCATION:NSW
CATEGORIES:BYOSS,Musician Portal,Practice
END:VEVENT
END:VCALENDAR