BEGIN:VCALENDAR
VERSION:2.0
PRODID:-//Bellingen Youth Orchestra - ECPv5.16.0//NONSGML v1.0//EN
CALSCALE:GREGORIAN
METHOD:PUBLISH
X-WR-CALNAME:Bellingen Youth Orchestra
X-ORIGINAL-URL:https://bellingenyouthorchestra.com.au
X-WR-CALDESC:Events for Bellingen Youth Orchestra
REFRESH-INTERVAL;VALUE=DURATION:PT1H
X-Robots-Tag:noindex
X-PUBLISHED-TTL:PT1H
BEGIN:VTIMEZONE
TZID:Australia/Sydney
BEGIN:STANDARD
TZOFFSETFROM:+1100
TZOFFSETTO:+1000
TZNAME:AEST
DTSTART:20230401T160000
END:STANDARD
BEGIN:DAYLIGHT
TZOFFSETFROM:+1000
TZOFFSETTO:+1100
TZNAME:AEDT
DTSTART:20230930T160000
END:DAYLIGHT
END:VTIMEZONE
BEGIN:VEVENT
DTSTART;TZID=Australia/Sydney:20230528T080000
DTEND;TZID=Australia/Sydney:20230528T170000
DTSTAMP:20260421T090803
CREATED:20221222T074250Z
LAST-MODIFIED:20221222T074250Z
UID:3192-1685260800-1685293200@bellingenyouthorchestra.com.au
SUMMARY:BYO Compass Rehearsal
DESCRIPTION:As part of the 2023 Compass Festival\, all BYO players are encouraged to attend this rehearsal. Further details\, including rehearsal times\, will be emailed out\, closer to the date.
URL:https://bellingenyouthorchestra.com.au/event/byo-compass-rehearsal/
CATEGORIES:BYO,Musician Portal
END:VEVENT
END:VCALENDAR