BEGIN:VCALENDAR
VERSION:2.0
PRODID:-//Bellingen Youth Orchestra - ECPv5.16.0//NONSGML v1.0//EN
CALSCALE:GREGORIAN
METHOD:PUBLISH
X-ORIGINAL-URL:https://bellingenyouthorchestra.com.au
X-WR-CALDESC:Events for Bellingen Youth Orchestra
REFRESH-INTERVAL;VALUE=DURATION:PT1H
X-Robots-Tag:noindex
X-PUBLISHED-TTL:PT1H
BEGIN:VTIMEZONE
TZID:Australia/Sydney
BEGIN:STANDARD
TZOFFSETFROM:+1100
TZOFFSETTO:+1000
TZNAME:AEST
DTSTART:20260404T160000
END:STANDARD
BEGIN:DAYLIGHT
TZOFFSETFROM:+1000
TZOFFSETTO:+1100
TZNAME:AEDT
DTSTART:20261003T160000
END:DAYLIGHT
END:VTIMEZONE
BEGIN:VEVENT
DTSTART;TZID=Australia/Sydney:20260508T173000
DTEND;TZID=Australia/Sydney:20260508T190000
DTSTAMP:20260423T103616
CREATED:20251224T041224Z
LAST-MODIFIED:20260221T235347Z
UID:5734-1778261400-1778266800@bellingenyouthorchestra.com.au
SUMMARY:2026 Senior Scholarship Round
DESCRIPTION:STAGE ONE APPLICATION CLOSED. \nWe are pleased to invite eligible BYO and BYOSS\, BYOWS students to apply for the upcoming scholarship round. These scholarships are designed to support and encourage committed young musicians as they continue to develop their skills\, passion\, and musical engagement. Please email admin@bellingenyouthorchestra.com.au if you need a copy of the application details\, or find it in our player notices in our portal in the BYO section.  \nBellingen High School – time coming soon.
URL:https://bellingenyouthorchestra.com.au/event/2026-senior-scholarship-round/
CATEGORIES:Musician Portal
END:VEVENT
BEGIN:VEVENT
DTSTART;TZID=Australia/Sydney:20260509T100000
DTEND;TZID=Australia/Sydney:20260509T120000
DTSTAMP:20260423T103616
CREATED:20251224T042045Z
LAST-MODIFIED:20251224T042639Z
UID:5745-1778320800-1778328000@bellingenyouthorchestra.com.au
SUMMARY:BYOSS – Bellingen Show Performance
DESCRIPTION:Time and further details TBC.
URL:https://bellingenyouthorchestra.com.au/event/byoss-bellingen-show-performance/
CATEGORIES:BYOSS,Event
END:VEVENT
BEGIN:VEVENT
DTSTART;TZID=Australia/Sydney:20260524T080000
DTEND;TZID=Australia/Sydney:20260526T170000
DTSTAMP:20260423T103616
CREATED:20251224T050640Z
LAST-MODIFIED:20251224T050641Z
UID:5751-1779609600-1779814800@bellingenyouthorchestra.com.au
SUMMARY:Compass Festival
DESCRIPTION:https://artsunit.nsw.edu.au/compass-music-festival-north-coast \nDetails and parent information to come out\, closer to the date.
URL:https://bellingenyouthorchestra.com.au/event/compass-festival/
CATEGORIES:BYO,Event,Musician Portal
ATTACH;FMTTYPE=image/jpeg:https://bellingenyouthorchestra.com.au/wp-content/uploads/2025/12/promo-3.jpg
END:VEVENT
END:VCALENDAR