BEGIN:VCALENDAR
VERSION:2.0
PRODID:-//Bellingen Youth Orchestra - ECPv5.16.0//NONSGML v1.0//EN
CALSCALE:GREGORIAN
METHOD:PUBLISH
X-ORIGINAL-URL:https://bellingenyouthorchestra.com.au
X-WR-CALDESC:Events for Bellingen Youth Orchestra
REFRESH-INTERVAL;VALUE=DURATION:PT1H
X-Robots-Tag:noindex
X-PUBLISHED-TTL:PT1H
BEGIN:VTIMEZONE
TZID:Australia/Sydney
BEGIN:STANDARD
TZOFFSETFROM:+1100
TZOFFSETTO:+1000
TZNAME:AEST
DTSTART:20250405T160000
END:STANDARD
BEGIN:DAYLIGHT
TZOFFSETFROM:+1000
TZOFFSETTO:+1100
TZNAME:AEDT
DTSTART:20251004T160000
END:DAYLIGHT
END:VTIMEZONE
BEGIN:VEVENT
DTSTART;TZID=Australia/Sydney:20251106T153000
DTEND;TZID=Australia/Sydney:20251106T170000
DTSTAMP:20260423T163601
CREATED:20250129T221051Z
LAST-MODIFIED:20250614T060717Z
UID:4943-1762443000-1762448400@bellingenyouthorchestra.com.au
SUMMARY:BYOSS Rehearsal
DESCRIPTION:The Bellingen Youth Orchestra String School rehearse from 3.30 pm in the Bellingen Highschool demountable to 5pm\, followed by afternoon tea.
URL:https://bellingenyouthorchestra.com.au/event/byoss-rehearsal-2025-06-26-2025-11-06/
LOCATION:Bellingen Highschool Demountable\, 1125 Waterfall Way\,\, Bellingen\, NSW\, 2454
CATEGORIES:BYOSS,Musician Portal,Practice
END:VEVENT
BEGIN:VEVENT
DTSTART;TZID=Australia/Sydney:20251106T154500
DTEND;TZID=Australia/Sydney:20251106T170000
DTSTAMP:20260423T163601
CREATED:20250209T053943Z
LAST-MODIFIED:20250209T074002Z
UID:5282-1762443900-1762448400@bellingenyouthorchestra.com.au
SUMMARY:BYOWS Rehearsal
DESCRIPTION:The Bellingen Youth Orchestra Wind School rehearse from 3.45 pm in the Bellingen Highschool Music Rooms to 5pm\, followed by afternoon tea.
URL:https://bellingenyouthorchestra.com.au/event/byows-rehearsal-2/2025-11-06/
LOCATION:Bellingen High School Music Rooms
CATEGORIES:BYOWS,Musician Portal,Practice
END:VEVENT
BEGIN:VEVENT
DTSTART;TZID=Australia/Sydney:20251113T153000
DTEND;TZID=Australia/Sydney:20251113T170000
DTSTAMP:20260423T163601
CREATED:20250129T221051Z
LAST-MODIFIED:20250614T060718Z
UID:4944-1763047800-1763053200@bellingenyouthorchestra.com.au
SUMMARY:BYOSS Rehearsal
DESCRIPTION:The Bellingen Youth Orchestra String School rehearse from 3.30 pm in the Bellingen Highschool demountable to 5pm\, followed by afternoon tea.
URL:https://bellingenyouthorchestra.com.au/event/byoss-rehearsal-2025-06-26-2025-11-13/
LOCATION:Bellingen Highschool Demountable\, 1125 Waterfall Way\,\, Bellingen\, NSW\, 2454
CATEGORIES:BYOSS,Musician Portal,Practice
END:VEVENT
BEGIN:VEVENT
DTSTART;TZID=Australia/Sydney:20251113T154500
DTEND;TZID=Australia/Sydney:20251113T170000
DTSTAMP:20260423T163601
CREATED:20250209T053943Z
LAST-MODIFIED:20250209T074003Z
UID:5283-1763048700-1763053200@bellingenyouthorchestra.com.au
SUMMARY:BYOWS Rehearsal
DESCRIPTION:The Bellingen Youth Orchestra Wind School rehearse from 3.45 pm in the Bellingen Highschool Music Rooms to 5pm\, followed by afternoon tea.
URL:https://bellingenyouthorchestra.com.au/event/byows-rehearsal-2/2025-11-13/
LOCATION:Bellingen High School Music Rooms
CATEGORIES:BYOWS,Musician Portal,Practice
END:VEVENT
BEGIN:VEVENT
DTSTART;TZID=Australia/Sydney:20251120T153000
DTEND;TZID=Australia/Sydney:20251120T170000
DTSTAMP:20260423T163601
CREATED:20250129T221051Z
LAST-MODIFIED:20250614T060718Z
UID:4945-1763652600-1763658000@bellingenyouthorchestra.com.au
SUMMARY:BYOSS Rehearsal
DESCRIPTION:The Bellingen Youth Orchestra String School rehearse from 3.30 pm in the Bellingen Highschool demountable to 5pm\, followed by afternoon tea.
URL:https://bellingenyouthorchestra.com.au/event/byoss-rehearsal-2025-06-26-2025-11-20/
LOCATION:Bellingen Highschool Demountable\, 1125 Waterfall Way\,\, Bellingen\, NSW\, 2454
CATEGORIES:BYOSS,Musician Portal,Practice
END:VEVENT
BEGIN:VEVENT
DTSTART;TZID=Australia/Sydney:20251120T154500
DTEND;TZID=Australia/Sydney:20251120T170000
DTSTAMP:20260423T163601
CREATED:20250209T053943Z
LAST-MODIFIED:20250209T074003Z
UID:5284-1763653500-1763658000@bellingenyouthorchestra.com.au
SUMMARY:BYOWS Rehearsal
DESCRIPTION:The Bellingen Youth Orchestra Wind School rehearse from 3.45 pm in the Bellingen Highschool Music Rooms to 5pm\, followed by afternoon tea.
URL:https://bellingenyouthorchestra.com.au/event/byows-rehearsal-2/2025-11-20/
LOCATION:Bellingen High School Music Rooms
CATEGORIES:BYOWS,Musician Portal,Practice
END:VEVENT
BEGIN:VEVENT
DTSTART;TZID=Australia/Sydney:20251127T153000
DTEND;TZID=Australia/Sydney:20251127T170000
DTSTAMP:20260423T163601
CREATED:20250129T221051Z
LAST-MODIFIED:20250614T060719Z
UID:4946-1764257400-1764262800@bellingenyouthorchestra.com.au
SUMMARY:BYOSS Rehearsal
DESCRIPTION:The Bellingen Youth Orchestra String School rehearse from 3.30 pm in the Bellingen Highschool demountable to 5pm\, followed by afternoon tea.
URL:https://bellingenyouthorchestra.com.au/event/byoss-rehearsal-2025-06-26-2025-11-27/
LOCATION:Bellingen Highschool Demountable\, 1125 Waterfall Way\,\, Bellingen\, NSW\, 2454
CATEGORIES:BYOSS,Musician Portal,Practice
END:VEVENT
BEGIN:VEVENT
DTSTART;TZID=Australia/Sydney:20251127T154500
DTEND;TZID=Australia/Sydney:20251127T170000
DTSTAMP:20260423T163601
CREATED:20250209T053943Z
LAST-MODIFIED:20250209T074003Z
UID:5285-1764258300-1764262800@bellingenyouthorchestra.com.au
SUMMARY:BYOWS Rehearsal
DESCRIPTION:The Bellingen Youth Orchestra Wind School rehearse from 3.45 pm in the Bellingen Highschool Music Rooms to 5pm\, followed by afternoon tea.
URL:https://bellingenyouthorchestra.com.au/event/byows-rehearsal-2/2025-11-27/
LOCATION:Bellingen High School Music Rooms
CATEGORIES:BYOWS,Musician Portal,Practice
END:VEVENT
END:VCALENDAR