BEGIN:VCALENDAR
VERSION:2.0
PRODID:-//Bellingen Youth Orchestra - ECPv5.16.0//NONSGML v1.0//EN
CALSCALE:GREGORIAN
METHOD:PUBLISH
X-WR-CALNAME:Bellingen Youth Orchestra
X-ORIGINAL-URL:https://bellingenyouthorchestra.com.au
X-WR-CALDESC:Events for Bellingen Youth Orchestra
REFRESH-INTERVAL;VALUE=DURATION:PT1H
X-Robots-Tag:noindex
X-PUBLISHED-TTL:PT1H
BEGIN:VTIMEZONE
TZID:Australia/Sydney
BEGIN:STANDARD
TZOFFSETFROM:+1100
TZOFFSETTO:+1000
TZNAME:AEST
DTSTART:20250405T160000
END:STANDARD
BEGIN:DAYLIGHT
TZOFFSETFROM:+1000
TZOFFSETTO:+1100
TZNAME:AEDT
DTSTART:20251004T160000
END:DAYLIGHT
END:VTIMEZONE
BEGIN:VEVENT
DTSTART;TZID=Australia/Sydney:20250929T080000
DTEND;TZID=Australia/Sydney:20251010T170000
DTSTAMP:20260423T180601
CREATED:20250209T061621Z
LAST-MODIFIED:20250209T061622Z
UID:5273-1759132800-1760115600@bellingenyouthorchestra.com.au
SUMMARY:SPRING School Holidays
DESCRIPTION:NO rehearsals during school holidays unless advised by your director of your ensemble.
URL:https://bellingenyouthorchestra.com.au/event/spring-school-holidays-2/
CATEGORIES:Musician Portal,School Holidays
END:VEVENT
BEGIN:VEVENT
DTSTART;TZID=Australia/Sydney:20251016T153000
DTEND;TZID=Australia/Sydney:20251016T170000
DTSTAMP:20260423T180601
CREATED:20250129T221051Z
LAST-MODIFIED:20250614T060717Z
UID:4940-1760628600-1760634000@bellingenyouthorchestra.com.au
SUMMARY:BYOSS Rehearsal
DESCRIPTION:The Bellingen Youth Orchestra String School rehearse from 3.30 pm in the Bellingen Highschool demountable to 5pm\, followed by afternoon tea.
URL:https://bellingenyouthorchestra.com.au/event/byoss-rehearsal-2025-06-26-2025-10-16/
LOCATION:Bellingen Highschool Demountable\, 1125 Waterfall Way\,\, Bellingen\, NSW\, 2454
CATEGORIES:BYOSS,Musician Portal,Practice
END:VEVENT
BEGIN:VEVENT
DTSTART;TZID=Australia/Sydney:20251016T154500
DTEND;TZID=Australia/Sydney:20251016T170000
DTSTAMP:20260423T180601
CREATED:20250209T053943Z
LAST-MODIFIED:20250209T074000Z
UID:5279-1760629500-1760634000@bellingenyouthorchestra.com.au
SUMMARY:BYOWS Rehearsal
DESCRIPTION:The Bellingen Youth Orchestra Wind School rehearse from 3.45 pm in the Bellingen Highschool Music Rooms to 5pm\, followed by afternoon tea.
URL:https://bellingenyouthorchestra.com.au/event/byows-rehearsal-2/2025-10-16/
LOCATION:Bellingen High School Music Rooms
CATEGORIES:BYOWS,Musician Portal,Practice
END:VEVENT
BEGIN:VEVENT
DTSTART;TZID=Australia/Sydney:20251023T153000
DTEND;TZID=Australia/Sydney:20251023T170000
DTSTAMP:20260423T180601
CREATED:20250129T221051Z
LAST-MODIFIED:20250614T060717Z
UID:4941-1761233400-1761238800@bellingenyouthorchestra.com.au
SUMMARY:BYOSS Rehearsal
DESCRIPTION:The Bellingen Youth Orchestra String School rehearse from 3.30 pm in the Bellingen Highschool demountable to 5pm\, followed by afternoon tea.
URL:https://bellingenyouthorchestra.com.au/event/byoss-rehearsal-2025-06-26-2025-10-23/
LOCATION:Bellingen Highschool Demountable\, 1125 Waterfall Way\,\, Bellingen\, NSW\, 2454
CATEGORIES:BYOSS,Musician Portal,Practice
END:VEVENT
BEGIN:VEVENT
DTSTART;TZID=Australia/Sydney:20251023T154500
DTEND;TZID=Australia/Sydney:20251023T170000
DTSTAMP:20260423T180601
CREATED:20250209T053943Z
LAST-MODIFIED:20250209T074002Z
UID:5280-1761234300-1761238800@bellingenyouthorchestra.com.au
SUMMARY:BYOWS Rehearsal
DESCRIPTION:The Bellingen Youth Orchestra Wind School rehearse from 3.45 pm in the Bellingen Highschool Music Rooms to 5pm\, followed by afternoon tea.
URL:https://bellingenyouthorchestra.com.au/event/byows-rehearsal-2/2025-10-23/
LOCATION:Bellingen High School Music Rooms
CATEGORIES:BYOWS,Musician Portal,Practice
END:VEVENT
BEGIN:VEVENT
DTSTART;TZID=Australia/Sydney:20251030T153000
DTEND;TZID=Australia/Sydney:20251030T170000
DTSTAMP:20260423T180601
CREATED:20250129T221051Z
LAST-MODIFIED:20250614T060717Z
UID:4942-1761838200-1761843600@bellingenyouthorchestra.com.au
SUMMARY:BYOSS Rehearsal
DESCRIPTION:The Bellingen Youth Orchestra String School rehearse from 3.30 pm in the Bellingen Highschool demountable to 5pm\, followed by afternoon tea.
URL:https://bellingenyouthorchestra.com.au/event/byoss-rehearsal-2025-06-26-2025-10-30/
LOCATION:Bellingen Highschool Demountable\, 1125 Waterfall Way\,\, Bellingen\, NSW\, 2454
CATEGORIES:BYOSS,Musician Portal,Practice
END:VEVENT
BEGIN:VEVENT
DTSTART;TZID=Australia/Sydney:20251030T154500
DTEND;TZID=Australia/Sydney:20251030T170000
DTSTAMP:20260423T180601
CREATED:20250209T053943Z
LAST-MODIFIED:20250209T074002Z
UID:5281-1761839100-1761843600@bellingenyouthorchestra.com.au
SUMMARY:BYOWS Rehearsal
DESCRIPTION:The Bellingen Youth Orchestra Wind School rehearse from 3.45 pm in the Bellingen Highschool Music Rooms to 5pm\, followed by afternoon tea.
URL:https://bellingenyouthorchestra.com.au/event/byows-rehearsal-2/2025-10-30/
LOCATION:Bellingen High School Music Rooms
CATEGORIES:BYOWS,Musician Portal,Practice
END:VEVENT
END:VCALENDAR