BEGIN:VCALENDAR
VERSION:2.0
PRODID:-//Bellingen Youth Orchestra - ECPv5.16.0//NONSGML v1.0//EN
CALSCALE:GREGORIAN
METHOD:PUBLISH
X-WR-CALNAME:Bellingen Youth Orchestra
X-ORIGINAL-URL:https://bellingenyouthorchestra.com.au
X-WR-CALDESC:Events for Bellingen Youth Orchestra
REFRESH-INTERVAL;VALUE=DURATION:PT1H
X-Robots-Tag:noindex
X-PUBLISHED-TTL:PT1H
BEGIN:VTIMEZONE
TZID:Australia/Sydney
BEGIN:STANDARD
TZOFFSETFROM:+1100
TZOFFSETTO:+1000
TZNAME:AEST
DTSTART:20250405T160000
END:STANDARD
BEGIN:DAYLIGHT
TZOFFSETFROM:+1000
TZOFFSETTO:+1100
TZNAME:AEDT
DTSTART:20251004T160000
END:DAYLIGHT
END:VTIMEZONE
BEGIN:VEVENT
DTSTART;TZID=Australia/Sydney:20250807T153000
DTEND;TZID=Australia/Sydney:20250807T170000
DTSTAMP:20260423T215122
CREATED:20250129T220052Z
LAST-MODIFIED:20250129T222245Z
UID:4976-1754580600-1754586000@bellingenyouthorchestra.com.au
SUMMARY:BYOWS Rehearsal
DESCRIPTION:BYOWS rehearsals are held in the Bellingen Highschool Music Room from 3.30 with a 3.45 start to 5pm\, followed by afternoon tea. Rehearsals are not held in school holidays.
URL:https://bellingenyouthorchestra.com.au/event/byo-rehearsal/2025-08-07/
CATEGORIES:BYOWS,Musician Portal,Practice
END:VEVENT
BEGIN:VEVENT
DTSTART;TZID=Australia/Sydney:20250807T153000
DTEND;TZID=Australia/Sydney:20250807T170000
DTSTAMP:20260423T215122
CREATED:20250129T221051Z
LAST-MODIFIED:20250209T073551Z
UID:4930-1754580600-1754586000@bellingenyouthorchestra.com.au
SUMMARY:BYOSS Rehearsal
DESCRIPTION:The Bellingen Youth Orchestra String School rehearse from 3.30 pm in the Bellingen Highschool demountable to 5pm\, followed by afternoon tea.
URL:https://bellingenyouthorchestra.com.au/event/byoss-rehearsal/2025-08-07/
LOCATION:Bellingen Highschool Demountable\, 1125 Waterfall Way\,\, Bellingen\, NSW\, 2454
CATEGORIES:BYOSS,Musician Portal,Practice
END:VEVENT
BEGIN:VEVENT
DTSTART;TZID=Australia/Sydney:20250807T154500
DTEND;TZID=Australia/Sydney:20250807T170000
DTSTAMP:20260423T215122
CREATED:20250209T053943Z
LAST-MODIFIED:20250209T073959Z
UID:5263-1754581500-1754586000@bellingenyouthorchestra.com.au
SUMMARY:BYOWS Rehearsal
DESCRIPTION:The Bellingen Youth Orchestra Wind School rehearse from 3.45 pm in the Bellingen Highschool Music Rooms to 5pm\, followed by afternoon tea.
URL:https://bellingenyouthorchestra.com.au/event/byows-rehearsal-2/2025-08-07/
LOCATION:Bellingen High School Music Rooms
CATEGORIES:BYOWS,Musician Portal,Practice
END:VEVENT
BEGIN:VEVENT
DTSTART;TZID=Australia/Sydney:20250814T153000
DTEND;TZID=Australia/Sydney:20250814T170000
DTSTAMP:20260423T215122
CREATED:20250129T221051Z
LAST-MODIFIED:20250209T073551Z
UID:4931-1755185400-1755190800@bellingenyouthorchestra.com.au
SUMMARY:BYOSS Rehearsal
DESCRIPTION:The Bellingen Youth Orchestra String School rehearse from 3.30 pm in the Bellingen Highschool demountable to 5pm\, followed by afternoon tea.
URL:https://bellingenyouthorchestra.com.au/event/byoss-rehearsal/2025-08-14/
LOCATION:Bellingen Highschool Demountable\, 1125 Waterfall Way\,\, Bellingen\, NSW\, 2454
CATEGORIES:BYOSS,Musician Portal,Practice
END:VEVENT
BEGIN:VEVENT
DTSTART;TZID=Australia/Sydney:20250814T154500
DTEND;TZID=Australia/Sydney:20250814T170000
DTSTAMP:20260423T215122
CREATED:20250209T053943Z
LAST-MODIFIED:20250209T073959Z
UID:5264-1755186300-1755190800@bellingenyouthorchestra.com.au
SUMMARY:BYOWS Rehearsal
DESCRIPTION:The Bellingen Youth Orchestra Wind School rehearse from 3.45 pm in the Bellingen Highschool Music Rooms to 5pm\, followed by afternoon tea.
URL:https://bellingenyouthorchestra.com.au/event/byows-rehearsal-2/2025-08-14/
LOCATION:Bellingen High School Music Rooms
CATEGORIES:BYOWS,Musician Portal,Practice
END:VEVENT
BEGIN:VEVENT
DTSTART;TZID=Australia/Sydney:20250821T153000
DTEND;TZID=Australia/Sydney:20250821T170000
DTSTAMP:20260423T215122
CREATED:20250129T221051Z
LAST-MODIFIED:20250209T073551Z
UID:4932-1755790200-1755795600@bellingenyouthorchestra.com.au
SUMMARY:BYOSS Rehearsal
DESCRIPTION:The Bellingen Youth Orchestra String School rehearse from 3.30 pm in the Bellingen Highschool demountable to 5pm\, followed by afternoon tea.
URL:https://bellingenyouthorchestra.com.au/event/byoss-rehearsal/2025-08-21/
LOCATION:Bellingen Highschool Demountable\, 1125 Waterfall Way\,\, Bellingen\, NSW\, 2454
CATEGORIES:BYOSS,Musician Portal,Practice
END:VEVENT
BEGIN:VEVENT
DTSTART;TZID=Australia/Sydney:20250821T154500
DTEND;TZID=Australia/Sydney:20250821T170000
DTSTAMP:20260423T215122
CREATED:20250209T053943Z
LAST-MODIFIED:20250209T074000Z
UID:5265-1755791100-1755795600@bellingenyouthorchestra.com.au
SUMMARY:BYOWS Rehearsal
DESCRIPTION:The Bellingen Youth Orchestra Wind School rehearse from 3.45 pm in the Bellingen Highschool Music Rooms to 5pm\, followed by afternoon tea.
URL:https://bellingenyouthorchestra.com.au/event/byows-rehearsal-2/2025-08-21/
LOCATION:Bellingen High School Music Rooms
CATEGORIES:BYOWS,Musician Portal,Practice
END:VEVENT
BEGIN:VEVENT
DTSTART;TZID=Australia/Sydney:20250823T183000
DTEND;TZID=Australia/Sydney:20250823T203000
DTSTAMP:20260423T215122
CREATED:20250426T032442Z
LAST-MODIFIED:20250727T060902Z
UID:5455-1755973800-1755981000@bellingenyouthorchestra.com.au
SUMMARY:The Music of Joni Mitchell
DESCRIPTION:Join us for a captivating night of music as celebrated BYO alumna Rosie Stephen returns to the stage to perform the beloved songs of Joni Mitchell. With her signature warmth and vocal brilliance\, Rosie will be joined by guest artists and backed by the lush soundscape of the BYO Sinfonia. From soaring melodies to intimate acoustic moments\, this tribute promises a heartfelt journey through the music of one of the greatest songwriters of our time. \nThere will be an interval with tea and cake. \nCLICK HERE TO GET YOUR TICKETS! \n 
URL:https://bellingenyouthorchestra.com.au/event/the-music-of-joni-mitchell/
CATEGORIES:BYO,Event,Musician Portal
ATTACH;FMTTYPE=image/png:https://bellingenyouthorchestra.com.au/wp-content/uploads/2025/04/calendar-graphic.png
END:VEVENT
BEGIN:VEVENT
DTSTART;TZID=Australia/Sydney:20250828T153000
DTEND;TZID=Australia/Sydney:20250828T170000
DTSTAMP:20260423T215122
CREATED:20250129T221051Z
LAST-MODIFIED:20250614T060716Z
UID:4933-1756395000-1756400400@bellingenyouthorchestra.com.au
SUMMARY:BYOSS Rehearsal
DESCRIPTION:The Bellingen Youth Orchestra String School rehearse from 3.30 pm in the Bellingen Highschool demountable to 5pm\, followed by afternoon tea.
URL:https://bellingenyouthorchestra.com.au/event/byoss-rehearsal-2025-06-26-2025-08-28/
LOCATION:Bellingen Highschool Demountable\, 1125 Waterfall Way\,\, Bellingen\, NSW\, 2454
CATEGORIES:BYOSS,Musician Portal,Practice
END:VEVENT
BEGIN:VEVENT
DTSTART;TZID=Australia/Sydney:20250828T154500
DTEND;TZID=Australia/Sydney:20250828T170000
DTSTAMP:20260423T215122
CREATED:20250209T053943Z
LAST-MODIFIED:20250209T074000Z
UID:5266-1756395900-1756400400@bellingenyouthorchestra.com.au
SUMMARY:BYOWS Rehearsal
DESCRIPTION:The Bellingen Youth Orchestra Wind School rehearse from 3.45 pm in the Bellingen Highschool Music Rooms to 5pm\, followed by afternoon tea.
URL:https://bellingenyouthorchestra.com.au/event/byows-rehearsal-2/2025-08-28/
LOCATION:Bellingen High School Music Rooms
CATEGORIES:BYOWS,Musician Portal,Practice
END:VEVENT
END:VCALENDAR