BEGIN:VCALENDAR
VERSION:2.0
PRODID:-//Bellingen Youth Orchestra - ECPv5.16.0//NONSGML v1.0//EN
CALSCALE:GREGORIAN
METHOD:PUBLISH
X-ORIGINAL-URL:https://bellingenyouthorchestra.com.au
X-WR-CALDESC:Events for Bellingen Youth Orchestra
REFRESH-INTERVAL;VALUE=DURATION:PT1H
X-Robots-Tag:noindex
X-PUBLISHED-TTL:PT1H
BEGIN:VTIMEZONE
TZID:Australia/Sydney
BEGIN:STANDARD
TZOFFSETFROM:+1100
TZOFFSETTO:+1000
TZNAME:AEST
DTSTART:20250405T160000
END:STANDARD
BEGIN:DAYLIGHT
TZOFFSETFROM:+1000
TZOFFSETTO:+1100
TZNAME:AEDT
DTSTART:20251004T160000
END:DAYLIGHT
END:VTIMEZONE
BEGIN:VEVENT
DTSTART;TZID=Australia/Sydney:20250204T183000
DTEND;TZID=Australia/Sydney:20250204T200000
DTSTAMP:20260424T095553
CREATED:20241229T205916Z
LAST-MODIFIED:20241229T214934Z
UID:4826-1738693800-1738699200@bellingenyouthorchestra.com.au
SUMMARY:BYO Operational Meeting.
DESCRIPTION:The BYO operational committee meet fortnighly to ensure all processes are running smoothly and to develop event preperation etc.
URL:https://bellingenyouthorchestra.com.au/event/byo-operational-meeting/2025-02-04/
CATEGORIES:BYO Operational Meeting,Musician Portal
END:VEVENT
BEGIN:VEVENT
DTSTART;TZID=Australia/Sydney:20250206T153000
DTEND;TZID=Australia/Sydney:20250206T170000
DTSTAMP:20260424T095553
CREATED:20250129T221051Z
LAST-MODIFIED:20250209T073540Z
UID:4902-1738855800-1738861200@bellingenyouthorchestra.com.au
SUMMARY:BYOSS Rehearsal
DESCRIPTION:The Bellingen Youth Orchestra String School rehearse from 3.30 pm in the Bellingen Highschool demountable to 5pm\, followed by afternoon tea.
URL:https://bellingenyouthorchestra.com.au/event/byoss-rehearsal/2025-02-06/
LOCATION:Bellingen Highschool Demountable\, 1125 Waterfall Way\,\, Bellingen\, NSW\, 2454
CATEGORIES:BYOSS,Musician Portal,Practice
END:VEVENT
BEGIN:VEVENT
DTSTART;TZID=Australia/Sydney:20250213T153000
DTEND;TZID=Australia/Sydney:20250213T170000
DTSTAMP:20260424T095553
CREATED:20250129T221051Z
LAST-MODIFIED:20250209T073541Z
UID:4905-1739460600-1739466000@bellingenyouthorchestra.com.au
SUMMARY:BYOSS Rehearsal
DESCRIPTION:The Bellingen Youth Orchestra String School rehearse from 3.30 pm in the Bellingen Highschool demountable to 5pm\, followed by afternoon tea.
URL:https://bellingenyouthorchestra.com.au/event/byoss-rehearsal/2025-02-13/
LOCATION:Bellingen Highschool Demountable\, 1125 Waterfall Way\,\, Bellingen\, NSW\, 2454
CATEGORIES:BYOSS,Musician Portal,Practice
END:VEVENT
BEGIN:VEVENT
DTSTART;TZID=Australia/Sydney:20250213T154500
DTEND;TZID=Australia/Sydney:20250213T170000
DTSTAMP:20260424T095553
CREATED:20250209T053943Z
LAST-MODIFIED:20250209T073946Z
UID:5225-1739461500-1739466000@bellingenyouthorchestra.com.au
SUMMARY:BYOWS Rehearsal
DESCRIPTION:The Bellingen Youth Orchestra Wind School rehearse from 3.45 pm in the Bellingen Highschool Music Rooms to 5pm\, followed by afternoon tea.
URL:https://bellingenyouthorchestra.com.au/event/byows-rehearsal-2/2025-02-13/
LOCATION:Bellingen High School Music Rooms
CATEGORIES:BYOWS,Musician Portal,Practice
END:VEVENT
BEGIN:VEVENT
DTSTART;TZID=Australia/Sydney:20250213T160000
DTEND;TZID=Australia/Sydney:20250213T180000
DTSTAMP:20260424T095553
CREATED:20250209T062745Z
LAST-MODIFIED:20250614T063447Z
UID:5317-1739462400-1739469600@bellingenyouthorchestra.com.au
SUMMARY:BYO Rehearsal
DESCRIPTION:The BYO rehearse in the Bellingen High School Hall from 4pm.
URL:https://bellingenyouthorchestra.com.au/event/byo-rehearsal-2/2025-02-13/
LOCATION:Stockton Hall\, Bellingen High School\, Stockton Hall\, BHS\, 1125 Waterfall Way\, Bellingen\, NSW\, Australia
CATEGORIES:BYO,Musician Portal,Practice
END:VEVENT
BEGIN:VEVENT
DTSTART;TZID=Australia/Sydney:20250213T173000
DTEND;TZID=Australia/Sydney:20250213T190000
DTSTAMP:20260424T095553
CREATED:20250209T054512Z
LAST-MODIFIED:20250209T060117Z
UID:5228-1739467800-1739473200@bellingenyouthorchestra.com.au
SUMMARY:PARENT BBQ
DESCRIPTION:We would love for you to join us at our upcoming parent BBQ! This is a fantastic opportunity to connect with other parents and carers\, put faces to names for our committee members and BYO volunteers\, and learn more about our incredible organisation. You’ll also have the chance to ask any questions you may have. We hope to see you there! \nTime: 5.30pm \nLocation: Stockton Hall\, Bellingen Youth Orchestra \nWe will be providing our usual afternoon tea\, along with sausages.
URL:https://bellingenyouthorchestra.com.au/event/parent-bbq/
CATEGORIES:Musician Portal
END:VEVENT
BEGIN:VEVENT
DTSTART;TZID=Australia/Sydney:20250218T183000
DTEND;TZID=Australia/Sydney:20250218T200000
DTSTAMP:20260424T095553
CREATED:20241229T205916Z
LAST-MODIFIED:20241229T214935Z
UID:4828-1739903400-1739908800@bellingenyouthorchestra.com.au
SUMMARY:BYO Operational Meeting.
DESCRIPTION:The BYO operational committee meet fortnighly to ensure all processes are running smoothly and to develop event preperation etc.
URL:https://bellingenyouthorchestra.com.au/event/byo-operational-meeting/2025-02-18/
CATEGORIES:BYO Operational Meeting,Musician Portal
END:VEVENT
BEGIN:VEVENT
DTSTART;TZID=Australia/Sydney:20250220T153000
DTEND;TZID=Australia/Sydney:20250220T170000
DTSTAMP:20260424T095553
CREATED:20250129T221051Z
LAST-MODIFIED:20250209T073542Z
UID:4906-1740065400-1740070800@bellingenyouthorchestra.com.au
SUMMARY:BYOSS Rehearsal
DESCRIPTION:The Bellingen Youth Orchestra String School rehearse from 3.30 pm in the Bellingen Highschool demountable to 5pm\, followed by afternoon tea.
URL:https://bellingenyouthorchestra.com.au/event/byoss-rehearsal/2025-02-20/
LOCATION:Bellingen Highschool Demountable\, 1125 Waterfall Way\,\, Bellingen\, NSW\, 2454
CATEGORIES:BYOSS,Musician Portal,Practice
END:VEVENT
BEGIN:VEVENT
DTSTART;TZID=Australia/Sydney:20250220T154500
DTEND;TZID=Australia/Sydney:20250220T170000
DTSTAMP:20260424T095553
CREATED:20250209T053943Z
LAST-MODIFIED:20250209T073948Z
UID:5239-1740066300-1740070800@bellingenyouthorchestra.com.au
SUMMARY:BYOWS Rehearsal
DESCRIPTION:The Bellingen Youth Orchestra Wind School rehearse from 3.45 pm in the Bellingen Highschool Music Rooms to 5pm\, followed by afternoon tea.
URL:https://bellingenyouthorchestra.com.au/event/byows-rehearsal-2/2025-02-20/
LOCATION:Bellingen High School Music Rooms
CATEGORIES:BYOWS,Musician Portal,Practice
END:VEVENT
BEGIN:VEVENT
DTSTART;TZID=Australia/Sydney:20250220T160000
DTEND;TZID=Australia/Sydney:20250220T180000
DTSTAMP:20260424T095553
CREATED:20250209T062745Z
LAST-MODIFIED:20250614T084543Z
UID:5319-1740067200-1740074400@bellingenyouthorchestra.com.au
SUMMARY:BYO Rehearsal
DESCRIPTION:The BYO rehearse in the Bellingen High School Hall from 4pm.
URL:https://bellingenyouthorchestra.com.au/event/byo-rehearsal-2/2025-02-20/
LOCATION:Stockton Hall\, Bellingen High School\, Stockton Hall\, BHS\, 1125 Waterfall Way\, Bellingen\, NSW\, Australia
CATEGORIES:BYO,Musician Portal,Practice
END:VEVENT
BEGIN:VEVENT
DTSTART;TZID=Australia/Sydney:20250221T180000
DTEND;TZID=Australia/Sydney:20250221T180000
DTSTAMP:20260424T095553
CREATED:20250209T054700Z
LAST-MODIFIED:20250209T060045Z
UID:5230-1740160800-1740160800@bellingenyouthorchestra.com.au
SUMMARY:Last day for JUNIOR SCHOLARSHIPS - written application
DESCRIPTION:
URL:https://bellingenyouthorchestra.com.au/event/last-day-for-junior-scholarships-written-application/
CATEGORIES:Musician Portal
END:VEVENT
BEGIN:VEVENT
DTSTART;TZID=Australia/Sydney:20250227T153000
DTEND;TZID=Australia/Sydney:20250227T170000
DTSTAMP:20260424T095553
CREATED:20250129T221051Z
LAST-MODIFIED:20250209T073543Z
UID:4907-1740670200-1740675600@bellingenyouthorchestra.com.au
SUMMARY:BYOSS Rehearsal
DESCRIPTION:The Bellingen Youth Orchestra String School rehearse from 3.30 pm in the Bellingen Highschool demountable to 5pm\, followed by afternoon tea.
URL:https://bellingenyouthorchestra.com.au/event/byoss-rehearsal/2025-02-27/
LOCATION:Bellingen Highschool Demountable\, 1125 Waterfall Way\,\, Bellingen\, NSW\, 2454
CATEGORIES:BYOSS,Musician Portal,Practice
END:VEVENT
BEGIN:VEVENT
DTSTART;TZID=Australia/Sydney:20250227T154500
DTEND;TZID=Australia/Sydney:20250227T170000
DTSTAMP:20260424T095553
CREATED:20250209T053943Z
LAST-MODIFIED:20250209T073949Z
UID:5240-1740671100-1740675600@bellingenyouthorchestra.com.au
SUMMARY:BYOWS Rehearsal
DESCRIPTION:The Bellingen Youth Orchestra Wind School rehearse from 3.45 pm in the Bellingen Highschool Music Rooms to 5pm\, followed by afternoon tea.
URL:https://bellingenyouthorchestra.com.au/event/byows-rehearsal-2/2025-02-27/
LOCATION:Bellingen High School Music Rooms
CATEGORIES:BYOWS,Musician Portal,Practice
END:VEVENT
BEGIN:VEVENT
DTSTART;TZID=Australia/Sydney:20250227T160000
DTEND;TZID=Australia/Sydney:20250227T180000
DTSTAMP:20260424T095553
CREATED:20250209T062745Z
LAST-MODIFIED:20250614T084543Z
UID:5320-1740672000-1740679200@bellingenyouthorchestra.com.au
SUMMARY:BYO Rehearsal
DESCRIPTION:The BYO rehearse in the Bellingen High School Hall from 4pm.
URL:https://bellingenyouthorchestra.com.au/event/byo-rehearsal-2/2025-02-27/
LOCATION:Stockton Hall\, Bellingen High School\, Stockton Hall\, BHS\, 1125 Waterfall Way\, Bellingen\, NSW\, Australia
CATEGORIES:BYO,Musician Portal,Practice
END:VEVENT
END:VCALENDAR