BEGIN:VCALENDAR
VERSION:2.0
PRODID:-//Bellingen Youth Orchestra - ECPv5.16.0//NONSGML v1.0//EN
CALSCALE:GREGORIAN
METHOD:PUBLISH
X-WR-CALNAME:Bellingen Youth Orchestra
X-ORIGINAL-URL:https://bellingenyouthorchestra.com.au
X-WR-CALDESC:Events for Bellingen Youth Orchestra
REFRESH-INTERVAL;VALUE=DURATION:PT1H
X-Robots-Tag:noindex
X-PUBLISHED-TTL:PT1H
BEGIN:VTIMEZONE
TZID:Australia/Sydney
BEGIN:STANDARD
TZOFFSETFROM:+1100
TZOFFSETTO:+1000
TZNAME:AEST
DTSTART:20240406T160000
END:STANDARD
BEGIN:DAYLIGHT
TZOFFSETFROM:+1000
TZOFFSETTO:+1100
TZNAME:AEDT
DTSTART:20241005T160000
END:DAYLIGHT
END:VTIMEZONE
BEGIN:VEVENT
DTSTART;TZID=Australia/Sydney:20240801T153000
DTEND;TZID=Australia/Sydney:20240801T170000
DTSTAMP:20260424T185617
CREATED:20231218T215414Z
LAST-MODIFIED:20240207T084526Z
UID:4092-1722526200-1722531600@bellingenyouthorchestra.com.au
SUMMARY:BYOWS Rehearsal
DESCRIPTION:Our new ensemble the Bellingen Youth Orchestra Wind School will begin rehearsals in 2024. This ensemble will run at the same time as BYOSS and afternoon tea will also be provided. The ensemble will meet in the BHS Music rooms at 3.30pm for set up and a 3.45pm start.
URL:https://bellingenyouthorchestra.com.au/event/byows-rehearsal/2024-08-01/
CATEGORIES:BYOWS,Musician Portal
END:VEVENT
BEGIN:VEVENT
DTSTART;TZID=Australia/Sydney:20240801T154500
DTEND;TZID=Australia/Sydney:20240801T183000
DTSTAMP:20260424T185617
CREATED:20210804T235001Z
LAST-MODIFIED:20240208T083753Z
UID:4000-1722527100-1722537000@bellingenyouthorchestra.com.au
SUMMARY:BYOSS Rehearsal
DESCRIPTION:Our Bellingen Youth Orchestra String School rehearse in the Bellingen High School Library. \nIt is best to park at the back of the school for pick up and drop offs. \nAfternoon tea is provided.
URL:https://bellingenyouthorchestra.com.au/event/byoss-2023-11-30/2024-08-01/
CATEGORIES:BYOSS,Musician Portal,Practice
END:VEVENT
BEGIN:VEVENT
DTSTART;TZID=Australia/Sydney:20240805T160000
DTEND;TZID=Australia/Sydney:20240805T180000
DTSTAMP:20260424T185617
CREATED:20231218T220459Z
LAST-MODIFIED:20231218T220459Z
UID:4149-1722873600-1722880800@bellingenyouthorchestra.com.au
SUMMARY:2024 Sinfonia
DESCRIPTION:
URL:https://bellingenyouthorchestra.com.au/event/2024-sinfonia/2024-08-05/
CATEGORIES:Sinfonia Practice
END:VEVENT
BEGIN:VEVENT
DTSTART;TZID=Australia/Sydney:20240808T153000
DTEND;TZID=Australia/Sydney:20240808T170000
DTSTAMP:20260424T185617
CREATED:20231218T215414Z
LAST-MODIFIED:20240207T084526Z
UID:4093-1723131000-1723136400@bellingenyouthorchestra.com.au
SUMMARY:BYOWS Rehearsal
DESCRIPTION:Our new ensemble the Bellingen Youth Orchestra Wind School will begin rehearsals in 2024. This ensemble will run at the same time as BYOSS and afternoon tea will also be provided. The ensemble will meet in the BHS Music rooms at 3.30pm for set up and a 3.45pm start.
URL:https://bellingenyouthorchestra.com.au/event/byows-rehearsal/2024-08-08/
CATEGORIES:BYOWS,Musician Portal
END:VEVENT
BEGIN:VEVENT
DTSTART;TZID=Australia/Sydney:20240808T154500
DTEND;TZID=Australia/Sydney:20240808T183000
DTSTAMP:20260424T185617
CREATED:20210804T235001Z
LAST-MODIFIED:20240208T083753Z
UID:4001-1723131900-1723141800@bellingenyouthorchestra.com.au
SUMMARY:BYOSS Rehearsal
DESCRIPTION:Our Bellingen Youth Orchestra String School rehearse in the Bellingen High School Library. \nIt is best to park at the back of the school for pick up and drop offs. \nAfternoon tea is provided.
URL:https://bellingenyouthorchestra.com.au/event/byoss-2023-11-30/2024-08-08/
CATEGORIES:BYOSS,Musician Portal,Practice
END:VEVENT
BEGIN:VEVENT
DTSTART;TZID=Australia/Sydney:20240812T160000
DTEND;TZID=Australia/Sydney:20240812T180000
DTSTAMP:20260424T185617
CREATED:20231218T220459Z
LAST-MODIFIED:20231218T220459Z
UID:4150-1723478400-1723485600@bellingenyouthorchestra.com.au
SUMMARY:2024 Sinfonia
DESCRIPTION:
URL:https://bellingenyouthorchestra.com.au/event/2024-sinfonia/2024-08-12/
CATEGORIES:Sinfonia Practice
END:VEVENT
BEGIN:VEVENT
DTSTART;TZID=Australia/Sydney:20240813T183000
DTEND;TZID=Australia/Sydney:20240813T183000
DTSTAMP:20260424T185617
CREATED:20231218T224333Z
LAST-MODIFIED:20231218T224333Z
UID:4577-1723573800-1723573800@bellingenyouthorchestra.com.au
SUMMARY:Operational Meetings 2024
DESCRIPTION:
URL:https://bellingenyouthorchestra.com.au/event/operational-meetings-2024/2024-08-13/
CATEGORIES:BYO Operational Meeting
END:VEVENT
BEGIN:VEVENT
DTSTART;TZID=Australia/Sydney:20240815T153000
DTEND;TZID=Australia/Sydney:20240815T170000
DTSTAMP:20260424T185617
CREATED:20231218T215414Z
LAST-MODIFIED:20240207T084526Z
UID:4094-1723735800-1723741200@bellingenyouthorchestra.com.au
SUMMARY:BYOWS Rehearsal
DESCRIPTION:Our new ensemble the Bellingen Youth Orchestra Wind School will begin rehearsals in 2024. This ensemble will run at the same time as BYOSS and afternoon tea will also be provided. The ensemble will meet in the BHS Music rooms at 3.30pm for set up and a 3.45pm start.
URL:https://bellingenyouthorchestra.com.au/event/byows-rehearsal/2024-08-15/
CATEGORIES:BYOWS,Musician Portal
END:VEVENT
BEGIN:VEVENT
DTSTART;TZID=Australia/Sydney:20240815T154500
DTEND;TZID=Australia/Sydney:20240815T183000
DTSTAMP:20260424T185617
CREATED:20210804T235001Z
LAST-MODIFIED:20240208T083753Z
UID:4002-1723736700-1723746600@bellingenyouthorchestra.com.au
SUMMARY:BYOSS Rehearsal
DESCRIPTION:Our Bellingen Youth Orchestra String School rehearse in the Bellingen High School Library. \nIt is best to park at the back of the school for pick up and drop offs. \nAfternoon tea is provided.
URL:https://bellingenyouthorchestra.com.au/event/byoss-2023-11-30/2024-08-15/
CATEGORIES:BYOSS,Musician Portal,Practice
END:VEVENT
BEGIN:VEVENT
DTSTART;TZID=Australia/Sydney:20240819T160000
DTEND;TZID=Australia/Sydney:20240819T180000
DTSTAMP:20260424T185617
CREATED:20231218T220459Z
LAST-MODIFIED:20231218T220459Z
UID:4151-1724083200-1724090400@bellingenyouthorchestra.com.au
SUMMARY:2024 Sinfonia
DESCRIPTION:
URL:https://bellingenyouthorchestra.com.au/event/2024-sinfonia/2024-08-19/
CATEGORIES:Sinfonia Practice
END:VEVENT
BEGIN:VEVENT
DTSTART;TZID=Australia/Sydney:20240822T153000
DTEND;TZID=Australia/Sydney:20240822T170000
DTSTAMP:20260424T185617
CREATED:20231218T215414Z
LAST-MODIFIED:20240207T084526Z
UID:4095-1724340600-1724346000@bellingenyouthorchestra.com.au
SUMMARY:BYOWS Rehearsal
DESCRIPTION:Our new ensemble the Bellingen Youth Orchestra Wind School will begin rehearsals in 2024. This ensemble will run at the same time as BYOSS and afternoon tea will also be provided. The ensemble will meet in the BHS Music rooms at 3.30pm for set up and a 3.45pm start.
URL:https://bellingenyouthorchestra.com.au/event/byows-rehearsal/2024-08-22/
CATEGORIES:BYOWS,Musician Portal
END:VEVENT
BEGIN:VEVENT
DTSTART;TZID=Australia/Sydney:20240822T154500
DTEND;TZID=Australia/Sydney:20240822T183000
DTSTAMP:20260424T185617
CREATED:20210804T235001Z
LAST-MODIFIED:20240208T083753Z
UID:4003-1724341500-1724351400@bellingenyouthorchestra.com.au
SUMMARY:BYOSS Rehearsal
DESCRIPTION:Our Bellingen Youth Orchestra String School rehearse in the Bellingen High School Library. \nIt is best to park at the back of the school for pick up and drop offs. \nAfternoon tea is provided.
URL:https://bellingenyouthorchestra.com.au/event/byoss-2023-11-30/2024-08-22/
CATEGORIES:BYOSS,Musician Portal,Practice
END:VEVENT
BEGIN:VEVENT
DTSTART;TZID=Australia/Sydney:20240826T160000
DTEND;TZID=Australia/Sydney:20240826T180000
DTSTAMP:20260424T185617
CREATED:20231218T220459Z
LAST-MODIFIED:20231218T220459Z
UID:4152-1724688000-1724695200@bellingenyouthorchestra.com.au
SUMMARY:2024 Sinfonia
DESCRIPTION:
URL:https://bellingenyouthorchestra.com.au/event/2024-sinfonia/2024-08-26/
CATEGORIES:Sinfonia Practice
END:VEVENT
BEGIN:VEVENT
DTSTART;TZID=Australia/Sydney:20240827T183000
DTEND;TZID=Australia/Sydney:20240827T183000
DTSTAMP:20260424T185617
CREATED:20231218T224333Z
LAST-MODIFIED:20231218T224333Z
UID:4578-1724783400-1724783400@bellingenyouthorchestra.com.au
SUMMARY:Operational Meetings 2024
DESCRIPTION:
URL:https://bellingenyouthorchestra.com.au/event/operational-meetings-2024/2024-08-27/
CATEGORIES:BYO Operational Meeting
END:VEVENT
BEGIN:VEVENT
DTSTART;TZID=Australia/Sydney:20240829T153000
DTEND;TZID=Australia/Sydney:20240829T170000
DTSTAMP:20260424T185617
CREATED:20231218T215414Z
LAST-MODIFIED:20240207T084526Z
UID:4096-1724945400-1724950800@bellingenyouthorchestra.com.au
SUMMARY:BYOWS Rehearsal
DESCRIPTION:Our new ensemble the Bellingen Youth Orchestra Wind School will begin rehearsals in 2024. This ensemble will run at the same time as BYOSS and afternoon tea will also be provided. The ensemble will meet in the BHS Music rooms at 3.30pm for set up and a 3.45pm start.
URL:https://bellingenyouthorchestra.com.au/event/byows-rehearsal/2024-08-29/
CATEGORIES:BYOWS,Musician Portal
END:VEVENT
BEGIN:VEVENT
DTSTART;TZID=Australia/Sydney:20240829T154500
DTEND;TZID=Australia/Sydney:20240829T183000
DTSTAMP:20260424T185617
CREATED:20210804T235001Z
LAST-MODIFIED:20240208T083754Z
UID:4004-1724946300-1724956200@bellingenyouthorchestra.com.au
SUMMARY:BYOSS Rehearsal
DESCRIPTION:Our Bellingen Youth Orchestra String School rehearse in the Bellingen High School Library. \nIt is best to park at the back of the school for pick up and drop offs. \nAfternoon tea is provided.
URL:https://bellingenyouthorchestra.com.au/event/byoss-2023-11-30/2024-08-29/
CATEGORIES:BYOSS,Musician Portal,Practice
END:VEVENT
END:VCALENDAR