BEGIN:VCALENDAR
VERSION:2.0
PRODID:-//Bellingen Youth Orchestra - ECPv5.16.0//NONSGML v1.0//EN
CALSCALE:GREGORIAN
METHOD:PUBLISH
X-ORIGINAL-URL:https://bellingenyouthorchestra.com.au
X-WR-CALDESC:Events for Bellingen Youth Orchestra
REFRESH-INTERVAL;VALUE=DURATION:PT1H
X-Robots-Tag:noindex
X-PUBLISHED-TTL:PT1H
BEGIN:VTIMEZONE
TZID:Australia/Sydney
BEGIN:STANDARD
TZOFFSETFROM:+1100
TZOFFSETTO:+1000
TZNAME:AEST
DTSTART:20230401T160000
END:STANDARD
BEGIN:DAYLIGHT
TZOFFSETFROM:+1000
TZOFFSETTO:+1100
TZNAME:AEDT
DTSTART:20230930T160000
END:DAYLIGHT
END:VTIMEZONE
BEGIN:VEVENT
DTSTART;VALUE=DATE:20230925
DTEND;VALUE=DATE:20231009
DTSTAMP:20260425T113153
CREATED:20230118T224841Z
LAST-MODIFIED:20230118T225438Z
UID:3250-1695600000-1696809599@bellingenyouthorchestra.com.au
SUMMARY:Term 3 School Holidays
DESCRIPTION:
URL:https://bellingenyouthorchestra.com.au/event/strategic-planning-meeting/
CATEGORIES:School Holidays
END:VEVENT
BEGIN:VEVENT
DTSTART;TZID=Australia/Sydney:20231017T180000
DTEND;TZID=Australia/Sydney:20231017T180000
DTSTAMP:20260425T113153
CREATED:20231006T083210Z
LAST-MODIFIED:20231022T044658Z
UID:3808-1697565600-1697565600@bellingenyouthorchestra.com.au
SUMMARY:Operational Meeting
DESCRIPTION:
URL:https://bellingenyouthorchestra.com.au/event/operational-meeting-2/2023-10-17/
CATEGORIES:BYO Operational Meeting
END:VEVENT
BEGIN:VEVENT
DTSTART;TZID=Australia/Sydney:20231018T153000
DTEND;TZID=Australia/Sydney:20231018T171500
DTSTAMP:20260425T113153
CREATED:20210804T235001Z
LAST-MODIFIED:20231018T055258Z
UID:1468-1697643000-1697649300@bellingenyouthorchestra.com.au
SUMMARY:BYOSS Rehearsal
DESCRIPTION:Our Bellingen Youth Orchestra String School rehearse in the Bellingen High School Music Rooms. \nIt is best to park at the back of the school for pick up and drop offs. \nAfternoon tea is provided.
URL:https://bellingenyouthorchestra.com.au/event/byoss-2023-12-14/
CATEGORIES:BYOSS,Musician Portal
END:VEVENT
END:VCALENDAR