BEGIN:VCALENDAR
VERSION:2.0
PRODID:-//Bellingen Youth Orchestra - ECPv5.16.0//NONSGML v1.0//EN
CALSCALE:GREGORIAN
METHOD:PUBLISH
X-WR-CALNAME:Bellingen Youth Orchestra
X-ORIGINAL-URL:https://bellingenyouthorchestra.com.au
X-WR-CALDESC:Events for Bellingen Youth Orchestra
REFRESH-INTERVAL;VALUE=DURATION:PT1H
X-Robots-Tag:noindex
X-PUBLISHED-TTL:PT1H
BEGIN:VTIMEZONE
TZID:Australia/Sydney
BEGIN:STANDARD
TZOFFSETFROM:+1100
TZOFFSETTO:+1000
TZNAME:AEST
DTSTART:20230401T160000
END:STANDARD
BEGIN:DAYLIGHT
TZOFFSETFROM:+1000
TZOFFSETTO:+1100
TZNAME:AEDT
DTSTART:20230930T160000
END:DAYLIGHT
END:VTIMEZONE
BEGIN:VEVENT
DTSTART;TZID=Australia/Sydney:20230902T183000
DTEND;TZID=Australia/Sydney:20230902T200000
DTSTAMP:20260425T131530
CREATED:20221222T075738Z
LAST-MODIFIED:20230809T010455Z
UID:3204-1693679400-1693684800@bellingenyouthorchestra.com.au
SUMMARY:BYO String School Serenade
DESCRIPTION:BYOSS once again return to the stage\, presenting their very own 2023 stand alone performance. We are very proud of our young string players and help you can join us and share in their enthusiasm and love for music. \nLocation: Bellingen High School Stockton Hall. \nTicket Price: Over 16 $15.00  EventBrite will go live Saturday 5th August. \nUnder 16 Free.
URL:https://bellingenyouthorchestra.com.au/event/byoss-stand-alone-event/
LOCATION:Stockton Hall\, Bellingen High School\, Stockton Hall\, BHS\, 1125 Waterfall Way\, Bellingen\, NSW\, Australia
CATEGORIES:BYOSS,Event
ATTACH;FMTTYPE=image/jpeg:https://bellingenyouthorchestra.com.au/wp-content/uploads/2023/08/BYOSS-Eventbrite-Header-2023-1.jpg
END:VEVENT
BEGIN:VEVENT
DTSTART;TZID=Australia/Sydney:20230917T143000
DTEND;TZID=Australia/Sydney:20230917T160000
DTSTAMP:20260425T131530
CREATED:20221222T080418Z
LAST-MODIFIED:20230827T083027Z
UID:3209-1694961000-1694966400@bellingenyouthorchestra.com.au
SUMMARY:Bellingen Muse
DESCRIPTION:The BYO are delighted to have been once again invited to perform at the Bellingen Muse festival. \nFor arts and culture lovers Bellingen Muse is a boutique music festival that offers intimate and diverse performances – bringing virtuosic performers to a region where nature inspires creativity and community.\nTICKETS available VIA THIS LINK …… \nhttps://www.bellingenmuse.com.au/ \n 
URL:https://bellingenyouthorchestra.com.au/event/bellingen-muse/
CATEGORIES:BYO,Event
ATTACH;FMTTYPE=image/jpeg:https://bellingenyouthorchestra.com.au/wp-content/uploads/2022/06/byo-and-sinfonia-scaled.jpg
END:VEVENT
BEGIN:VEVENT
DTSTART;VALUE=DATE:20230925
DTEND;VALUE=DATE:20231009
DTSTAMP:20260425T131530
CREATED:20230118T224841Z
LAST-MODIFIED:20230118T225438Z
UID:3250-1695600000-1696809599@bellingenyouthorchestra.com.au
SUMMARY:Term 3 School Holidays
DESCRIPTION:
URL:https://bellingenyouthorchestra.com.au/event/strategic-planning-meeting/
CATEGORIES:School Holidays
END:VEVENT
END:VCALENDAR