BEGIN:VCALENDAR
VERSION:2.0
PRODID:-//Bellingen Youth Orchestra - ECPv5.16.0//NONSGML v1.0//EN
CALSCALE:GREGORIAN
METHOD:PUBLISH
X-WR-CALNAME:Bellingen Youth Orchestra
X-ORIGINAL-URL:https://bellingenyouthorchestra.com.au
X-WR-CALDESC:Events for Bellingen Youth Orchestra
REFRESH-INTERVAL;VALUE=DURATION:PT1H
X-Robots-Tag:noindex
X-PUBLISHED-TTL:PT1H
BEGIN:VTIMEZONE
TZID:Australia/Sydney
BEGIN:STANDARD
TZOFFSETFROM:+1100
TZOFFSETTO:+1000
TZNAME:AEST
DTSTART:20230401T160000
END:STANDARD
BEGIN:DAYLIGHT
TZOFFSETFROM:+1000
TZOFFSETTO:+1100
TZNAME:AEDT
DTSTART:20230930T160000
END:DAYLIGHT
END:VTIMEZONE
BEGIN:VEVENT
DTSTART;TZID=Australia/Sydney:20230310T180000
DTEND;TZID=Australia/Sydney:20230310T200000
DTSTAMP:20260425T234925
CREATED:20221222T075532Z
LAST-MODIFIED:20230309T225841Z
UID:3202-1678471200-1678478400@bellingenyouthorchestra.com.au
SUMMARY:BYO Junior Scholarships Presentation
DESCRIPTION:PERFORMANCE \nWHEN: Term 1\, Wk 6: 6pm\, Friday 10th March\, 2023 \nWHERE: Bellingen Uniting Church Hall\, 28 Hyde St (cnr Ford St). \nADJUDICATORS: David Ellis & Susan McGowan \nPIANIST:  Pru Borgert
URL:https://bellingenyouthorchestra.com.au/event/byo-junior-scholarships-presentation/
LOCATION:Bellingen Uniting Church Hall\, 28 Hyde St (cnr Ford St).
CATEGORIES:BYO,BYOSS
END:VEVENT
BEGIN:VEVENT
DTSTART;TZID=Australia/Sydney:20230325T180000
DTEND;TZID=Australia/Sydney:20230325T200000
DTSTAMP:20260425T234925
CREATED:20221222T073928Z
LAST-MODIFIED:20230201T090203Z
UID:3189-1679767200-1679774400@bellingenyouthorchestra.com.au
SUMMARY:Retrace the Space.
DESCRIPTION:2022 has seen the BYO recover\, rebuild and welcome back our audience at the Bellingen High School’s Stockton Hall.  Music is a collective experience and the BYO see the next step of our recovery and rebuilding as a presentation of works to signify the grand re-opening and a 2023 Season at the refurbished\, upgraded and extended Bellingen Memorial Hall. \n‘Retrace the Space’ will be a FREE musical performance event\, showcasing a selection of modern and contemporary classics\, with a focus on movie theme tracks ensuring engagement of all ages from our community. Our community has a vibrant music scene and draws on a range of distinctive musical styles. However\, The Bellingen Youth Orchestra brings that ‘something special’ to the community\, embracing our older audience but also understanding that for classical music to thrive it must do so in an eclectic culture\, embracing the imagination and passion of the young. That is\, after all\, what the BYO are founded on.  The listening experience we provide boosts community pride and connects us all. \nEVENT DEPENDENT ON MEM HALL CONSTRUCTION COMPLETED\, DECEMBER 2023
URL:https://bellingenyouthorchestra.com.au/event/retrace-the-space/
CATEGORIES:Event,Musician Portal
ATTACH;FMTTYPE=image/png:https://bellingenyouthorchestra.com.au/wp-content/uploads/2022/12/mem-hall.png
END:VEVENT
END:VCALENDAR