BEGIN:VCALENDAR
VERSION:2.0
PRODID:-//Bellingen Youth Orchestra - ECPv5.16.0//NONSGML v1.0//EN
CALSCALE:GREGORIAN
METHOD:PUBLISH
X-ORIGINAL-URL:https://bellingenyouthorchestra.com.au
X-WR-CALDESC:Events for Bellingen Youth Orchestra
REFRESH-INTERVAL;VALUE=DURATION:PT1H
X-Robots-Tag:noindex
X-PUBLISHED-TTL:PT1H
BEGIN:VTIMEZONE
TZID:Australia/Sydney
BEGIN:STANDARD
TZOFFSETFROM:+1100
TZOFFSETTO:+1000
TZNAME:AEST
DTSTART:20220402T160000
END:STANDARD
BEGIN:DAYLIGHT
TZOFFSETFROM:+1000
TZOFFSETTO:+1100
TZNAME:AEDT
DTSTART:20221001T160000
END:DAYLIGHT
END:VTIMEZONE
BEGIN:VEVENT
DTSTART;TZID=Australia/Sydney:20220903T150000
DTEND;TZID=Australia/Sydney:20220903T170000
DTSTAMP:20260426T101935
CREATED:20220625T045952Z
LAST-MODIFIED:20220813T000925Z
UID:2177-1662217200-1662224400@bellingenyouthorchestra.com.au
SUMMARY:BYO String School Serenade
DESCRIPTION:A premier event! \nThe concert will feature their eclectic 2022 string repertoire\, showcasing student’s emerging string skills and dedication to weekly rehearsal and home practice. It will also showcase polished soloists\, small ensembles of enthusiastic friends and some BYOSS alumni guests. \nTickets on sale via EVENTBRITE (link below) and Hammond and Wheatley (Hyde street\, Bellingen) \n  \nUnder 16 free \n 
URL:https://bellingenyouthorchestra.com.au/event/byo-strings-school-serenade/
LOCATION:Stockton Hall\, Bellingen High School\, Stockton Hall\, BHS\, 1125 Waterfall Way\, Bellingen\, NSW\, Australia
CATEGORIES:Event,Musician Portal
ATTACH;FMTTYPE=image/jpeg:https://bellingenyouthorchestra.com.au/wp-content/uploads/2022/06/BYOSS-Eventbrite-Header.jpg
ORGANIZER;CN="Rainee%20Herron%20-%20BYO%20admin":MAILTO:admin@bellingenyouthorchestra.com.au
END:VEVENT
BEGIN:VEVENT
DTSTART;TZID=Australia/Sydney:20220924T080000
DTEND;TZID=Australia/Sydney:20221009T170000
DTSTAMP:20260426T101935
CREATED:20220714T023752Z
LAST-MODIFIED:20220714T023752Z
UID:2759-1664006400-1665334800@bellingenyouthorchestra.com.au
SUMMARY:NSW School Holidays
DESCRIPTION:
URL:https://bellingenyouthorchestra.com.au/event/nsw-school-holidays-2/
CATEGORIES:School Holidays
END:VEVENT
BEGIN:VEVENT
DTSTART;TZID=Australia/Sydney:20220925T133000
DTEND;TZID=Australia/Sydney:20220925T150000
DTSTAMP:20260426T101935
CREATED:20220813T000501Z
LAST-MODIFIED:20220828T092835Z
UID:2937-1664112600-1664118000@bellingenyouthorchestra.com.au
SUMMARY:BYO and Sinfonia - Emergence
DESCRIPTION:This concert has something for everyone. In the first half enjoy the classical sound of strings as you have never heard them contrasting with the modern sound of Max Richter’s recomposing of Vivaldi’s Spring. In the second half journey through a simple folksong; the emotional drama of Romeo and Juliet\, the modern sounds from Howl’s Moving Castle and the drama of Tchaikovsky’s March Slave. There is something for everyone in a concert that sets our young players in a category of their own! \nTickets $25 \nClick the link below for purchase.
URL:https://bellingenyouthorchestra.com.au/event/byo-and-sinfonia-emergence/
CATEGORIES:Event,Musician Portal
ATTACH;FMTTYPE=application/pdf:https://bellingenyouthorchestra.com.au/wp-content/uploads/2022/08/Bellingen-Muse-BYO-Logo-A4.pdf
END:VEVENT
END:VCALENDAR